BEGIN:VCALENDAR
VERSION:2.0
PRODID:-//Nostragenda : Sorties &amp; Loisirs sur Salon-de-Provence  - Agenda - ECPv6.15.20//NONSGML v1.0//EN
CALSCALE:GREGORIAN
METHOD:PUBLISH
X-WR-CALNAME:Nostragenda : Sorties &amp; Loisirs sur Salon-de-Provence  - Agenda
X-ORIGINAL-URL:https://nostragenda.fr
X-WR-CALDESC:Évènements pour Nostragenda : Sorties &amp; Loisirs sur Salon-de-Provence  - Agenda
REFRESH-INTERVAL;VALUE=DURATION:PT1H
X-Robots-Tag:noindex
X-PUBLISHED-TTL:PT1H
BEGIN:VTIMEZONE
TZID:Europe/Paris
BEGIN:DAYLIGHT
TZOFFSETFROM:+0100
TZOFFSETTO:+0200
TZNAME:CEST
DTSTART:20240331T010000
END:DAYLIGHT
BEGIN:STANDARD
TZOFFSETFROM:+0200
TZOFFSETTO:+0100
TZNAME:CET
DTSTART:20241027T010000
END:STANDARD
BEGIN:DAYLIGHT
TZOFFSETFROM:+0100
TZOFFSETTO:+0200
TZNAME:CEST
DTSTART:20250330T010000
END:DAYLIGHT
BEGIN:STANDARD
TZOFFSETFROM:+0200
TZOFFSETTO:+0100
TZNAME:CET
DTSTART:20251026T010000
END:STANDARD
BEGIN:DAYLIGHT
TZOFFSETFROM:+0100
TZOFFSETTO:+0200
TZNAME:CEST
DTSTART:20260329T010000
END:DAYLIGHT
BEGIN:STANDARD
TZOFFSETFROM:+0200
TZOFFSETTO:+0100
TZNAME:CET
DTSTART:20261025T010000
END:STANDARD
END:VTIMEZONE
BEGIN:VEVENT
DTSTART;TZID=Europe/Paris:20250829T213000
DTEND;TZID=Europe/Paris:20250829T233000
DTSTAMP:20260421T140939
CREATED:20250814T052742Z
LAST-MODIFIED:20250814T052820Z
UID:41009-1756503000-1756510200@nostragenda.fr
SUMMARY:Soirée DJ Nagini - Quiet Man
DESCRIPTION:Soirée DJ Nagini – Quiet Man\n  \nVendredi 29 août 2025 \nà partir de 21h30 \n\nThe Quiet Man\nSoirée Night Music DJ Nagini\n\n𝐋’𝐚𝐛𝐮𝐬 𝐝’𝐚𝐥𝐜𝐨𝐨𝐥 𝐞𝐬𝐭 𝐝𝐚𝐧𝐠𝐞𝐫𝐞𝐮𝐱 𝐩𝐨𝐮𝐫 𝐥𝐚 𝐬𝐚𝐧𝐭e – 𝐜𝐨𝐧𝐬𝐨𝐦𝐦𝐞𝐳 𝐚𝐯𝐞𝐜 𝐦𝐨𝐝e𝐫𝐚𝐭𝐢𝐨𝐧 \nsource : The Quiet Man Salon de Provence\n\nRubrique : Soirées c'est ici
URL:https://nostragenda.fr/sortie/soiree-dj-nagini-quiet-man-29-aout/
LOCATION:The Quiet Man\, 6 Allées de Craponne\, SALON-DE-PROVENCE\, 13300\, France
CATEGORIES:Agenda,Soirées
ATTACH;FMTTYPE=image/png:https://nostragenda.fr/wp-content/uploads/2025/08/29.08.png
END:VEVENT
BEGIN:VEVENT
DTSTART;TZID=Europe/Paris:20250829T190000
DTEND;TZID=Europe/Paris:20250829T233000
DTSTAMP:20260421T140939
CREATED:20250206T160753Z
LAST-MODIFIED:20250829T162201Z
UID:38405-1756494000-1756510200@nostragenda.fr
SUMMARY:Du Son au Balcon
DESCRIPTION:Du Son au Balcon\n  \nVendredi 29 aout 2025 \nà partir de 19h \nPlace de l’hôtel de ville \nDu Son au Balcon\npour les 10 ans avec des nouveautés et des surprises pour cette édition 2025\n  \nWarm up :    Kev Lavigne\n\n\nGrossomoddo\n\n\nCharles B\n\n\nMercer   B2B Djibril Cissé\n\n\nTrinix\n\n\nL’ordre et les horaires de passage de chaque DJ ne sont pas communiqués par l’organisateur. \nDu Son au Balcon Salon de Provence Nostragenda 202529 août\n \n\n\nLancement des festivités à Salon avec\nDu son à Morgan le samedi 14 juin 2025\n \n  \nSouvenirs de la soirée d’Août 2024\navec le Warm up DJ Ben.j / \nUPSILONE \nCHARLES B\nLAURENT WOLF\nMOSIMANN\n\n\n \n\n  \n  \nL’ordre et les horaires de passage de chaque DJ ne sont pas communiqués par l’organisateur. \nConcert gratuit salon de provence 2025\n \nSource : Du Son Au Balcon \nIdées loisirs à pratiquer à Salon-de-Provence & pays salonais
URL:https://nostragenda.fr/sortie/du-son-au-balcon-2025/
LOCATION:Place de l’Hôtel de ville\, Place de l'hôtel de ville\, SALON-DE-PROVENCE\, SALON-DE-PROVENCE\, 13300\, France
CATEGORIES:Agenda,Soirées
ATTACH;FMTTYPE=image/jpeg:https://nostragenda.fr/wp-content/uploads/2025/02/503495664_1164971705660393_8512132321471708311_n.jpg
END:VEVENT
BEGIN:VEVENT
DTSTART;TZID=Europe/Paris:20250828T213000
DTEND;TZID=Europe/Paris:20250828T233000
DTSTAMP:20260421T140939
CREATED:20250814T044012Z
LAST-MODIFIED:20250814T044119Z
UID:40989-1756416600-1756423800@nostragenda.fr
SUMMARY:Les Jeudis du Quiet Man
DESCRIPTION:Les Jeudis du Quiet Man\n  \nJeudi 28 août 2025 \nà partir de 21h30 \n\n\n\nThe Quiet Man \nLes Jeudis du Quiet Man\n𝐮𝐧𝐞 𝐬𝐨𝐢𝐫𝐞́𝐞 𝐋𝐚𝐭𝐢𝐧𝐨/𝐒𝐡𝐚𝐭𝐭𝐚\nMicou sound system \n  \n𝐋’𝐚𝐛𝐮𝐬 𝐝’𝐚𝐥𝐜𝐨𝐨𝐥 𝐞𝐬𝐭 𝐝𝐚𝐧𝐠𝐞𝐫𝐞𝐮𝐱 𝐩𝐨𝐮𝐫 𝐥𝐚 𝐬𝐚𝐧𝐭e – 𝐜𝐨𝐧𝐬𝐨𝐦𝐦𝐞𝐳 𝐚𝐯𝐞𝐜 𝐦𝐨𝐝e𝐫𝐚𝐭𝐢𝐨𝐧 \nsource : The Quiet Man Salon de Provence\n\nIdées loisirs à pratiquer à Salon-de-Provence & pays salonais
URL:https://nostragenda.fr/sortie/les-jeudis-du-quiet-man-28-aout/
LOCATION:The Quiet Man\, 6 Allées de Craponne\, SALON-DE-PROVENCE\, 13300\, France
CATEGORIES:Agenda,Soirées
ATTACH;FMTTYPE=image/png:https://nostragenda.fr/wp-content/uploads/2025/08/28.08.png
END:VEVENT
BEGIN:VEVENT
DTSTART;TZID=Europe/Paris:20250827T213000
DTEND;TZID=Europe/Paris:20250827T233000
DTSTAMP:20260421T140939
CREATED:20250814T045407Z
LAST-MODIFIED:20250814T045425Z
UID:40996-1756330200-1756337400@nostragenda.fr
SUMMARY:Karaoké - Quiet Man
DESCRIPTION:Karaoké – Quiet Man\n  \nMercredi 27 août 2025 \n𝐕𝐞𝐧𝐞𝐳 𝐜𝐡𝐚𝐧𝐭𝐞𝐫 à partir de 𝟐𝟏𝐡𝟑𝟎 \nSoirée Karaoké\nTous les mercredis animée par Sonia Kévorkian \nThe Quiet Man – Soirées Karaoké\n  \nL’abus d’alcool est dangereux pour la santé\, à consommer avec modération. \nsource : The Quiet Man Salon de Provence\n\nIdées loisirs à pratiquer à Salon-de-Provence & pays salonais
URL:https://nostragenda.fr/sortie/karaoke-quiet-man-27-aout/
LOCATION:The Quiet Man\, 6 Allées de Craponne\, SALON-DE-PROVENCE\, 13300\, France
CATEGORIES:Agenda,Soirées
ATTACH;FMTTYPE=image/png:https://nostragenda.fr/wp-content/uploads/2025/07/Karaoke.png
END:VEVENT
BEGIN:VEVENT
DTSTART;TZID=Europe/Paris:20250823T213000
DTEND;TZID=Europe/Paris:20250823T233000
DTSTAMP:20260421T140939
CREATED:20250814T050922Z
LAST-MODIFIED:20250814T051054Z
UID:41003-1755984600-1755991800@nostragenda.fr
SUMMARY:Soirée Night Club Party - Quiet Man
DESCRIPTION:Soirée Night Club Party  – Quiet Man\n  \nSamedi 23 août 2025 \nà partir de 21h30\nThe Quiet Man\n\n\nNight Club Party\navec DJ Arucci\n\n\n\nThe Quiet Man\n𝐋’𝐚𝐛𝐮𝐬 𝐝’𝐚𝐥𝐜𝐨𝐨𝐥 𝐞𝐬𝐭 𝐝𝐚𝐧𝐠𝐞𝐫𝐞𝐮𝐱 𝐩𝐨𝐮𝐫 𝐥𝐚 𝐬𝐚𝐧𝐭e – 𝐜𝐨𝐧𝐬𝐨𝐦𝐦𝐞𝐳 𝐚𝐯𝐞𝐜 𝐦𝐨𝐝e𝐫𝐚𝐭𝐢𝐨𝐧 \nsource : The Quiet Man Salon de Provence\n\nRubrique : Soirées c'est ici
URL:https://nostragenda.fr/sortie/soiree-night-club-party-quiet-man-23-aout/
LOCATION:The Quiet Man\, 6 Allées de Craponne\, SALON-DE-PROVENCE\, 13300\, France
CATEGORIES:Agenda,Soirées
ATTACH;FMTTYPE=image/png:https://nostragenda.fr/wp-content/uploads/2025/08/23.08.2.png
END:VEVENT
BEGIN:VEVENT
DTSTART;TZID=Europe/Paris:20250823T190000
DTEND;TZID=Europe/Paris:20250823T233000
DTSTAMP:20260421T140939
CREATED:20250421T210003Z
LAST-MODIFIED:20250421T210050Z
UID:38864-1755975600-1755991800@nostragenda.fr
SUMMARY:Soirée soupe au pistou
DESCRIPTION:Soirée soupe au pistou\n  \nSamedi 23 août 205 \nà partir de 19h \nParc de l’Ecole Maternelle Michelet \nSoirée soupe au pistou\nSpectacle cabaret Frenchy Folies\n  \nAnimation musicale Althys Animation\n  \nSoupe au pistou  25€ \n( Sur Réservation ) Tél : 06 03 55 07 85 avant le 21 août 2025 \nVerre de l’amitié +  café offert par le CIQ \n\nSource : CIQ Michelet-Aires de la Dîmes\n\nIdées loisirs à pratiquer à Salon-de-Provence & pays salonais
URL:https://nostragenda.fr/sortie/soiree-soupe-au-pistou-2025/
LOCATION:Parc de l’Ecole Maternelle Michelet\, 196 Avenue Michelet\, SALON-DE-PROVENCE\, SALON-DE-PROVENCE\, 13300\, France
CATEGORIES:Agenda,Animations,Soirées
ATTACH;FMTTYPE=image/jpeg:https://nostragenda.fr/wp-content/uploads/2025/04/SOUPE-AU-PISTOU-10-ANS-ciq-michelet-Salon-agenda-Nostragenda.jpg
END:VEVENT
BEGIN:VEVENT
DTSTART;TZID=Europe/Paris:20250822T190000
DTEND;TZID=Europe/Paris:20250822T233000
DTSTAMP:20260421T140939
CREATED:20250814T050255Z
LAST-MODIFIED:20250814T050526Z
UID:40998-1755889200-1755905400@nostragenda.fr
SUMMARY:Apéro-Concert + Soirée DJ - Quiet Man
DESCRIPTION:Apéro-Concert + Soirée DJ – Quiet Man\n  \nVendredi 22 août 2025 \nApéro-Concert avec BOLL BUSTERS\nà partir de 19h \nSoirée Night Music Dj Nagini \n\nà partir de 21h30\n\n\n\n\n\n\n\nThe Quiet Man \n𝐋’𝐚𝐛𝐮𝐬 𝐝’𝐚𝐥𝐜𝐨𝐨𝐥 𝐞𝐬𝐭 𝐝𝐚𝐧𝐠𝐞𝐫𝐞𝐮𝐱 𝐩𝐨𝐮𝐫 𝐥𝐚 𝐬𝐚𝐧𝐭e – 𝐜𝐨𝐧𝐬𝐨𝐦𝐦𝐞𝐳 𝐚𝐯𝐞𝐜 𝐦𝐨𝐝e𝐫𝐚𝐭𝐢𝐨𝐧 \nsource : The Quiet Man Salon de Provence\n\nRubrique : Soirées c'est ici
URL:https://nostragenda.fr/sortie/apero-concert-soiree-dj-quiet-man-22-aout/
LOCATION:The Quiet Man\, 6 Allées de Craponne\, SALON-DE-PROVENCE\, 13300\, France
CATEGORIES:Agenda,Concerts,Soirées
ATTACH;FMTTYPE=image/png:https://nostragenda.fr/wp-content/uploads/2025/08/22.08-apero-concert.png
END:VEVENT
BEGIN:VEVENT
DTSTART;TZID=Europe/Paris:20250821T213000
DTEND;TZID=Europe/Paris:20250821T233000
DTSTAMP:20260421T140939
CREATED:20250814T043633Z
LAST-MODIFIED:20250814T043721Z
UID:40979-1755811800-1755819000@nostragenda.fr
SUMMARY:Les Jeudis du Quiet Man
DESCRIPTION:Les Jeudis du Quiet Man\n  \nJeudi 21 août 2025 \nà partir de 21h30 \n\n\n\nThe Quiet Man \nLes Jeudis du Quiet Man\n𝐮𝐧𝐞 𝐬𝐨𝐢𝐫𝐞́𝐞 𝐋𝐚𝐭𝐢𝐧𝐨/𝐒𝐡𝐚𝐭𝐭𝐚\nMicou sound system \n  \n𝐋’𝐚𝐛𝐮𝐬 𝐝’𝐚𝐥𝐜𝐨𝐨𝐥 𝐞𝐬𝐭 𝐝𝐚𝐧𝐠𝐞𝐫𝐞𝐮𝐱 𝐩𝐨𝐮𝐫 𝐥𝐚 𝐬𝐚𝐧𝐭e – 𝐜𝐨𝐧𝐬𝐨𝐦𝐦𝐞𝐳 𝐚𝐯𝐞𝐜 𝐦𝐨𝐝e𝐫𝐚𝐭𝐢𝐨𝐧 \nsource : The Quiet Man Salon de Provence\n\nIdées loisirs à pratiquer à Salon-de-Provence & pays salonais
URL:https://nostragenda.fr/sortie/les-jeudis-du-quiet-man-21-aout/
LOCATION:The Quiet Man\, 6 Allées de Craponne\, SALON-DE-PROVENCE\, 13300\, France
CATEGORIES:Agenda,Soirées
ATTACH;FMTTYPE=image/png:https://nostragenda.fr/wp-content/uploads/2025/08/21.08.png
END:VEVENT
BEGIN:VEVENT
DTSTART;TZID=Europe/Paris:20250820T213000
DTEND;TZID=Europe/Paris:20250820T233000
DTSTAMP:20260421T140939
CREATED:20250811T051321Z
LAST-MODIFIED:20250811T051611Z
UID:40958-1755725400-1755732600@nostragenda.fr
SUMMARY:Karaoké - Quiet Man
DESCRIPTION:Karaoké – Quiet Man\n  \nMercredi 20 août 2025 \n𝐕𝐞𝐧𝐞𝐳 𝐜𝐡𝐚𝐧𝐭𝐞𝐫 à partir de 𝟐𝟏𝐡𝟑𝟎 \nSoirée Karaoké\nTous les mercredis animée par Sonia Kévorkian \nThe Quiet Man – Soirées Karaoké\n  \nL’abus d’alcool est dangereux pour la santé\, à consommer avec modération. \nsource : The Quiet Man Salon de Provence\n\nIdées loisirs à pratiquer à Salon-de-Provence & pays salonais
URL:https://nostragenda.fr/sortie/karaoke-quiet-man-20-aout/
LOCATION:The Quiet Man\, 6 Allées de Craponne\, SALON-DE-PROVENCE\, 13300\, France
CATEGORIES:Agenda,Soirées
ATTACH;FMTTYPE=image/png:https://nostragenda.fr/wp-content/uploads/2025/07/Karaoke.png
END:VEVENT
BEGIN:VEVENT
DTSTART;TZID=Europe/Paris:20250816T213000
DTEND;TZID=Europe/Paris:20250816T233000
DTSTAMP:20260421T140939
CREATED:20250814T044858Z
LAST-MODIFIED:20250814T044929Z
UID:40994-1755379800-1755387000@nostragenda.fr
SUMMARY:Saturday Night Party - Quiet Man
DESCRIPTION:Saturday Night Party – Quiet Man\n  \nSamedi 16 août 2025 \nà partir de 21h30 \nThe Quiet Man \n\nSoirée Saturday Night Party\navec DJ Denis C\nHOUSE / ELECTRO / LATINO / REMIX\n\n  \n𝐋’𝐚𝐛𝐮𝐬 𝐝’𝐚𝐥𝐜𝐨𝐨𝐥 𝐞𝐬𝐭 𝐝𝐚𝐧𝐠𝐞𝐫𝐞𝐮𝐱 𝐩𝐨𝐮𝐫 𝐥𝐚 𝐬𝐚𝐧𝐭e – 𝐜𝐨𝐧𝐬𝐨𝐦𝐦𝐞𝐳 𝐚𝐯𝐞𝐜 𝐦𝐨𝐝e𝐫𝐚𝐭𝐢𝐨𝐧 \nsource : The Quiet Man Salon de Provence\n\nIdées loisirs à pratiquer à Salon-de-Provence & pays salonais
URL:https://nostragenda.fr/sortie/saturday-night-party-quiet-man-16-aout/
LOCATION:The Quiet Man\, 6 Allées de Craponne\, SALON-DE-PROVENCE\, 13300\, France
CATEGORIES:Agenda,Soirées
ATTACH;FMTTYPE=image/png:https://nostragenda.fr/wp-content/uploads/2025/08/16.08.png
END:VEVENT
BEGIN:VEVENT
DTSTART;TZID=Europe/Paris:20250815T213000
DTEND;TZID=Europe/Paris:20250815T233000
DTSTAMP:20260421T140939
CREATED:20250814T044543Z
LAST-MODIFIED:20250814T044605Z
UID:40991-1755293400-1755300600@nostragenda.fr
SUMMARY:Friday Night Party - Quiet Man
DESCRIPTION:Friday Night Party – Quiet Man\n  \nVendredi 15 août 2025 \n\nà partir de 21h30\n\n\nThe Quiet Man \n\nSoirée Friday Night Party\navec DJ Ghiss\n  \n\n𝐋’𝐚𝐛𝐮𝐬 𝐝’𝐚𝐥𝐜𝐨𝐨𝐥 𝐞𝐬𝐭 𝐝𝐚𝐧𝐠𝐞𝐫𝐞𝐮𝐱 𝐩𝐨𝐮𝐫 𝐥𝐚 𝐬𝐚𝐧𝐭e – 𝐜𝐨𝐧𝐬𝐨𝐦𝐦𝐞𝐳 𝐚𝐯𝐞𝐜 𝐦𝐨𝐝e𝐫𝐚𝐭𝐢𝐨𝐧 \nsource : The Quiet Man Salon de Provence\n\nIdées loisirs à pratiquer à Salon-de-Provence & pays salonais
URL:https://nostragenda.fr/sortie/friday-night-party-quiet-man-15-aout/
LOCATION:The Quiet Man\, 6 Allées de Craponne\, SALON-DE-PROVENCE\, 13300\, France
CATEGORIES:Agenda,Soirées
ATTACH;FMTTYPE=image/png:https://nostragenda.fr/wp-content/uploads/2025/08/15.08.png
END:VEVENT
BEGIN:VEVENT
DTSTART;TZID=Europe/Paris:20250814T213000
DTEND;TZID=Europe/Paris:20250814T233000
DTSTAMP:20260421T140939
CREATED:20250814T043141Z
LAST-MODIFIED:20250814T043203Z
UID:40975-1755207000-1755214200@nostragenda.fr
SUMMARY:Les Jeudis du Quiet Man
DESCRIPTION:Les Jeudis du Quiet Man\n  \nJeudi 14 août 2025 \nà partir de 21h30 \n\n\n\nThe Quiet Man \nLes Jeudis du Quiet Man\n𝐮𝐧𝐞 𝐬𝐨𝐢𝐫𝐞́𝐞 𝐋𝐚𝐭𝐢𝐧𝐨/𝐒𝐡𝐚𝐭𝐭𝐚\nMicou sound system \n  \n𝐋’𝐚𝐛𝐮𝐬 𝐝’𝐚𝐥𝐜𝐨𝐨𝐥 𝐞𝐬𝐭 𝐝𝐚𝐧𝐠𝐞𝐫𝐞𝐮𝐱 𝐩𝐨𝐮𝐫 𝐥𝐚 𝐬𝐚𝐧𝐭e – 𝐜𝐨𝐧𝐬𝐨𝐦𝐦𝐞𝐳 𝐚𝐯𝐞𝐜 𝐦𝐨𝐝e𝐫𝐚𝐭𝐢𝐨𝐧 \nsource : The Quiet Man Salon de Provence\n\nIdées loisirs à pratiquer à Salon-de-Provence & pays salonais
URL:https://nostragenda.fr/sortie/les-jeudis-du-quiet-man-14-aout/
LOCATION:The Quiet Man\, 6 Allées de Craponne\, SALON-DE-PROVENCE\, 13300\, France
CATEGORIES:Agenda,Soirées
ATTACH;FMTTYPE=image/png:https://nostragenda.fr/wp-content/uploads/2025/08/14.08.png
END:VEVENT
BEGIN:VEVENT
DTSTART;TZID=Europe/Paris:20250813T213000
DTEND;TZID=Europe/Paris:20250813T233000
DTSTAMP:20260421T140939
CREATED:20250811T050741Z
LAST-MODIFIED:20250811T050756Z
UID:40956-1755120600-1755127800@nostragenda.fr
SUMMARY:Karaoké - Quiet Man
DESCRIPTION:Karaoké – Quiet Man\n  \nMercredi 13 août 2025 \n𝐕𝐞𝐧𝐞𝐳 𝐜𝐡𝐚𝐧𝐭𝐞𝐫 à partir de 𝟐𝟏𝐡𝟑𝟎 \nSoirée Karaoké\nTous les mercredis animée par Sonia Kévorkian \nThe Quiet Man – Soirées Karaoké\n  \nL’abus d’alcool est dangereux pour la santé\, à consommer avec modération. \nsource : The Quiet Man Salon de Provence\n\nIdées loisirs à pratiquer à Salon-de-Provence & pays salonais
URL:https://nostragenda.fr/sortie/karaoke-quiet-man-13-aout/
LOCATION:The Quiet Man\, 6 Allées de Craponne\, SALON-DE-PROVENCE\, 13300\, France
CATEGORIES:Agenda,Soirées
ATTACH;FMTTYPE=image/png:https://nostragenda.fr/wp-content/uploads/2025/07/Karaoke.png
END:VEVENT
BEGIN:VEVENT
DTSTART;TZID=Europe/Paris:20250805T194500
DTEND;TZID=Europe/Paris:20250805T233000
DTSTAMP:20260421T140939
CREATED:20250802T170613Z
LAST-MODIFIED:20250802T170656Z
UID:40893-1754423100-1754436600@nostragenda.fr
SUMMARY:Apéro Quizz Spécial Blind Test - My Beers
DESCRIPTION:Apéro Quizz Spécial Blind Test – My Beers\n  \nMardi 05 août 2025 \nDébut des jeux à 19h45 \nMy Beers Salon de Provence \nApéro Quizz 100% Blind Test\nblind-test sur 40 musiques pour danser\, chanter et partager un excellent moment entre amis\n  \n \nsource : My Beers Salon de Provence\n\nRubrique : Soirées c'est ici
URL:https://nostragenda.fr/sortie/apero-quizz-special-blind-test-my-beers-05-aout/
LOCATION:My Beers\, Place Jules Morgan\, Salon-de-Provence\, 13300\, France
CATEGORIES:Agenda,Soirées
END:VEVENT
BEGIN:VEVENT
DTSTART;TZID=Europe/Paris:20250802T213000
DTEND;TZID=Europe/Paris:20250802T233000
DTSTAMP:20260421T140939
CREATED:20250802T165446Z
LAST-MODIFIED:20250802T165615Z
UID:40891-1754170200-1754177400@nostragenda.fr
SUMMARY:Saturday Party - Quiet Man
DESCRIPTION:Saturday Party – Quiet Man\n  \nSamedi 02 août 2025 \n\nà partir de 21h30\n\n\nThe Quiet Man \n\nSoirée Saturday Party\navec DJ Ghiss\n  \n\n  \n𝐋’𝐚𝐛𝐮𝐬 𝐝’𝐚𝐥𝐜𝐨𝐨𝐥 𝐞𝐬𝐭 𝐝𝐚𝐧𝐠𝐞𝐫𝐞𝐮𝐱 𝐩𝐨𝐮𝐫 𝐥𝐚 𝐬𝐚𝐧𝐭e – 𝐜𝐨𝐧𝐬𝐨𝐦𝐦𝐞𝐳 𝐚𝐯𝐞𝐜 𝐦𝐨𝐝e𝐫𝐚𝐭𝐢𝐨𝐧 \nsource : The Quiet Man Salon de Provence\n\nIdées loisirs à pratiquer à Salon-de-Provence & pays salonais
URL:https://nostragenda.fr/sortie/saturday-party-quiet-man-02-aout/
LOCATION:The Quiet Man\, 6 Allées de Craponne\, SALON-DE-PROVENCE\, 13300\, France
CATEGORIES:Agenda,Soirées
END:VEVENT
BEGIN:VEVENT
DTSTART;TZID=Europe/Paris:20250801T213000
DTEND;TZID=Europe/Paris:20250801T233000
DTSTAMP:20260421T140939
CREATED:20250801T042507Z
LAST-MODIFIED:20250801T042553Z
UID:40874-1754083800-1754091000@nostragenda.fr
SUMMARY:Friday Night Party - Quiet Man
DESCRIPTION:Friday Night Party – Quiet Man\n  \nVendredi 01 août 2025 \nà partir de 21h30 \nThe Quiet Man \n\nSoirée Friday Night Party\navec DJ Denis C\nHOUSE / ELECTRO / LATINO / REMIX\n\n  \n𝐋’𝐚𝐛𝐮𝐬 𝐝’𝐚𝐥𝐜𝐨𝐨𝐥 𝐞𝐬𝐭 𝐝𝐚𝐧𝐠𝐞𝐫𝐞𝐮𝐱 𝐩𝐨𝐮𝐫 𝐥𝐚 𝐬𝐚𝐧𝐭e – 𝐜𝐨𝐧𝐬𝐨𝐦𝐦𝐞𝐳 𝐚𝐯𝐞𝐜 𝐦𝐨𝐝e𝐫𝐚𝐭𝐢𝐨𝐧 \nsource : The Quiet Man Salon de Provence\n\nIdées loisirs à pratiquer à Salon-de-Provence & pays salonais
URL:https://nostragenda.fr/sortie/friday-night-party-quiet-man-01-aout/
LOCATION:The Quiet Man\, 6 Allées de Craponne\, SALON-DE-PROVENCE\, 13300\, France
CATEGORIES:Agenda,Soirées
END:VEVENT
BEGIN:VEVENT
DTSTART;TZID=Europe/Paris:20250801T180000
DTEND;TZID=Europe/Paris:20250801T233000
DTSTAMP:20260421T140939
CREATED:20250730T191811Z
LAST-MODIFIED:20250730T191930Z
UID:40868-1754071200-1754091000@nostragenda.fr
SUMMARY:Les Apéros Jaunes - Au Fut et BDLP
DESCRIPTION:Les Apéros Jaunes\nAu Fut et BDLP\n\nVendredi 01 août 2025 \nà partir de 18h \n\n\nDJ extérieur \nLes Apéros Jaunes – Au Fut et BDLP\nmets ton plus beau tee-shirt et bandana jaune et tu viens faire la fête\n  \n\nConcours de beerpong géant avec plein de lots à gagner\nUn DJ fada pour te régaler\n\n\n\nAmbiance assurée\n\n\nDéco toute jaunes avec notre partenaire\nConcours de ventrigliss pour ceux qu’ont pas froid aux yeux\n\n\nL’abus d’alcool est dangereux pour la santé.\nA consommer avec modération.\nSource : Au fut & à mesure Salon / BDLP
URL:https://nostragenda.fr/sortie/les-aperos-jaunes-au-fut-et-bdlp-01-aout/
LOCATION:Au fut & à mesure / BDLP\, Bd Foch\, SALON-DE-PROVENCE\, SALON-DE-PROVENCE\, 13300\, France
CATEGORIES:Agenda,Animations,Soirées
ATTACH;FMTTYPE=image/jpeg:https://nostragenda.fr/wp-content/uploads/2025/07/525706615_1223751206432498_7113961999036074426_n.jpg
END:VEVENT
BEGIN:VEVENT
DTSTART;TZID=Europe/Paris:20250731T213000
DTEND;TZID=Europe/Paris:20250731T233000
DTSTAMP:20260421T140939
CREATED:20250703T053549Z
LAST-MODIFIED:20250703T053728Z
UID:40678-1753997400-1754004600@nostragenda.fr
SUMMARY:Les Jeudis du Quiet Man
DESCRIPTION:Les Jeudis du Quiet Man\n  \nJeudi 31 juillet 2025 \nà partir de 21h30 \n\n\n\nThe Quiet Man \nLes Jeudis du Quiet Man\n𝐮𝐧𝐞 𝐬𝐨𝐢𝐫𝐞́𝐞 𝐋𝐚𝐭𝐢𝐧𝐨/𝐒𝐡𝐚𝐭𝐭𝐚\nMicou sound system \n  \n𝐋’𝐚𝐛𝐮𝐬 𝐝’𝐚𝐥𝐜𝐨𝐨𝐥 𝐞𝐬𝐭 𝐝𝐚𝐧𝐠𝐞𝐫𝐞𝐮𝐱 𝐩𝐨𝐮𝐫 𝐥𝐚 𝐬𝐚𝐧𝐭e – 𝐜𝐨𝐧𝐬𝐨𝐦𝐦𝐞𝐳 𝐚𝐯𝐞𝐜 𝐦𝐨𝐝e𝐫𝐚𝐭𝐢𝐨𝐧 \nsource : The Quiet Man Salon de Provence\n\nIdées loisirs à pratiquer à Salon-de-Provence & pays salonais
URL:https://nostragenda.fr/sortie/les-jeudis-du-quiet-man-31-juillet/
LOCATION:The Quiet Man\, 6 Allées de Craponne\, SALON-DE-PROVENCE\, 13300\, France
CATEGORIES:Agenda,Soirées
ATTACH;FMTTYPE=image/png:https://nostragenda.fr/wp-content/uploads/2025/07/31.07.png
END:VEVENT
BEGIN:VEVENT
DTSTART;TZID=Europe/Paris:20250730T213000
DTEND;TZID=Europe/Paris:20250730T233000
DTSTAMP:20260421T140939
CREATED:20250703T055016Z
LAST-MODIFIED:20250703T055101Z
UID:40691-1753911000-1753918200@nostragenda.fr
SUMMARY:Karaoké - Quiet Man
DESCRIPTION:Karaoké – Quiet Man\n  \nMercredi 30 juillet 2025 \n𝐕𝐞𝐧𝐞𝐳 𝐜𝐡𝐚𝐧𝐭𝐞𝐫 à partir de 𝟐𝟏𝐡𝟑𝟎 \nSoirée Karaoké\nTous les mercredis animée par Sonia Kévorkian \nThe Quiet Man – Soirées Karaoké\n  \nL’abus d’alcool est dangereux pour la santé\, à consommer avec modération. \nsource : The Quiet Man Salon de Provence\n\nIdées loisirs à pratiquer à Salon-de-Provence & pays salonais
URL:https://nostragenda.fr/sortie/karaoke-quiet-man-30-juillet/
LOCATION:The Quiet Man\, 6 Allées de Craponne\, SALON-DE-PROVENCE\, 13300\, France
CATEGORIES:Agenda,Soirées
ATTACH;FMTTYPE=image/png:https://nostragenda.fr/wp-content/uploads/2025/07/Karaoke.png
END:VEVENT
BEGIN:VEVENT
DTSTART;TZID=Europe/Paris:20250726T213000
DTEND;TZID=Europe/Paris:20250726T233000
DTSTAMP:20260421T140939
CREATED:20250703T124447Z
LAST-MODIFIED:20250703T125027Z
UID:40721-1753565400-1753572600@nostragenda.fr
SUMMARY:Soirée Night Club Party - Quiet Man
DESCRIPTION:Soirée Night Club Party  – Quiet Man\n  \nSamedi 26 juillet 2025 \nà partir de 21h30\nThe Quiet Man\n\n\nNight Club Party\navec DJ Arucci\n\n\n\nThe Quiet Man\n𝐋’𝐚𝐛𝐮𝐬 𝐝’𝐚𝐥𝐜𝐨𝐨𝐥 𝐞𝐬𝐭 𝐝𝐚𝐧𝐠𝐞𝐫𝐞𝐮𝐱 𝐩𝐨𝐮𝐫 𝐥𝐚 𝐬𝐚𝐧𝐭e – 𝐜𝐨𝐧𝐬𝐨𝐦𝐦𝐞𝐳 𝐚𝐯𝐞𝐜 𝐦𝐨𝐝e𝐫𝐚𝐭𝐢𝐨𝐧 \nsource : The Quiet Man Salon de Provence\n\nRubrique : Soirées c'est ici
URL:https://nostragenda.fr/sortie/soiree-night-club-party-quiet-man-26-juillet/
LOCATION:The Quiet Man\, 6 Allées de Craponne\, SALON-DE-PROVENCE\, 13300\, France
CATEGORIES:Agenda,Soirées
ATTACH;FMTTYPE=image/png:https://nostragenda.fr/wp-content/uploads/2025/07/26.07.png
END:VEVENT
BEGIN:VEVENT
DTSTART;TZID=Europe/Paris:20250726T190000
DTEND;TZID=Europe/Paris:20250726T233000
DTSTAMP:20260421T140939
CREATED:20250421T205258Z
LAST-MODIFIED:20250421T205500Z
UID:38865-1753556400-1753572600@nostragenda.fr
SUMMARY:Fête du Quartier Michelet-Aires de la Dîmes 10 ans
DESCRIPTION:Fête du Quartier Michelet-Aires de la Dîmes 10 ans\n  \nSamedi 26 juillet 2025 \nà partir de 19h \nParc de l’Ecole Maternelle Michelet \nSpectacle show Chrisharmonie\n » Les années Twist « \n  \nPaëlla – Fromage  – Dessert – Gâteau d’anniversaire  25€ \n( Sur Réservation ) Tél : 06 03 55 07 85  avant le 24 juillet 2025 \nVerre de l’amitié +  café offert par le CIQ \nBal avec Althys Animation\nSource : CIQ Michelet Aires de la Dîme Bressons Blazots Salon-de-Provence\nAgenda * Aujourd'hui
URL:https://nostragenda.fr/sortie/fete-du-quartier-michelet-aires-de-la-dimes-10-ans/
LOCATION:Parc de l’Ecole Maternelle Michelet\, 196 Avenue Michelet\, SALON-DE-PROVENCE\, SALON-DE-PROVENCE\, 13300\, France
CATEGORIES:Agenda,Animations,Soirées
ATTACH;FMTTYPE=image/jpeg:https://nostragenda.fr/wp-content/uploads/2025/04/fete-du-quartier-10-ans-Ciq-Michelet-Nostragenda-Salon-de-Provence.jpg
END:VEVENT
BEGIN:VEVENT
DTSTART;TZID=Europe/Paris:20250725T213000
DTEND;TZID=Europe/Paris:20250725T233000
DTSTAMP:20260421T140939
CREATED:20250703T061454Z
LAST-MODIFIED:20250703T061742Z
UID:40705-1753479000-1753486200@nostragenda.fr
SUMMARY:Soirée DJ Nagini - Quiet Man
DESCRIPTION:Soirée DJ Nagini – Quiet Man\n  \nVendredi 25 juillet 2025 \nà partir de 21h30 \n\nThe Quiet Man\nSoirée Night Music DJ Nagini\n\n𝐋’𝐚𝐛𝐮𝐬 𝐝’𝐚𝐥𝐜𝐨𝐨𝐥 𝐞𝐬𝐭 𝐝𝐚𝐧𝐠𝐞𝐫𝐞𝐮𝐱 𝐩𝐨𝐮𝐫 𝐥𝐚 𝐬𝐚𝐧𝐭e – 𝐜𝐨𝐧𝐬𝐨𝐦𝐦𝐞𝐳 𝐚𝐯𝐞𝐜 𝐦𝐨𝐝e𝐫𝐚𝐭𝐢𝐨𝐧 \nsource : The Quiet Man Salon de Provence\n\nRubrique : Soirées c'est ici
URL:https://nostragenda.fr/sortie/soiree-dj-nagini-quiet-man-25-juillet/
LOCATION:The Quiet Man\, 6 Allées de Craponne\, SALON-DE-PROVENCE\, 13300\, France
CATEGORIES:Agenda,Soirées
ATTACH;FMTTYPE=image/png:https://nostragenda.fr/wp-content/uploads/2025/07/25.07.png
END:VEVENT
BEGIN:VEVENT
DTSTART;TZID=Europe/Paris:20250724T213000
DTEND;TZID=Europe/Paris:20250724T233000
DTSTAMP:20260421T140939
CREATED:20250703T123545Z
LAST-MODIFIED:20250703T123634Z
UID:40714-1753392600-1753399800@nostragenda.fr
SUMMARY:Les Jeudis du Quiet Man
DESCRIPTION:Les Jeudis du Quiet Man\n  \nJeudi 24 juillet 2025 \nà partir de 21h30 \n\n\n\nThe Quiet Man \nLes Jeudis du Quiet Man\n𝐮𝐧𝐞 𝐬𝐨𝐢𝐫𝐞́𝐞 𝐋𝐚𝐭𝐢𝐧𝐨/𝐒𝐡𝐚𝐭𝐭𝐚\nDJ Ghiss\n  \n𝐋’𝐚𝐛𝐮𝐬 𝐝’𝐚𝐥𝐜𝐨𝐨𝐥 𝐞𝐬𝐭 𝐝𝐚𝐧𝐠𝐞𝐫𝐞𝐮𝐱 𝐩𝐨𝐮𝐫 𝐥𝐚 𝐬𝐚𝐧𝐭e – 𝐜𝐨𝐧𝐬𝐨𝐦𝐦𝐞𝐳 𝐚𝐯𝐞𝐜 𝐦𝐨𝐝e𝐫𝐚𝐭𝐢𝐨𝐧 \nsource : The Quiet Man Salon de Provence\n\nIdées loisirs à pratiquer à Salon-de-Provence & pays salonais
URL:https://nostragenda.fr/sortie/les-jeudis-du-quiet-man-24-juillet/
LOCATION:The Quiet Man\, 6 Allées de Craponne\, SALON-DE-PROVENCE\, 13300\, France
CATEGORIES:Agenda,Soirées
ATTACH;FMTTYPE=image/png:https://nostragenda.fr/wp-content/uploads/2025/07/24.07.png
END:VEVENT
BEGIN:VEVENT
DTSTART;TZID=Europe/Paris:20250723T213000
DTEND;TZID=Europe/Paris:20250723T233000
DTSTAMP:20260421T140939
CREATED:20250703T054801Z
LAST-MODIFIED:20250703T054844Z
UID:40689-1753306200-1753313400@nostragenda.fr
SUMMARY:Karaoké - Quiet Man
DESCRIPTION:Karaoké – Quiet Man\n  \nMercredi 23 juillet 2025 \n𝐕𝐞𝐧𝐞𝐳 𝐜𝐡𝐚𝐧𝐭𝐞𝐫 à partir de 𝟐𝟏𝐡𝟑𝟎 \nSoirée Karaoké\nTous les mercredis animée par Sonia Kévorkian \nThe Quiet Man – Soirées Karaoké\n  \nL’abus d’alcool est dangereux pour la santé\, à consommer avec modération. \nsource : The Quiet Man Salon de Provence\n\nIdées loisirs à pratiquer à Salon-de-Provence & pays salonais
URL:https://nostragenda.fr/sortie/karaoke-quiet-man-23-juillet/
LOCATION:The Quiet Man\, 6 Allées de Craponne\, SALON-DE-PROVENCE\, 13300\, France
CATEGORIES:Agenda,Soirées
ATTACH;FMTTYPE=image/png:https://nostragenda.fr/wp-content/uploads/2025/07/Karaoke.png
END:VEVENT
BEGIN:VEVENT
DTSTART;TZID=Europe/Paris:20250719T213000
DTEND;TZID=Europe/Paris:20250719T233000
DTSTAMP:20260421T140939
CREATED:20250703T124105Z
LAST-MODIFIED:20250703T124142Z
UID:40722-1752960600-1752967800@nostragenda.fr
SUMMARY:Soirée Night Club Party - Quiet Man
DESCRIPTION:Soirée Night Club Party  – Quiet Man\n  \nSamedi 19 juillet 2025 \nà partir de 21h30\nThe Quiet Man\n\n\nNight Club Party\navec DJ Arucci\n\n\n\nThe Quiet Man\n𝐋’𝐚𝐛𝐮𝐬 𝐝’𝐚𝐥𝐜𝐨𝐨𝐥 𝐞𝐬𝐭 𝐝𝐚𝐧𝐠𝐞𝐫𝐞𝐮𝐱 𝐩𝐨𝐮𝐫 𝐥𝐚 𝐬𝐚𝐧𝐭e – 𝐜𝐨𝐧𝐬𝐨𝐦𝐦𝐞𝐳 𝐚𝐯𝐞𝐜 𝐦𝐨𝐝e𝐫𝐚𝐭𝐢𝐨𝐧 \nsource : The Quiet Man Salon de Provence\n\nRubrique : Soirées c'est ici
URL:https://nostragenda.fr/sortie/soiree-night-club-party-quiet-man-19-juillet/
LOCATION:The Quiet Man\, 6 Allées de Craponne\, SALON-DE-PROVENCE\, 13300\, France
CATEGORIES:Agenda,Soirées
ATTACH;FMTTYPE=image/png:https://nostragenda.fr/wp-content/uploads/2025/07/19.07.png
END:VEVENT
BEGIN:VEVENT
DTSTART;TZID=Europe/Paris:20250718T213000
DTEND;TZID=Europe/Paris:20250718T233000
DTSTAMP:20260421T140939
CREATED:20250703T060757Z
LAST-MODIFIED:20250703T060824Z
UID:40698-1752874200-1752881400@nostragenda.fr
SUMMARY:Soirée DJ Nagini - Quiet Man
DESCRIPTION:Soirée DJ Nagini – Quiet Man\n  \nVendredi 18 juillet 2025 \nà partir de 21h30 \n\nThe Quiet Man\nSoirée Night Music DJ Nagini\n\n𝐋’𝐚𝐛𝐮𝐬 𝐝’𝐚𝐥𝐜𝐨𝐨𝐥 𝐞𝐬𝐭 𝐝𝐚𝐧𝐠𝐞𝐫𝐞𝐮𝐱 𝐩𝐨𝐮𝐫 𝐥𝐚 𝐬𝐚𝐧𝐭e – 𝐜𝐨𝐧𝐬𝐨𝐦𝐦𝐞𝐳 𝐚𝐯𝐞𝐜 𝐦𝐨𝐝e𝐫𝐚𝐭𝐢𝐨𝐧 \nsource : The Quiet Man Salon de Provence\n\nRubrique : Soirées c'est ici
URL:https://nostragenda.fr/sortie/soiree-dj-nagini-quiet-man-18-juillet/
LOCATION:The Quiet Man\, 6 Allées de Craponne\, SALON-DE-PROVENCE\, 13300\, France
CATEGORIES:Agenda,Soirées
ATTACH;FMTTYPE=image/png:https://nostragenda.fr/wp-content/uploads/2025/07/18.07.png
END:VEVENT
BEGIN:VEVENT
DTSTART;TZID=Europe/Paris:20250717T213000
DTEND;TZID=Europe/Paris:20250717T233000
DTSTAMP:20260421T140939
CREATED:20250703T053129Z
LAST-MODIFIED:20250703T053341Z
UID:40674-1752787800-1752795000@nostragenda.fr
SUMMARY:Les Jeudis du Quiet Man
DESCRIPTION:Les Jeudis du Quiet Man\n  \nJeudi 17 juillet 2025 \nà partir de 21h30 \n\n\n\nThe Quiet Man \nLes Jeudis du Quiet Man\n𝐮𝐧𝐞 𝐬𝐨𝐢𝐫𝐞́𝐞 𝐋𝐚𝐭𝐢𝐧𝐨/𝐒𝐡𝐚𝐭𝐭𝐚\nMicou sound system \n  \n𝐋’𝐚𝐛𝐮𝐬 𝐝’𝐚𝐥𝐜𝐨𝐨𝐥 𝐞𝐬𝐭 𝐝𝐚𝐧𝐠𝐞𝐫𝐞𝐮𝐱 𝐩𝐨𝐮𝐫 𝐥𝐚 𝐬𝐚𝐧𝐭e – 𝐜𝐨𝐧𝐬𝐨𝐦𝐦𝐞𝐳 𝐚𝐯𝐞𝐜 𝐦𝐨𝐝e𝐫𝐚𝐭𝐢𝐨𝐧 \nsource : The Quiet Man Salon de Provence\n\nIdées loisirs à pratiquer à Salon-de-Provence & pays salonais
URL:https://nostragenda.fr/sortie/les-jeudis-du-quiet-man-17-juillet/
LOCATION:The Quiet Man\, 6 Allées de Craponne\, SALON-DE-PROVENCE\, 13300\, France
CATEGORIES:Agenda,Soirées
ATTACH;FMTTYPE=image/png:https://nostragenda.fr/wp-content/uploads/2025/07/17.07.png
END:VEVENT
BEGIN:VEVENT
DTSTART;TZID=Europe/Paris:20250716T213000
DTEND;TZID=Europe/Paris:20250716T233000
DTSTAMP:20260421T140939
CREATED:20250703T054535Z
LAST-MODIFIED:20250703T054601Z
UID:40687-1752701400-1752708600@nostragenda.fr
SUMMARY:Karaoké - Quiet Man
DESCRIPTION:Karaoké – Quiet Man\n  \nMercredi 16 juillet 2025 \n𝐕𝐞𝐧𝐞𝐳 𝐜𝐡𝐚𝐧𝐭𝐞𝐫 à partir de 𝟐𝟏𝐡𝟑𝟎 \nSoirée Karaoké\nTous les mercredis animée par Sonia Kévorkian \nThe Quiet Man – Soirées Karaoké\n  \nL’abus d’alcool est dangereux pour la santé\, à consommer avec modération. \nsource : The Quiet Man Salon de Provence\n\nIdées loisirs à pratiquer à Salon-de-Provence & pays salonais
URL:https://nostragenda.fr/sortie/karaoke-quiet-man-16-juillet/
LOCATION:The Quiet Man\, 6 Allées de Craponne\, SALON-DE-PROVENCE\, 13300\, France
CATEGORIES:Agenda,Soirées
ATTACH;FMTTYPE=image/png:https://nostragenda.fr/wp-content/uploads/2025/07/Karaoke.png
END:VEVENT
BEGIN:VEVENT
DTSTART;TZID=Europe/Paris:20250712T213000
DTEND;TZID=Europe/Paris:20250712T233000
DTSTAMP:20260421T140939
CREATED:20250703T123142Z
LAST-MODIFIED:20250703T123252Z
UID:40715-1752355800-1752363000@nostragenda.fr
SUMMARY:Saturday Party - Quiet Man
DESCRIPTION:Saturday Party – Quiet Man\n  \nSamedi 12 juillet 2025 \n\nà partir de 21h30\n\n\nThe Quiet Man \n\nSoirée Saturday Party\navec DJ Ghiss\n  \n\n  \n𝐋’𝐚𝐛𝐮𝐬 𝐝’𝐚𝐥𝐜𝐨𝐨𝐥 𝐞𝐬𝐭 𝐝𝐚𝐧𝐠𝐞𝐫𝐞𝐮𝐱 𝐩𝐨𝐮𝐫 𝐥𝐚 𝐬𝐚𝐧𝐭e – 𝐜𝐨𝐧𝐬𝐨𝐦𝐦𝐞𝐳 𝐚𝐯𝐞𝐜 𝐦𝐨𝐝e𝐫𝐚𝐭𝐢𝐨𝐧 \nsource : The Quiet Man Salon de Provence\n\nIdées loisirs à pratiquer à Salon-de-Provence & pays salonais
URL:https://nostragenda.fr/sortie/saturday-party-quiet-man-12-juillet/
LOCATION:The Quiet Man\, 6 Allées de Craponne\, SALON-DE-PROVENCE\, 13300\, France
CATEGORIES:Agenda,Soirées
ATTACH;FMTTYPE=image/png:https://nostragenda.fr/wp-content/uploads/2025/07/12.07.png
END:VEVENT
BEGIN:VEVENT
DTSTART;TZID=Europe/Paris:20250711T213000
DTEND;TZID=Europe/Paris:20250711T233000
DTSTAMP:20260421T140939
CREATED:20250703T122544Z
LAST-MODIFIED:20250703T122733Z
UID:40710-1752269400-1752276600@nostragenda.fr
SUMMARY:Friday Night Party - Quiet Man
DESCRIPTION:Friday Night Party – Quiet Man\n  \nVendredi 11 juillet 2025 \nà partir de 21h30 \nThe Quiet Man \n\nSoirée Friday Night Party\navec DJ Denis C\nHOUSE / ELECTRO / LATINO / REMIX\n\n  \n𝐋’𝐚𝐛𝐮𝐬 𝐝’𝐚𝐥𝐜𝐨𝐨𝐥 𝐞𝐬𝐭 𝐝𝐚𝐧𝐠𝐞𝐫𝐞𝐮𝐱 𝐩𝐨𝐮𝐫 𝐥𝐚 𝐬𝐚𝐧𝐭e – 𝐜𝐨𝐧𝐬𝐨𝐦𝐦𝐞𝐳 𝐚𝐯𝐞𝐜 𝐦𝐨𝐝e𝐫𝐚𝐭𝐢𝐨𝐧 \nsource : The Quiet Man Salon de Provence\n\nIdées loisirs à pratiquer à Salon-de-Provence & pays salonais
URL:https://nostragenda.fr/sortie/friday-night-party-quiet-man-11-juillet/
LOCATION:The Quiet Man\, 6 Allées de Craponne\, SALON-DE-PROVENCE\, 13300\, France
CATEGORIES:Agenda,Soirées
ATTACH;FMTTYPE=image/png:https://nostragenda.fr/wp-content/uploads/2025/07/11.07.png
END:VEVENT
END:VCALENDAR