BEGIN:VCALENDAR
VERSION:2.0
PRODID:-//Nostragenda : Sorties &amp; Loisirs sur Salon-de-Provence  - Agenda - ECPv6.15.20//NONSGML v1.0//EN
CALSCALE:GREGORIAN
METHOD:PUBLISH
X-WR-CALNAME:Nostragenda : Sorties &amp; Loisirs sur Salon-de-Provence  - Agenda
X-ORIGINAL-URL:https://nostragenda.fr
X-WR-CALDESC:Évènements pour Nostragenda : Sorties &amp; Loisirs sur Salon-de-Provence  - Agenda
REFRESH-INTERVAL;VALUE=DURATION:PT1H
X-Robots-Tag:noindex
X-PUBLISHED-TTL:PT1H
BEGIN:VTIMEZONE
TZID:Europe/Paris
BEGIN:DAYLIGHT
TZOFFSETFROM:+0100
TZOFFSETTO:+0200
TZNAME:CEST
DTSTART:20230326T010000
END:DAYLIGHT
BEGIN:STANDARD
TZOFFSETFROM:+0200
TZOFFSETTO:+0100
TZNAME:CET
DTSTART:20231029T010000
END:STANDARD
BEGIN:DAYLIGHT
TZOFFSETFROM:+0100
TZOFFSETTO:+0200
TZNAME:CEST
DTSTART:20240331T010000
END:DAYLIGHT
BEGIN:STANDARD
TZOFFSETFROM:+0200
TZOFFSETTO:+0100
TZNAME:CET
DTSTART:20241027T010000
END:STANDARD
BEGIN:DAYLIGHT
TZOFFSETFROM:+0100
TZOFFSETTO:+0200
TZNAME:CEST
DTSTART:20250330T010000
END:DAYLIGHT
BEGIN:STANDARD
TZOFFSETFROM:+0200
TZOFFSETTO:+0100
TZNAME:CET
DTSTART:20251026T010000
END:STANDARD
END:VTIMEZONE
BEGIN:VEVENT
DTSTART;TZID=Europe/Paris:20240817T213000
DTEND;TZID=Europe/Paris:20240817T233000
DTSTAMP:20260422T044222
CREATED:20240810T135310Z
LAST-MODIFIED:20240810T135500Z
UID:36123-1723930200-1723937400@nostragenda.fr
SUMMARY:Saturday Night Party - Quiet Man
DESCRIPTION:Saturday Night Party – Quiet Man\n  \nSamedi 17 août 2024 \n\nSoirée Saturday Night Party\navec DJ Denis C\nà partir de 21h30\n\n\nThe Quiet Man \n𝐋’𝐚𝐛𝐮𝐬 𝐝’𝐚𝐥𝐜𝐨𝐨𝐥 𝐞𝐬𝐭 𝐝𝐚𝐧𝐠𝐞𝐫𝐞𝐮𝐱 𝐩𝐨𝐮𝐫 𝐥𝐚 𝐬𝐚𝐧𝐭e – 𝐜𝐨𝐧𝐬𝐨𝐦𝐦𝐞𝐳 𝐚𝐯𝐞𝐜 𝐦𝐨𝐝e𝐫𝐚𝐭𝐢𝐨𝐧 \nsource : The Quiet Man Salon de Provence\n\nIdées loisirs à pratiquer à Salon-de-Provence & pays salonais
URL:https://nostragenda.fr/sortie/saturday-night-party-quiet-man-2/
LOCATION:The Quiet Man\, 6 Allées de Craponne\, SALON-DE-PROVENCE\, 13300\, France
CATEGORIES:Agenda,Soirées
ATTACH;FMTTYPE=image/png:https://nostragenda.fr/wp-content/uploads/2024/08/17.08.png
END:VEVENT
BEGIN:VEVENT
DTSTART;TZID=Europe/Paris:20240816T210000
DTEND;TZID=Europe/Paris:20240816T233000
DTSTAMP:20260422T044222
CREATED:20240810T133856Z
LAST-MODIFIED:20240810T133931Z
UID:36117-1723842000-1723851000@nostragenda.fr
SUMMARY:Soirée DJ Nagini - Quiet Man
DESCRIPTION:Soirée DJ Nagini – Quiet Man\n  \nVendredi 16 août 2024 \nSoirée Night Music DJ Nagini \n\nà partir de 21h30\n\n\nThe Quiet Man \n𝐋’𝐚𝐛𝐮𝐬 𝐝’𝐚𝐥𝐜𝐨𝐨𝐥 𝐞𝐬𝐭 𝐝𝐚𝐧𝐠𝐞𝐫𝐞𝐮𝐱 𝐩𝐨𝐮𝐫 𝐥𝐚 𝐬𝐚𝐧𝐭e – 𝐜𝐨𝐧𝐬𝐨𝐦𝐦𝐞𝐳 𝐚𝐯𝐞𝐜 𝐦𝐨𝐝e𝐫𝐚𝐭𝐢𝐨𝐧 \nsource : The Quiet Man Salon de Provence\n\nRubrique : Soirées c'est ici
URL:https://nostragenda.fr/sortie/soiree-dj-nagini-quiet-man-16-aout/
LOCATION:The Quiet Man\, 6 Allées de Craponne\, SALON-DE-PROVENCE\, 13300\, France
CATEGORIES:Agenda,Soirées
ATTACH;FMTTYPE=image/png:https://nostragenda.fr/wp-content/uploads/2024/08/16.08.png
END:VEVENT
BEGIN:VEVENT
DTSTART;TZID=Europe/Paris:20240816T200000
DTEND;TZID=Europe/Paris:20240816T233000
DTSTAMP:20260422T044222
CREATED:20240816T081003Z
LAST-MODIFIED:20240816T081414Z
UID:36222-1723838400-1723851000@nostragenda.fr
SUMMARY:Apéromix Alexis Millo - Au Fut
DESCRIPTION:Apéromix Alexis Millo – Au Fut\n  \nVendredi 16 août 2024 \nà partir de 20h \nDJ Alexis Millo\n\nc’est au Fût que ça se passe \nl’abus d’alcool est dangereux pour la santé \, A consommer avec modération \nSource : Au fut & à mesure Salon\n\nAgenda * Aujourd'hui
URL:https://nostragenda.fr/sortie/aperomix-alexis-millo-au-fut-16-aout/
LOCATION:Au fut & à mesure\, 66 Boulevard Maréchal Foch\, Salon-de-Provence\, 13300\, France
CATEGORIES:Agenda,Soirées
ATTACH;FMTTYPE=image/jpeg:https://nostragenda.fr/wp-content/uploads/2024/08/aperomix-alexis-millo-au-fut-Salon-agenda-soiree-Nostragenda.jpg
END:VEVENT
BEGIN:VEVENT
DTSTART;TZID=Europe/Paris:20240816T190000
DTEND;TZID=Europe/Paris:20240816T235500
DTSTAMP:20260422T044222
CREATED:20240814T123039Z
LAST-MODIFIED:20240814T123121Z
UID:36197-1723834800-1723852500@nostragenda.fr
SUMMARY:Electro Beers Dj Eemoz - My Beers
DESCRIPTION:Electro Beers Dj Eemoz – My Beers\n  \nVendredi 16 aoûtl 2024 \nà partir de 19h \nApéro Mix avec Dj Eemoz\nMy Beers Salon de Provence \nPlace Jules Morgan \nc’est apéro mix dans ton My Beers Salon \nSource : My Beers Salon de Provence
URL:https://nostragenda.fr/sortie/electro-beers-dj-eemoz-my-beers/
LOCATION:My Beers\, Place Jules Morgan\, Salon-de-Provence\, 13300\, France
CATEGORIES:Agenda,Soirées
ATTACH;FMTTYPE=image/jpeg:https://nostragenda.fr/wp-content/uploads/2024/08/aperomix-electro-beers-Dj-Eemoz-Agenda-soiree-My-Beers-Nostragenda.jpg
END:VEVENT
BEGIN:VEVENT
DTSTART;TZID=Europe/Paris:20240816T190000
DTEND;TZID=Europe/Paris:20240816T233000
DTSTAMP:20260422T044222
CREATED:20240814T085744Z
LAST-MODIFIED:20240814T085827Z
UID:36194-1723834800-1723851000@nostragenda.fr
SUMMARY:Soirée Tekno - La Bièrerie
DESCRIPTION:Soirée Tekno – La Bièrerie\n  \nVendredi 16 août 2024 \nà partir de 19h \nLa Bièrerie \nVenez profitez d’une soirée avec \nGROOVE DISTILLER de 21h à 23h\nGHISSOU : résident\nPANDA\nDAMIAN BALDR : empeg booking\n\n\ndans le centre ville de Salon-de-Provence \nsource : La Bièrerie\n\nIdées loisirs à pratiquer à Salon-de-Provence & pays salonais
URL:https://nostragenda.fr/sortie/soiree-tekno-la-biererie/
LOCATION:La Bièrerie\, 13 Place Charles Latil\, SALON-DE-PROVENCE\, SALON-DE-PROVENCE\, 13300\, France
CATEGORIES:Agenda,Soirées
END:VEVENT
BEGIN:VEVENT
DTSTART;TZID=Europe/Paris:20240815T210000
DTEND;TZID=Europe/Paris:20240815T233000
DTSTAMP:20260422T044222
CREATED:20240809T065744Z
LAST-MODIFIED:20240809T070147Z
UID:36098-1723755600-1723764600@nostragenda.fr
SUMMARY:Les Jeudis du Quiet Man
DESCRIPTION:Les Jeudis du Quiet Man\n  \nJeudi 15 août 2024 \nà partir de 21h \n\n\n\nThe Quiet Man \nLes Jeudis du Quiet Man\n𝐬𝐨𝐢𝐫𝐞́𝐞 𝐋𝐚𝐭𝐢𝐧𝐨/𝐒𝐡𝐚𝐭𝐭𝐚/Afro\nDJ Ghiss \n𝐋’𝐚𝐛𝐮𝐬 𝐝’𝐚𝐥𝐜𝐨𝐨𝐥 𝐞𝐬𝐭 𝐝𝐚𝐧𝐠𝐞𝐫𝐞𝐮𝐱 𝐩𝐨𝐮𝐫 𝐥𝐚 𝐬𝐚𝐧𝐭e – 𝐜𝐨𝐧𝐬𝐨𝐦𝐦𝐞𝐳 𝐚𝐯𝐞𝐜 𝐦𝐨𝐝e𝐫𝐚𝐭𝐢𝐨𝐧 \nsource : The Quiet Man Salon de Provence\n\nIdées loisirs à pratiquer à Salon-de-Provence & pays salonais
URL:https://nostragenda.fr/sortie/les-jeudis-du-quiet-man-15-aout/
LOCATION:The Quiet Man\, 6 Allées de Craponne\, SALON-DE-PROVENCE\, 13300\, France
CATEGORIES:Agenda,Soirées
ATTACH;FMTTYPE=image/png:https://nostragenda.fr/wp-content/uploads/2024/08/15.08.png
END:VEVENT
BEGIN:VEVENT
DTSTART;TZID=Europe/Paris:20240810T213000
DTEND;TZID=Europe/Paris:20240810T233000
DTSTAMP:20260422T044222
CREATED:20240809T065043Z
LAST-MODIFIED:20240809T065206Z
UID:36095-1723325400-1723332600@nostragenda.fr
SUMMARY:Saturday Party - Quiet Man
DESCRIPTION:Saturday Party – Quiet Man\n  \nSamedi 10 août 2024 \n\nSoirée Saturday Party\navec DJ Ghiss\nà partir de 21h30\n\n\nThe Quiet Man \n𝐋’𝐚𝐛𝐮𝐬 𝐝’𝐚𝐥𝐜𝐨𝐨𝐥 𝐞𝐬𝐭 𝐝𝐚𝐧𝐠𝐞𝐫𝐞𝐮𝐱 𝐩𝐨𝐮𝐫 𝐥𝐚 𝐬𝐚𝐧𝐭e – 𝐜𝐨𝐧𝐬𝐨𝐦𝐦𝐞𝐳 𝐚𝐯𝐞𝐜 𝐦𝐨𝐝e𝐫𝐚𝐭𝐢𝐨𝐧 \nsource : The Quiet Man Salon de Provence\n\nIdées loisirs à pratiquer à Salon-de-Provence & pays salonais
URL:https://nostragenda.fr/sortie/saturday-party-quiet-man-10-aout/
LOCATION:The Quiet Man\, 6 Allées de Craponne\, SALON-DE-PROVENCE\, 13300\, France
CATEGORIES:Agenda,Soirées
ATTACH;FMTTYPE=image/png:https://nostragenda.fr/wp-content/uploads/2024/08/10.08.png
END:VEVENT
BEGIN:VEVENT
DTSTART;TZID=Europe/Paris:20240809T213000
DTEND;TZID=Europe/Paris:20240809T233000
DTSTAMP:20260422T044222
CREATED:20240809T064539Z
LAST-MODIFIED:20240809T064702Z
UID:36092-1723239000-1723246200@nostragenda.fr
SUMMARY:Friday Night Party - Quiet Man
DESCRIPTION:Friday Night Party – Quiet Man\n  \nVendredi 09 août 2024 \n\nSoirée Friday Night Party\navec DJ Denis C\nà partir de 21h30\n\n\nThe Quiet Man \n𝐋’𝐚𝐛𝐮𝐬 𝐝’𝐚𝐥𝐜𝐨𝐨𝐥 𝐞𝐬𝐭 𝐝𝐚𝐧𝐠𝐞𝐫𝐞𝐮𝐱 𝐩𝐨𝐮𝐫 𝐥𝐚 𝐬𝐚𝐧𝐭e – 𝐜𝐨𝐧𝐬𝐨𝐦𝐦𝐞𝐳 𝐚𝐯𝐞𝐜 𝐦𝐨𝐝e𝐫𝐚𝐭𝐢𝐨𝐧 \nsource : The Quiet Man Salon de Provence\n\nIdées loisirs à pratiquer à Salon-de-Provence & pays salonais
URL:https://nostragenda.fr/sortie/friday-night-party-quiet-man-09-aout/
LOCATION:The Quiet Man\, 6 Allées de Craponne\, SALON-DE-PROVENCE\, 13300\, France
CATEGORIES:Agenda,Soirées
ATTACH;FMTTYPE=image/png:https://nostragenda.fr/wp-content/uploads/2024/08/09.08.png
END:VEVENT
BEGIN:VEVENT
DTSTART;TZID=Europe/Paris:20240809T200000
DTEND;TZID=Europe/Paris:20240809T233000
DTSTAMP:20260422T044222
CREATED:20240808T171003Z
LAST-MODIFIED:20240808T171103Z
UID:36070-1723233600-1723246200@nostragenda.fr
SUMMARY:Apéromix John Santi - Au Fut et à Mesure
DESCRIPTION:Apéromix John Santi – Au Fut et à Mesure\n  \nVendredi 09 août 2024 \nà partir de 20h \nmix by DJ John Santi\nc’est au Fût que ça se passe \nA consommer avec modération \nSource : Au fut & à mesure Salon\n\nIdées loisirs à pratiquer à Salon-de-Provence & pays salonais
URL:https://nostragenda.fr/sortie/aperomix-john-santi-au-fut-et-a-mesure-09-aout/
LOCATION:Au fut & à mesure\, 66 Boulevard Maréchal Foch\, Salon-de-Provence\, 13300\, France
CATEGORIES:Agenda,Soirées
ATTACH;FMTTYPE=image/jpeg:https://nostragenda.fr/wp-content/uploads/2024/08/aperomix-au-fut-Salon-John-Santi-agenda-soiree-Nostragenda.jpg
END:VEVENT
BEGIN:VEVENT
DTSTART;TZID=Europe/Paris:20240809T190000
DTEND;TZID=Europe/Paris:20240809T235500
DTSTAMP:20260422T044222
CREATED:20240807T164038Z
LAST-MODIFIED:20240807T164204Z
UID:36027-1723230000-1723247700@nostragenda.fr
SUMMARY:Apéro Mix Dj Flo Santiago - My Beers
DESCRIPTION:Apéro Mix Dj Flo Santiago – My Beers\n  \nVendredi 09 août 2024 \nà partir de 19h \nApéro Mix avec Dj Flo Santiago\nMy Beers Salon de Provence \nPlace Jules Morgan \nc’est apéro mix dans ton My Beers Salon \nSource : My Beers Salon de Provence
URL:https://nostragenda.fr/sortie/apero-mix-dj-flo-santiago-my-beers-09-aout/
LOCATION:My Beers\, Place Jules Morgan\, Salon-de-Provence\, 13300\, France
CATEGORIES:Agenda,Soirées
ATTACH;FMTTYPE=image/jpeg:https://nostragenda.fr/wp-content/uploads/2024/08/apero-mix-My-Beers-Salon-Dj-Flo-Santiago-soiree-Nostragenda-agenda-Place-Morgan-week-end.jpg
END:VEVENT
BEGIN:VEVENT
DTSTART;TZID=Europe/Paris:20240808T210000
DTEND;TZID=Europe/Paris:20240808T233000
DTSTAMP:20260422T044222
CREATED:20240808T064100Z
LAST-MODIFIED:20240808T064223Z
UID:36041-1723150800-1723159800@nostragenda.fr
SUMMARY:Les Jeudis du Quiet Man
DESCRIPTION:Les Jeudis du Quiet Man\n  \nJeudi 08 août 2024 \nà partir de 21h \n\n\n\nThe Quiet Man \nLes Jeudis du Quiet Man\n𝐬𝐨𝐢𝐫𝐞́𝐞 𝐋𝐚𝐭𝐢𝐧𝐨/𝐒𝐡𝐚𝐭𝐭𝐚/Afro\nDJ Ghiss \n𝐋’𝐚𝐛𝐮𝐬 𝐝’𝐚𝐥𝐜𝐨𝐨𝐥 𝐞𝐬𝐭 𝐝𝐚𝐧𝐠𝐞𝐫𝐞𝐮𝐱 𝐩𝐨𝐮𝐫 𝐥𝐚 𝐬𝐚𝐧𝐭e – 𝐜𝐨𝐧𝐬𝐨𝐦𝐦𝐞𝐳 𝐚𝐯𝐞𝐜 𝐦𝐨𝐝e𝐫𝐚𝐭𝐢𝐨𝐧 \nsource : The Quiet Man Salon de Provence\n\nIdées loisirs à pratiquer à Salon-de-Provence & pays salonais
URL:https://nostragenda.fr/sortie/les-jeudis-du-quiet-man-08-aout/
LOCATION:The Quiet Man\, 6 Allées de Craponne\, SALON-DE-PROVENCE\, 13300\, France
CATEGORIES:Agenda,Soirées
ATTACH;FMTTYPE=image/png:https://nostragenda.fr/wp-content/uploads/2024/08/08.08.png
END:VEVENT
BEGIN:VEVENT
DTSTART;TZID=Europe/Paris:20240803T213000
DTEND;TZID=Europe/Paris:20240803T233000
DTSTAMP:20260422T044222
CREATED:20240803T145542Z
LAST-MODIFIED:20240803T150246Z
UID:35988-1722720600-1722727800@nostragenda.fr
SUMMARY:Saturday Night Party - Quiet Man
DESCRIPTION:Saturday Night Party – Quiet Man\n  \nSamedi 03 août 2024 \n\nSoirée Saturday Night Party\navec DJ Denis C\nà partir de 21h30\n\n\nThe Quiet Man \n𝐋’𝐚𝐛𝐮𝐬 𝐝’𝐚𝐥𝐜𝐨𝐨𝐥 𝐞𝐬𝐭 𝐝𝐚𝐧𝐠𝐞𝐫𝐞𝐮𝐱 𝐩𝐨𝐮𝐫 𝐥𝐚 𝐬𝐚𝐧𝐭e – 𝐜𝐨𝐧𝐬𝐨𝐦𝐦𝐞𝐳 𝐚𝐯𝐞𝐜 𝐦𝐨𝐝e𝐫𝐚𝐭𝐢𝐨𝐧 \nsource : The Quiet Man Salon de Provence\n\nIdées loisirs à pratiquer à Salon-de-Provence & pays salonais
URL:https://nostragenda.fr/sortie/saturday-night-party-quiet-man-03-aout/
LOCATION:The Quiet Man\, 6 Allées de Craponne\, SALON-DE-PROVENCE\, 13300\, France
CATEGORIES:Agenda,Soirées
ATTACH;FMTTYPE=image/jpeg:https://nostragenda.fr/wp-content/uploads/2024/08/Soiree-DJ-Avec-Denis-C-The-Quiet-Man-Salon-agenda-soiree-Nostragenda.jpg
END:VEVENT
BEGIN:VEVENT
DTSTART;TZID=Europe/Paris:20240802T213000
DTEND;TZID=Europe/Paris:20240802T233000
DTSTAMP:20260422T044222
CREATED:20240802T163913Z
LAST-MODIFIED:20240802T164053Z
UID:35975-1722634200-1722641400@nostragenda.fr
SUMMARY:Friday Night Party - Quiet Man
DESCRIPTION:Friday Night Party – Quiet Man\n  \nVendredi 02 août 2024 \n𝐆𝐔𝐄𝐒𝐓 𝐃𝐉  à partir de 21h30 avec GHISS\n\nFriday Night Party –\nDJ – Quiet Man\nDrinks -Food – Beers – Cocktails – Shooters\n  \nà partir de 21h30 jusqu’à 2h \nThe Quiet Man \n𝐋’𝐚𝐛𝐮𝐬 𝐝’𝐚𝐥𝐜𝐨𝐨𝐥 𝐞𝐬𝐭 𝐝𝐚𝐧𝐠𝐞𝐫𝐞𝐮𝐱 𝐩𝐨𝐮𝐫 𝐥𝐚 𝐬𝐚𝐧𝐭e – 𝐜𝐨𝐧𝐬𝐨𝐦𝐦𝐞𝐳 𝐚𝐯𝐞𝐜 𝐦𝐨𝐝e𝐫𝐚𝐭𝐢𝐨𝐧 \nsource : The Quiet Man Salon de Provence
URL:https://nostragenda.fr/sortie/friday-night-party-quiet-man-02-aout/
LOCATION:The Quiet Man\, 6 Allées de Craponne\, SALON-DE-PROVENCE\, 13300\, France
CATEGORIES:Agenda,Soirées
ATTACH;FMTTYPE=image/jpeg:https://nostragenda.fr/wp-content/uploads/2024/08/friday-night-party-Quiet-Man-Salon-agenda-soiree-Nostragenda.jpg
END:VEVENT
BEGIN:VEVENT
DTSTART;TZID=Europe/Paris:20240802T190000
DTEND;TZID=Europe/Paris:20240802T235500
DTSTAMP:20260422T044222
CREATED:20240801T185500Z
LAST-MODIFIED:20240801T185528Z
UID:35960-1722625200-1722642900@nostragenda.fr
SUMMARY:Apéro Mix Dj Waalaaxx - My Beers
DESCRIPTION:Apéro Mix Dj Waalaaxx – My Beers\n  \nVendredi 02 août 2024 \nà partir de 19h \nApéro Mix avec Dj Waalaaxx\nMy Beers Salon de Provence \nPlace Jules Morgan \nc’est apéro mix dans ton My Beers Salon \nSource : My Beers Salon de Provence\n\n\nRubrique : Soirées c'est ici
URL:https://nostragenda.fr/sortie/apero-mix-dj-waalaaxx-my-beers/
LOCATION:My Beers\, Place Jules Morgan\, Salon-de-Provence\, 13300\, France
CATEGORIES:Agenda,Soirées
ATTACH;FMTTYPE=image/jpeg:https://nostragenda.fr/wp-content/uploads/2024/08/apero-mix-my-beers-Salon-Dj-Waalaaxx-Nostragenda-agenda-soiree-Morgan.jpg
END:VEVENT
BEGIN:VEVENT
DTSTART;TZID=Europe/Paris:20240727T213000
DTEND;TZID=Europe/Paris:20240727T233000
DTSTAMP:20260422T044222
CREATED:20240716T125533Z
LAST-MODIFIED:20240716T125614Z
UID:35800-1722115800-1722123000@nostragenda.fr
SUMMARY:Soirée Night Club Party - Quiet Man
DESCRIPTION:Soirée Night Club Party  – Quiet Man\n  \nSamedi 27 juillet 2024 \n\nNight Club Party\navec DJ Arucci\nà partir de 21h30\n\n\n\nThe Quiet Man\n𝐋’𝐚𝐛𝐮𝐬 𝐝’𝐚𝐥𝐜𝐨𝐨𝐥 𝐞𝐬𝐭 𝐝𝐚𝐧𝐠𝐞𝐫𝐞𝐮𝐱 𝐩𝐨𝐮𝐫 𝐥𝐚 𝐬𝐚𝐧𝐭e – 𝐜𝐨𝐧𝐬𝐨𝐦𝐦𝐞𝐳 𝐚𝐯𝐞𝐜 𝐦𝐨𝐝e𝐫𝐚𝐭𝐢𝐨𝐧 \nsource : The Quiet Man Salon de Provence\n\nRubrique : Soirées c'est ici
URL:https://nostragenda.fr/sortie/soiree-night-club-party-quiet-man-27-juillet/
LOCATION:The Quiet Man\, 6 Allées de Craponne\, SALON-DE-PROVENCE\, 13300\, France
CATEGORIES:Agenda,Soirées
ATTACH;FMTTYPE=image/png:https://nostragenda.fr/wp-content/uploads/2024/07/27.07.png
END:VEVENT
BEGIN:VEVENT
DTSTART;TZID=Europe/Paris:20240726T193000
DTEND;TZID=Europe/Paris:20240726T233000
DTSTAMP:20260422T044222
CREATED:20240716T130355Z
LAST-MODIFIED:20240716T130532Z
UID:35803-1722022200-1722036600@nostragenda.fr
SUMMARY:Animation Hypnose - Quiet Man
DESCRIPTION:Animation Hypnose – Quiet Man\n  \nVendredi 26 juillet 2024 \nà  partir de 19h30 \n\nThe Quiet Man\n\n\nAnimation Hypnose\n𝐏𝐥𝐨𝐧𝐠𝐞𝐳 𝐝𝐚𝐧𝐬 𝐮𝐧 𝐮𝐧𝐢𝐯𝐞𝐫𝐬 𝐟𝐚𝐬𝐜𝐢𝐧𝐚𝐧𝐭 𝐨𝐮̀ 𝐥𝐚 𝐦𝐚𝐠𝐢𝐞 𝐝𝐞 𝐥’𝐞𝐬𝐩𝐫𝐢𝐭 𝐨𝐩𝐞̀𝐫𝐞 𝐞𝐭 𝐨𝐮̀ 𝐥𝐞𝐬 𝐟𝐫𝐨𝐧𝐭𝐢𝐞̀𝐫𝐞𝐬 𝐞𝐧𝐭𝐫𝐞 𝐫𝐞́𝐚𝐥𝐢𝐭𝐞́ 𝐞𝐭 𝐢𝐦𝐚𝐠𝐢𝐧𝐚𝐭𝐢𝐨𝐧 𝐬’𝐞𝐬𝐭𝐨𝐦𝐩𝐞𝐧𝐭. \nAvec les Hypno’trip \nUne séance d’hypnose captivante animée par des professionnels expérimentés. \nDécouvrez les mystères de l’inconscient et laissez-vous emporter par des expériences uniques. \nDes démonstrations étonnantes qui vous feront voir la réalité sous un nouvel angle. \nQue vous soyez curieux de découvrir les pouvoirs de l’hypnose ou déjà adepte de cette pratique\, cette soirée est l’occasion parfaite de vivre une expérience hors du commun dans une ambiance conviviale et détendue. \nLaissez-vous guider par Franck\, Vénusia et Sauveur dans un voyage au cœur de votre esprit… \nà partir de 21h30 DJ Arucci\n  \n \n  \n  \n\n\n𝐋’𝐚𝐛𝐮𝐬 𝐝’𝐚𝐥𝐜𝐨𝐨𝐥 𝐞𝐬𝐭 𝐝𝐚𝐧𝐠𝐞𝐫𝐞𝐮𝐱 𝐩𝐨𝐮𝐫 𝐥𝐚 𝐬𝐚𝐧𝐭e – 𝐜𝐨𝐧𝐬𝐨𝐦𝐦𝐞𝐳 𝐚𝐯𝐞𝐜 𝐦𝐨𝐝e𝐫𝐚𝐭𝐢𝐨𝐧 \nsource : The Quiet Man Salon de Provence\n\nRubrique : Soirées c'est ici
URL:https://nostragenda.fr/sortie/animation-hypnose-quiet-man-26-juillet/
LOCATION:The Quiet Man\, 6 Allées de Craponne\, SALON-DE-PROVENCE\, 13300\, France
CATEGORIES:Agenda,Soirées
ATTACH;FMTTYPE=image/png:https://nostragenda.fr/wp-content/uploads/2024/07/26.07.24.png
END:VEVENT
BEGIN:VEVENT
DTSTART;TZID=Europe/Paris:20240726T190000
DTEND;TZID=Europe/Paris:20240726T235500
DTSTAMP:20260422T044222
CREATED:20240718T062448Z
LAST-MODIFIED:20240718T062538Z
UID:35917-1722020400-1722038100@nostragenda.fr
SUMMARY:Rose Party - My Beers
DESCRIPTION:Rose Party – My Beers\n  \nVendredi 26 juillet 2024 \nà partir de 19h \nGarden Party avec DJ Thérèse dès 19H\nMy Beers Salon de Provence \nPlace Jules Morgan \nAu programme :\n– Dress code : tous en rose – Bar extérieur– Bar entièrement décoré– Cocktail rose à la bière – Dj Thérèse aux platines– 1 bouteille de rosé achetée = 1 saucisson offert– 1 bon d’achat à l’auberge de beauté à gagner\ndans ton My Beers Salon \nSource : My Beers Salon de Provence
URL:https://nostragenda.fr/sortie/rose-party-my-beers/
LOCATION:My Beers\, Place Jules Morgan\, Salon-de-Provence\, 13300\, France
CATEGORIES:Agenda,Soirées
ATTACH;FMTTYPE=image/jpeg:https://nostragenda.fr/wp-content/uploads/2024/07/Rose-party-My-beers-Salon-agenda-Nostragenda-soiree-Place-Morgan.jpg
END:VEVENT
BEGIN:VEVENT
DTSTART;TZID=Europe/Paris:20240726T190000
DTEND;TZID=Europe/Paris:20240726T233000
DTSTAMP:20260422T044222
CREATED:20240726T062016Z
LAST-MODIFIED:20240726T062128Z
UID:35939-1722020400-1722036600@nostragenda.fr
SUMMARY:Les apéros jaunes
DESCRIPTION:Les apéros jaunes\nAu Fut et à Mesure/BDLP\n  \nVendredi 26 juillet 2024 \nà partir de 19h \n\n\nDJ et comptoir extérieur \ndelcampo_ema\n& smnbtg\n  \nLes apéros jaunes\nmets ton plus beau t-shirt jaune\n\n\nRestauration sur place\nfoodtruck by @chezfloo13450\n\n\n\n\nL’abus d’alcool est dangereux pour la santé.\nA consommer avec modération.\nSource : Au fut & à mesure Salon / BDLP
URL:https://nostragenda.fr/sortie/les-aperos-jaunes/
LOCATION:Au fut & à mesure / BDLP\, Bd Foch\, SALON-DE-PROVENCE\, SALON-DE-PROVENCE\, 13300\, France
CATEGORIES:Agenda,Soirées
ATTACH;FMTTYPE=image/jpeg:https://nostragenda.fr/wp-content/uploads/2024/07/Les-Aperos-Jaunes-BDLP-AU-FUT-Salon-agenda-soirees-Nostragenda-Morgan.jpg
END:VEVENT
BEGIN:VEVENT
DTSTART;TZID=Europe/Paris:20240725T210000
DTEND;TZID=Europe/Paris:20240725T233000
DTSTAMP:20260422T044222
CREATED:20240709T052507Z
LAST-MODIFIED:20240709T052851Z
UID:35710-1721941200-1721950200@nostragenda.fr
SUMMARY:Les Jeudis du Quiet Man
DESCRIPTION:Les Jeudis du Quiet Man\n  \nJeudi 25 juillet 2024 \nà partir de 21h \n\n\n\nThe Quiet Man \nLes Jeudis du Quiet Man\n𝐮𝐧𝐞 𝐬𝐨𝐢𝐫𝐞́𝐞 𝐋𝐚𝐭𝐢𝐧𝐨/𝐒𝐡𝐚𝐭𝐭𝐚\nMicou sound system \n𝐋’𝐚𝐛𝐮𝐬 𝐝’𝐚𝐥𝐜𝐨𝐨𝐥 𝐞𝐬𝐭 𝐝𝐚𝐧𝐠𝐞𝐫𝐞𝐮𝐱 𝐩𝐨𝐮𝐫 𝐥𝐚 𝐬𝐚𝐧𝐭e – 𝐜𝐨𝐧𝐬𝐨𝐦𝐦𝐞𝐳 𝐚𝐯𝐞𝐜 𝐦𝐨𝐝e𝐫𝐚𝐭𝐢𝐨𝐧 \nsource : The Quiet Man Salon de Provence\n\nIdées loisirs à pratiquer à Salon-de-Provence & pays salonais
URL:https://nostragenda.fr/sortie/les-jeudis-du-quiet-man-25-juillet/
LOCATION:The Quiet Man\, 6 Allées de Craponne\, SALON-DE-PROVENCE\, 13300\, France
CATEGORIES:Agenda,Soirées
ATTACH;FMTTYPE=image/png:https://nostragenda.fr/wp-content/uploads/2024/07/25.07.png
END:VEVENT
BEGIN:VEVENT
DTSTART;TZID=Europe/Paris:20240720T213000
DTEND;TZID=Europe/Paris:20240720T233000
DTSTAMP:20260422T044222
CREATED:20240716T125025Z
LAST-MODIFIED:20240716T125150Z
UID:35797-1721511000-1721518200@nostragenda.fr
SUMMARY:Soirée Night Club Party - Quiet Man
DESCRIPTION:Soirée Night Club Party  – Quiet Man\n  \nSamedi 20 juillet 2024 \n\nNight Club Party\navec DJ Arucci\nà partir de 21h30\n\n\n\nThe Quiet Man\n𝐋’𝐚𝐛𝐮𝐬 𝐝’𝐚𝐥𝐜𝐨𝐨𝐥 𝐞𝐬𝐭 𝐝𝐚𝐧𝐠𝐞𝐫𝐞𝐮𝐱 𝐩𝐨𝐮𝐫 𝐥𝐚 𝐬𝐚𝐧𝐭e – 𝐜𝐨𝐧𝐬𝐨𝐦𝐦𝐞𝐳 𝐚𝐯𝐞𝐜 𝐦𝐨𝐝e𝐫𝐚𝐭𝐢𝐨𝐧 \nsource : The Quiet Man Salon de Provence\n\nRubrique : Soirées c'est ici
URL:https://nostragenda.fr/sortie/soiree-night-club-party-quiet-man-20-juillet/
LOCATION:The Quiet Man\, 6 Allées de Craponne\, SALON-DE-PROVENCE\, 13300\, France
CATEGORIES:Agenda,Soirées
ATTACH;FMTTYPE=image/png:https://nostragenda.fr/wp-content/uploads/2024/07/20.07.png
END:VEVENT
BEGIN:VEVENT
DTSTART;TZID=Europe/Paris:20240719T190000
DTEND;TZID=Europe/Paris:20240719T235500
DTSTAMP:20260422T044222
CREATED:20240716T175327Z
LAST-MODIFIED:20240716T175610Z
UID:35830-1721415600-1721433300@nostragenda.fr
SUMMARY:Apéro Mix Dj Kev Lavigne - My Beers
DESCRIPTION:Apéro Mix Dj Kev Lavigne – My Beers\n  \nVendredi 19 juillet 2024 \nà partir de 19h \nApéro Mix avec Dj Kev Lavigne\nMy Beers Salon de Provence \nPlace Jules Morgan \nc’est apéro mix dans ton My Beers Salon \nSource : My Beers Salon de Provence\n\n\nRubrique : Soirées c'est ici
URL:https://nostragenda.fr/sortie/apero-mix-dj-kev-lavigne-my-beers-19-juillet/
LOCATION:My Beers\, Place Jules Morgan\, Salon-de-Provence\, 13300\, France
CATEGORIES:Agenda,Soirées
ATTACH;FMTTYPE=image/jpeg:https://nostragenda.fr/wp-content/uploads/2024/07/apero-mix-My-Beers-Salon-agenda-soiree-Place-Morgan-Nostragenda.jpg
END:VEVENT
BEGIN:VEVENT
DTSTART;TZID=Europe/Paris:20240719T190000
DTEND;TZID=Europe/Paris:20240719T233000
DTSTAMP:20260422T044222
CREATED:20240716T124309Z
LAST-MODIFIED:20240716T124435Z
UID:35792-1721415600-1721431800@nostragenda.fr
SUMMARY:Soirée Piano & chant - Quiet Man
DESCRIPTION:Soirée Piano & chant – Quiet Man\n  \nVendredi 19 juillet 2024 \nà partir de 19h \n\nThe Quiet Man\n\n\n\nSoirée Piano & chant\nVenez profiter d’une soirée envoûtante avec un chanteur pianiste talentueux qui vous feront voyager à travers les plus belles mélodies lounge\, pop et rock. \nQue vous soyez fan de balades douces ou de rythmes entraînants\, notre sélection musicale saura ravir tous les goûts. \n\n\n\nà partir de 21h30\n𝐮𝐧𝐞 𝐬𝐨𝐢𝐫𝐞́𝐞 Dj NAGINI\n  \n \n  \n𝐋’𝐚𝐛𝐮𝐬 𝐝’𝐚𝐥𝐜𝐨𝐨𝐥 𝐞𝐬𝐭 𝐝𝐚𝐧𝐠𝐞𝐫𝐞𝐮𝐱 𝐩𝐨𝐮𝐫 𝐥𝐚 𝐬𝐚𝐧𝐭e – 𝐜𝐨𝐧𝐬𝐨𝐦𝐦𝐞𝐳 𝐚𝐯𝐞𝐜 𝐦𝐨𝐝e𝐫𝐚𝐭𝐢𝐨𝐧 \nsource : The Quiet Man Salon de Provence\n\nRubrique : Soirées c'est ici
URL:https://nostragenda.fr/sortie/soiree-piano-chant-quiet-man-19-juillet/
LOCATION:The Quiet Man\, 6 Allées de Craponne\, SALON-DE-PROVENCE\, 13300\, France
CATEGORIES:Agenda,Concerts,Soirées
ATTACH;FMTTYPE=image/png:https://nostragenda.fr/wp-content/uploads/2024/07/019.07.24.png
END:VEVENT
BEGIN:VEVENT
DTSTART;TZID=Europe/Paris:20240718T210000
DTEND;TZID=Europe/Paris:20240718T233000
DTSTAMP:20260422T044222
CREATED:20240709T052149Z
LAST-MODIFIED:20240709T052227Z
UID:35707-1721336400-1721345400@nostragenda.fr
SUMMARY:Les Jeudis du Quiet Man
DESCRIPTION:Les Jeudis du Quiet Man\n  \nJeudi 18 juillet 2024 \nà partir de 21h \n\n\n\nThe Quiet Man \nLes Jeudis du Quiet Man\n𝐮𝐧𝐞 𝐬𝐨𝐢𝐫𝐞́𝐞 𝐋𝐚𝐭𝐢𝐧𝐨/𝐒𝐡𝐚𝐭𝐭𝐚\nMicou sound system \n𝐋’𝐚𝐛𝐮𝐬 𝐝’𝐚𝐥𝐜𝐨𝐨𝐥 𝐞𝐬𝐭 𝐝𝐚𝐧𝐠𝐞𝐫𝐞𝐮𝐱 𝐩𝐨𝐮𝐫 𝐥𝐚 𝐬𝐚𝐧𝐭e – 𝐜𝐨𝐧𝐬𝐨𝐦𝐦𝐞𝐳 𝐚𝐯𝐞𝐜 𝐦𝐨𝐝e𝐫𝐚𝐭𝐢𝐨𝐧 \nsource : The Quiet Man Salon de Provence\n\nIdées loisirs à pratiquer à Salon-de-Provence & pays salonais
URL:https://nostragenda.fr/sortie/les-jeudis-du-quiet-man-18-juillet/
LOCATION:The Quiet Man\, 6 Allées de Craponne\, SALON-DE-PROVENCE\, 13300\, France
CATEGORIES:Agenda,Soirées
ATTACH;FMTTYPE=image/png:https://nostragenda.fr/wp-content/uploads/2024/07/18.07.png
END:VEVENT
BEGIN:VEVENT
DTSTART;TZID=Europe/Paris:20240718T183000
DTEND;TZID=Europe/Paris:20240718T223000
DTSTAMP:20260422T044222
CREATED:20240622T061533Z
LAST-MODIFIED:20240622T061615Z
UID:35483-1721327400-1721341800@nostragenda.fr
SUMMARY:Les soirées en terrasse - Au Bureau
DESCRIPTION:Les soirées en terrasse – Au Bureau\nJeudi 18 juillet 2024 \nde 18h30 à 22h30 \nDJ Kamel \nAu bureau Salon de Provence \nRéservation et informations par téléphone au 04 90 56 27 45\n\n\n\nL’abus d’alcool est dangereux pour la santé. A consommer avec modération.\nSource : Au Bureau Salon de Provence\n\nIdées loisirs à pratiquer à Salon-de-Provence & pays salonais
URL:https://nostragenda.fr/sortie/les-soirees-en-terrasse-au-bureau-18-juillet/
LOCATION:Au Bureau\, Place des Centuries\, SALON-DE-PROVENCE\, 13300\, France
CATEGORIES:Agenda,Soirées
ATTACH;FMTTYPE=image/jpeg:https://nostragenda.fr/wp-content/uploads/2024/05/les-jeudis-soirs-dj-kamel-au-bureau-salon-agenda-soirees-Nostragenda.jpg
END:VEVENT
BEGIN:VEVENT
DTSTART;TZID=Europe/Paris:20240713T213000
DTEND;TZID=Europe/Paris:20240713T233000
DTSTAMP:20260422T044222
CREATED:20240709T051653Z
LAST-MODIFIED:20240709T051813Z
UID:35703-1720906200-1720913400@nostragenda.fr
SUMMARY:Soirée Night Club Party - Quiet Man
DESCRIPTION:Soirée Night Club Party  – Quiet Man\n  \nSamedi 13 juillet 2024 \n\nNight Club Party\navec DJ Arucci\nà partir de 21h30\n\n\n\nThe Quiet Man\n𝐋’𝐚𝐛𝐮𝐬 𝐝’𝐚𝐥𝐜𝐨𝐨𝐥 𝐞𝐬𝐭 𝐝𝐚𝐧𝐠𝐞𝐫𝐞𝐮𝐱 𝐩𝐨𝐮𝐫 𝐥𝐚 𝐬𝐚𝐧𝐭e – 𝐜𝐨𝐧𝐬𝐨𝐦𝐦𝐞𝐳 𝐚𝐯𝐞𝐜 𝐦𝐨𝐝e𝐫𝐚𝐭𝐢𝐨𝐧 \nsource : The Quiet Man Salon de Provence\n\nRubrique : Soirées c'est ici
URL:https://nostragenda.fr/sortie/soiree-night-club-party-quiet-man-13-juillet/
LOCATION:The Quiet Man\, 6 Allées de Craponne\, SALON-DE-PROVENCE\, 13300\, France
CATEGORIES:Agenda,Soirées
ATTACH;FMTTYPE=image/png:https://nostragenda.fr/wp-content/uploads/2024/07/13.07.png
END:VEVENT
BEGIN:VEVENT
DTSTART;TZID=Europe/Paris:20240713T200000
DTEND;TZID=Europe/Paris:20240713T235500
DTSTAMP:20260422T044222
CREATED:20240711T055916Z
LAST-MODIFIED:20240711T060148Z
UID:35733-1720900800-1720914900@nostragenda.fr
SUMMARY:Soirée Années 80 - Le Réconfort
DESCRIPTION:Soirée Années 80\n  \nSamedi 13 juillet 2024 \nà partir de 20h \nau réconfort \nRéservations : 04 90 45 86 95 \nVenez danser sur des rythmes des années 80 à aujourd’hui. \n \n\n\n\n\n\n\n\nsource : Le réconfortIdées loisirs à pratiquer à Salon-de-Provence & pays salonais
URL:https://nostragenda.fr/sortie/soiree-annees-80-le-reconfort-13-juillet/
LOCATION:Le réconfort\, Piscine Municipale Avenue Paul Bourret\, salon-de-provence\, 13300\, France
CATEGORIES:Agenda,Soirées
ATTACH;FMTTYPE=image/jpeg:https://nostragenda.fr/wp-content/uploads/2024/07/soiree-annee-80-le-reconfort-agenda-soiree-Nostragenda-Piscine-municipale-Salon.jpg
END:VEVENT
BEGIN:VEVENT
DTSTART;TZID=Europe/Paris:20240712T210000
DTEND;TZID=Europe/Paris:20240712T233000
DTSTAMP:20260422T044222
CREATED:20240709T051052Z
LAST-MODIFIED:20240709T051234Z
UID:35699-1720818000-1720827000@nostragenda.fr
SUMMARY:Soirée DJ Nagini - Quiet Man
DESCRIPTION:Soirée DJ Nagini – Quiet Man\n  \nVendredi 12 juillet 2024 \nSoirée DJ Nagini – Night Music \n\nà partir de 21h30\n\n\nThe Quiet Man \n𝐋’𝐚𝐛𝐮𝐬 𝐝’𝐚𝐥𝐜𝐨𝐨𝐥 𝐞𝐬𝐭 𝐝𝐚𝐧𝐠𝐞𝐫𝐞𝐮𝐱 𝐩𝐨𝐮𝐫 𝐥𝐚 𝐬𝐚𝐧𝐭e – 𝐜𝐨𝐧𝐬𝐨𝐦𝐦𝐞𝐳 𝐚𝐯𝐞𝐜 𝐦𝐨𝐝e𝐫𝐚𝐭𝐢𝐨𝐧 \nsource : The Quiet Man Salon de Provence\n\nRubrique : Soirées c'est ici
URL:https://nostragenda.fr/sortie/soiree-dj-nagini-quiet-man-12-juillet/
LOCATION:The Quiet Man\, 6 Allées de Craponne\, SALON-DE-PROVENCE\, 13300\, France
CATEGORIES:Agenda,Soirées
ATTACH;FMTTYPE=image/png:https://nostragenda.fr/wp-content/uploads/2024/07/12.07.png
END:VEVENT
BEGIN:VEVENT
DTSTART;TZID=Europe/Paris:20240712T190000
DTEND;TZID=Europe/Paris:20240712T235500
DTSTAMP:20260422T044222
CREATED:20240711T053251Z
LAST-MODIFIED:20240711T053335Z
UID:35727-1720810800-1720828500@nostragenda.fr
SUMMARY:Apéro Mix - My Beers
DESCRIPTION:Apéro Mix – My Beers\n  \nVendredi 12 juillet 2024 \nà partir de 19h \nApéro Mix avec DJ Krispiz\nMy Beers Salon de Provence \nPlace Jules Morgan \nc’est apéro mix dans ton My Beers Salon \nSource : My Beers Salon de Provence
URL:https://nostragenda.fr/sortie/apero-mix-my-beers-12-juillet/
LOCATION:My Beers\, Place Jules Morgan\, Salon-de-Provence\, 13300\, France
CATEGORIES:Agenda,Soirées
ATTACH;FMTTYPE=image/jpeg:https://nostragenda.fr/wp-content/uploads/2024/07/apero-mix-Dj-Krispiz-My-Beers-Salon-Nostragenda-Soirees-Sorties-Morgan.jpg
END:VEVENT
BEGIN:VEVENT
DTSTART;TZID=Europe/Paris:20240711T190000
DTEND;TZID=Europe/Paris:20240711T233000
DTSTAMP:20260422T044222
CREATED:20240709T050253Z
LAST-MODIFIED:20240709T050558Z
UID:35694-1720724400-1720740600@nostragenda.fr
SUMMARY:𝐀𝐩𝐞́𝐫𝐨 𝐂𝐨𝐧𝐜𝐞𝐫𝐭 - Quiet Man
DESCRIPTION:𝐀𝐩𝐞́𝐫𝐨 𝐂𝐨𝐧𝐜𝐞𝐫𝐭 – Quiet Man\n  \nJeudi 11 juillet 2024 \nà partir de 19h \n\nThe Quiet Man\n\n\n\n𝐀𝐩𝐞́𝐫𝐨 𝐂𝐨𝐧𝐜𝐞𝐫𝐭 avec US Pop Rock\npop rock en duo \n\n\n\nLes Jeudis du Quiet Man à partir de 21h30\n𝐮𝐧𝐞 𝐬𝐨𝐢𝐫𝐞́𝐞 𝐋𝐚𝐭𝐢𝐧𝐨/𝐒𝐡𝐚𝐭𝐭𝐚\nMicou sound system \n \n  \n𝐋’𝐚𝐛𝐮𝐬 𝐝’𝐚𝐥𝐜𝐨𝐨𝐥 𝐞𝐬𝐭 𝐝𝐚𝐧𝐠𝐞𝐫𝐞𝐮𝐱 𝐩𝐨𝐮𝐫 𝐥𝐚 𝐬𝐚𝐧𝐭e – 𝐜𝐨𝐧𝐬𝐨𝐦𝐦𝐞𝐳 𝐚𝐯𝐞𝐜 𝐦𝐨𝐝e𝐫𝐚𝐭𝐢𝐨𝐧 \nsource : The Quiet Man Salon de Provence\n\nRubrique : Soirées c'est ici
URL:https://nostragenda.fr/sortie/%f0%9d%90%80%f0%9d%90%a9%f0%9d%90%9e%f0%9d%90%ab%f0%9d%90%a8-%f0%9d%90%82%f0%9d%90%a8%f0%9d%90%a7%f0%9d%90%9c%f0%9d%90%9e%f0%9d%90%ab%f0%9d%90%ad-quiet-man/
LOCATION:The Quiet Man\, 6 Allées de Craponne\, SALON-DE-PROVENCE\, 13300\, France
CATEGORIES:Agenda,Concerts,Soirées
ATTACH;FMTTYPE=image/png:https://nostragenda.fr/wp-content/uploads/2024/07/11.07.2024.png
END:VEVENT
BEGIN:VEVENT
DTSTART;TZID=Europe/Paris:20240707T183000
DTEND;TZID=Europe/Paris:20240707T223000
DTSTAMP:20260422T044222
CREATED:20240620T053610Z
LAST-MODIFIED:20240624T052044Z
UID:35470-1720377000-1720391400@nostragenda.fr
SUMMARY:Soirée Old School - Food Truck
DESCRIPTION:Soirée Old School – Food Truck\n  \nTous les dimanches soirs \nde 18h30 à 22h30 \nSoirée Old School by le Food Truck\navec DJ Kamel\n  \nRéservation et informations par téléphone au 09 51 07 44 13 \nsource : Restaurant Le Food Truck\n\nRubrique : Soirées c'est ici
URL:https://nostragenda.fr/sortie/soiree-old-school-food-truck-07-juillet/
LOCATION:Food Truck\, Place des Centuries\, SALON-DE-PROVENCE\, SALON-DE-PROVENCE\, 13300\, France
CATEGORIES:Agenda,Soirées
ATTACH;FMTTYPE=image/jpeg:https://nostragenda.fr/wp-content/uploads/2024/05/old-school-by-the-food-truck-agenda-soirees-Salon-Nostragenda-bons-plans.jpg
END:VEVENT
END:VCALENDAR