BEGIN:VCALENDAR
VERSION:2.0
PRODID:-//Nostragenda : Sorties &amp; Loisirs sur Salon-de-Provence  - Agenda - ECPv6.15.20//NONSGML v1.0//EN
CALSCALE:GREGORIAN
METHOD:PUBLISH
X-ORIGINAL-URL:https://nostragenda.fr
X-WR-CALDESC:Évènements pour Nostragenda : Sorties &amp; Loisirs sur Salon-de-Provence  - Agenda
REFRESH-INTERVAL;VALUE=DURATION:PT1H
X-Robots-Tag:noindex
X-PUBLISHED-TTL:PT1H
BEGIN:VTIMEZONE
TZID:Europe/Paris
BEGIN:DAYLIGHT
TZOFFSETFROM:+0100
TZOFFSETTO:+0200
TZNAME:CEST
DTSTART:20230326T010000
END:DAYLIGHT
BEGIN:STANDARD
TZOFFSETFROM:+0200
TZOFFSETTO:+0100
TZNAME:CET
DTSTART:20231029T010000
END:STANDARD
BEGIN:DAYLIGHT
TZOFFSETFROM:+0100
TZOFFSETTO:+0200
TZNAME:CEST
DTSTART:20240331T010000
END:DAYLIGHT
BEGIN:STANDARD
TZOFFSETFROM:+0200
TZOFFSETTO:+0100
TZNAME:CET
DTSTART:20241027T010000
END:STANDARD
BEGIN:DAYLIGHT
TZOFFSETFROM:+0100
TZOFFSETTO:+0200
TZNAME:CEST
DTSTART:20250330T010000
END:DAYLIGHT
BEGIN:STANDARD
TZOFFSETFROM:+0200
TZOFFSETTO:+0100
TZNAME:CET
DTSTART:20251026T010000
END:STANDARD
END:VTIMEZONE
BEGIN:VEVENT
DTSTART;TZID=Europe/Paris:20240921T213000
DTEND;TZID=Europe/Paris:20240921T233000
DTSTAMP:20260421T234552
CREATED:20240917T055559Z
LAST-MODIFIED:20240917T055712Z
UID:36539-1726954200-1726961400@nostragenda.fr
SUMMARY:Soirée Night Club Party - Quiet Man
DESCRIPTION:Soirée Night Club Party  – Quiet Man\n  \nSamedi 21 septembre 2024 \n\nNight Club Party\navec DJ Arucci\nà partir de 21h30\n\n\n\nThe Quiet Man\n𝐋’𝐚𝐛𝐮𝐬 𝐝’𝐚𝐥𝐜𝐨𝐨𝐥 𝐞𝐬𝐭 𝐝𝐚𝐧𝐠𝐞𝐫𝐞𝐮𝐱 𝐩𝐨𝐮𝐫 𝐥𝐚 𝐬𝐚𝐧𝐭e – 𝐜𝐨𝐧𝐬𝐨𝐦𝐦𝐞𝐳 𝐚𝐯𝐞𝐜 𝐦𝐨𝐝e𝐫𝐚𝐭𝐢𝐨𝐧 \nsource : The Quiet Man Salon de Provence\n\nRubrique : Soirées c'est ici
URL:https://nostragenda.fr/sortie/soiree-night-club-party-quiet-man-21-septembre/
LOCATION:The Quiet Man\, 6 Allées de Craponne\, SALON-DE-PROVENCE\, 13300\, France
CATEGORIES:Agenda,Soirées
ATTACH;FMTTYPE=image/png:https://nostragenda.fr/wp-content/uploads/2024/09/21.09.png
END:VEVENT
BEGIN:VEVENT
DTSTART;TZID=Europe/Paris:20240920T213000
DTEND;TZID=Europe/Paris:20240920T233000
DTSTAMP:20260421T234552
CREATED:20240917T054913Z
LAST-MODIFIED:20240917T054952Z
UID:36536-1726867800-1726875000@nostragenda.fr
SUMMARY:Friday Night Party - Quiet Man
DESCRIPTION:Friday Night Party – Quiet Man\n  \nVendredi 20 septembre 2024 \n\nSoirée Friday Night Party\navec DJ Denis C\nà partir de 21h30\n\n\nThe Quiet Man \n𝐋’𝐚𝐛𝐮𝐬 𝐝’𝐚𝐥𝐜𝐨𝐨𝐥 𝐞𝐬𝐭 𝐝𝐚𝐧𝐠𝐞𝐫𝐞𝐮𝐱 𝐩𝐨𝐮𝐫 𝐥𝐚 𝐬𝐚𝐧𝐭e – 𝐜𝐨𝐧𝐬𝐨𝐦𝐦𝐞𝐳 𝐚𝐯𝐞𝐜 𝐦𝐨𝐝e𝐫𝐚𝐭𝐢𝐨𝐧 \nsource : The Quiet Man Salon de Provence\n\nIdées loisirs à pratiquer à Salon-de-Provence & pays salonais
URL:https://nostragenda.fr/sortie/friday-night-party-quiet-man-20-septembre/
LOCATION:The Quiet Man\, 6 Allées de Craponne\, SALON-DE-PROVENCE\, 13300\, France
CATEGORIES:Agenda,Soirées
ATTACH;FMTTYPE=image/png:https://nostragenda.fr/wp-content/uploads/2024/09/20.09.png
END:VEVENT
BEGIN:VEVENT
DTSTART;TZID=Europe/Paris:20240920T200000
DTEND;TZID=Europe/Paris:20240920T233000
DTSTAMP:20260421T234552
CREATED:20240920T061913Z
LAST-MODIFIED:20240920T062106Z
UID:36564-1726862400-1726875000@nostragenda.fr
SUMMARY:Apéromix Alex Millo - Au Fut
DESCRIPTION:Apéromix Alex Millo – Au Fut\n  \nVendredi 20 septembre 2024 \nà partir de 20h \nDJ Alex Millo\n\nc’est au Fût que ça se passe \nl’abus d’alcool est dangereux pour la santé \, A consommer avec modération \nSource : Au fut & à mesure Salon\n\nAgenda * Aujourd'hui
URL:https://nostragenda.fr/sortie/aperomix-alex-millo-au-fut/
LOCATION:Au fut & à mesure\, 66 Boulevard Maréchal Foch\, Salon-de-Provence\, 13300\, France
CATEGORIES:Agenda,Soirées
ATTACH;FMTTYPE=image/jpeg:https://nostragenda.fr/wp-content/uploads/2024/09/aperomx-alexis-millo-au-fut-Salon-agenda-Nostragenda-soiree-Morgan.jpg
END:VEVENT
BEGIN:VEVENT
DTSTART;TZID=Europe/Paris:20240920T190000
DTEND;TZID=Europe/Paris:20240920T233000
DTSTAMP:20260421T234552
CREATED:20230913T051505Z
LAST-MODIFIED:20240910T041229Z
UID:14638-1726858800-1726875000@nostragenda.fr
SUMMARY:La Féria du My Beers
DESCRIPTION:La Féria du My Beers\n  \nVendredi 20 septembre 2024 \nà partir de 19h \nMy Beers Salon \nLa Féria du My Beers\nAu programme : Dj – Dress code rouge et blanc – Paquito – Cadeaux à gagner – Taureau mécanique – Distribution de bandanas My Beers – Sangria\n  \nPena Camargua – DJ Totoff\n  \nvotre My Beers Salon devient Bayonne le temps d’une soirée mémorable \nFin de service à 1h \n  \nsource My Beers Salon de Provence\n\nRubrique : Soirées c'est ici
URL:https://nostragenda.fr/sortie/la-feria-du-my-beers/
LOCATION:My Beers\, Place Jules Morgan\, Salon-de-Provence\, 13300\, France
CATEGORIES:Agenda,Animations,Soirées
ATTACH;FMTTYPE=image/jpeg:https://nostragenda.fr/wp-content/uploads/2023/09/feria-du-my-beers-Salon-de-Provence-agenda-soiree-Nostragenda-Place-Morgan.jpg
END:VEVENT
BEGIN:VEVENT
DTSTART;TZID=Europe/Paris:20240919T193000
DTEND;TZID=Europe/Paris:20240919T233000
DTSTAMP:20260421T234552
CREATED:20240808T095734Z
LAST-MODIFIED:20240919T052108Z
UID:36066-1726774200-1726788600@nostragenda.fr
SUMMARY:Time Machine - Bahia
DESCRIPTION:Time Machine – Bahia\n  \nJeudi 19 septembre 2024 \nà partir de 19h30 \n\n\nTime Machine Musicale avec\nMike And Tess et Nicus The Disrupt\ndes années 70 aux années 2000\,\navec un changement de décennie chaque heure\n  \n\n\n\nBahia Salon de Provence\n\n\nRoute de la Garenne\, 13300 Salon de Provence\nRéservations Conseillées :  06 40 93 26 38\nSource : Bahia_salon\n\n\nIdées loisirs à pratiquer à Salon-de-Provence & pays salonais\n\n 
URL:https://nostragenda.fr/sortie/time-machine-bahia/
LOCATION:Bahia\, Route de la Garenne\, SALON-DE-PROVENCE\, Select a State:\, 13300\, France
CATEGORIES:Agenda,Soirées
ATTACH;FMTTYPE=image/jpeg:https://nostragenda.fr/wp-content/uploads/2024/08/time-machine-bahia-salon-agenda-soirees-Nostragenda.jpg
END:VEVENT
BEGIN:VEVENT
DTSTART;TZID=Europe/Paris:20240914T213000
DTEND;TZID=Europe/Paris:20240914T233000
DTSTAMP:20260421T234552
CREATED:20240914T060959Z
LAST-MODIFIED:20240914T061108Z
UID:36508-1726349400-1726356600@nostragenda.fr
SUMMARY:Saturday Night Party - Quiet Man
DESCRIPTION:Saturday Night Party – Quiet Man\n  \nSamedi 14 septembre 2024 \n\nSoirée Saturday Night Party\nWarm up by Lucas\navec DJ Chris Ka\nà partir de 21h30\n\n\nThe Quiet Man \n \n𝐋’𝐚𝐛𝐮𝐬 𝐝’𝐚𝐥𝐜𝐨𝐨𝐥 𝐞𝐬𝐭 𝐝𝐚𝐧𝐠𝐞𝐫𝐞𝐮𝐱 𝐩𝐨𝐮𝐫 𝐥𝐚 𝐬𝐚𝐧𝐭e – 𝐜𝐨𝐧𝐬𝐨𝐦𝐦𝐞𝐳 𝐚𝐯𝐞𝐜 𝐦𝐨𝐝e𝐫𝐚𝐭𝐢𝐨𝐧 \nsource : The Quiet Man Salon de Provence\n\nIdées loisirs à pratiquer à Salon-de-Provence & pays salonais
URL:https://nostragenda.fr/sortie/saturday-night-party-quiet-man-14-septembre/
LOCATION:The Quiet Man\, 6 Allées de Craponne\, SALON-DE-PROVENCE\, 13300\, France
CATEGORIES:Agenda,Soirées
ATTACH;FMTTYPE=image/png:https://nostragenda.fr/wp-content/uploads/2024/09/14.09.png
END:VEVENT
BEGIN:VEVENT
DTSTART;TZID=Europe/Paris:20240913T210000
DTEND;TZID=Europe/Paris:20240913T233000
DTSTAMP:20260421T234552
CREATED:20240910T042522Z
LAST-MODIFIED:20240910T042700Z
UID:36458-1726261200-1726270200@nostragenda.fr
SUMMARY:Soirée DJ Nagini - Quiet Man
DESCRIPTION:Soirée DJ Nagini – Quiet Man\n  \nVendredi 13 septembre 2024 \nSoirée Night Music DJ Nagini \n\nà partir de 21h30\n\n\nThe Quiet Man \n𝐋’𝐚𝐛𝐮𝐬 𝐝’𝐚𝐥𝐜𝐨𝐨𝐥 𝐞𝐬𝐭 𝐝𝐚𝐧𝐠𝐞𝐫𝐞𝐮𝐱 𝐩𝐨𝐮𝐫 𝐥𝐚 𝐬𝐚𝐧𝐭e – 𝐜𝐨𝐧𝐬𝐨𝐦𝐦𝐞𝐳 𝐚𝐯𝐞𝐜 𝐦𝐨𝐝e𝐫𝐚𝐭𝐢𝐨𝐧 \nsource : The Quiet Man Salon de Provence\n\nRubrique : Soirées c'est ici
URL:https://nostragenda.fr/sortie/soiree-dj-nagini-quiet-man-13-septembre/
LOCATION:The Quiet Man\, 6 Allées de Craponne\, SALON-DE-PROVENCE\, 13300\, France
CATEGORIES:Agenda,Soirées
ATTACH;FMTTYPE=image/png:https://nostragenda.fr/wp-content/uploads/2024/09/13.09.png
END:VEVENT
BEGIN:VEVENT
DTSTART;TZID=Europe/Paris:20240913T190000
DTEND;TZID=Europe/Paris:20240913T235500
DTSTAMP:20260421T234552
CREATED:20240914T062535Z
LAST-MODIFIED:20240914T062535Z
UID:36514-1726254000-1726271700@nostragenda.fr
SUMMARY:Apéro Mix Dj Alexis Millo - My Beers
DESCRIPTION:Apéro Mix Dj Alexis Millo – My Beers\n  \nVendredi 13 septembre 2024 \nà partir de 19h \nApéro Mix avec Dj Alexis Millo\nMy Beers Salon de Provence \nPlace Jules Morgan \nc’est apéro mix dans ton My Beers Salon \nSource : My Beers Salon de Provence
URL:https://nostragenda.fr/sortie/apero-mix-dj-alexis-millo-my-beers/
LOCATION:My Beers\, Place Jules Morgan\, Salon-de-Provence\, 13300\, France
CATEGORIES:Agenda,Soirées
ATTACH;FMTTYPE=image/jpeg:https://nostragenda.fr/wp-content/uploads/2024/09/apero-mix-alexis-millo-My-Beers-Salon-agenda-soiree-Morgan-Nostragenda.jpg
END:VEVENT
BEGIN:VEVENT
DTSTART;TZID=Europe/Paris:20240913T180000
DTEND;TZID=Europe/Paris:20240913T233000
DTSTAMP:20260421T234552
CREATED:20240909T050622Z
LAST-MODIFIED:20240909T050933Z
UID:36434-1726250400-1726270200@nostragenda.fr
SUMMARY:HOLÀ CUBA - Au Fut et à Mesure
DESCRIPTION:HOLÀ CUBA – Au Fut et à Mesure\n  \nVendredi 13 septembre 2024 \nà partir de 18h \nElle revient chaque année pour vous régaler\,\nc’est la soirée HOLÀ CUBA\nSalsa cubaine\, bachata et animations\navec DJ Jo et Gilles\n\nInitiation salsa cubaine\nBar extérieur\nFood truck avec La cubana Food Truck\nDes palmiers pour s’évader\nC’est la soirée à ne pas manquer\nc’est au Fût que ça se passe \nA consommer avec modération \nSource : Au fut & à mesure Salon\n\nIdées loisirs à pratiquer à Salon-de-Provence & pays salonais
URL:https://nostragenda.fr/sortie/hola-cuba-au-fut-et-a-mesure-13-septembre-24/
LOCATION:Au fut & à mesure\, 66 Boulevard Maréchal Foch\, Salon-de-Provence\, 13300\, France
CATEGORIES:Agenda,Soirées
ATTACH;FMTTYPE=image/jpeg:https://nostragenda.fr/wp-content/uploads/2024/09/hola-cuba-au-fut-Salon-agenda-soirees-Nostragenda-Morgan-sortir-ce-soir.jpg
END:VEVENT
BEGIN:VEVENT
DTSTART;TZID=Europe/Paris:20240912T213000
DTEND;TZID=Europe/Paris:20240912T233000
DTSTAMP:20260421T234552
CREATED:20240910T041954Z
LAST-MODIFIED:20240910T042029Z
UID:36455-1726176600-1726183800@nostragenda.fr
SUMMARY:Les Jeudis du Quiet Man
DESCRIPTION:Les Jeudis du Quiet Man\n  \nJeudi 12 septembre 2024 \nà partir de 21h30 \n\n\n\nThe Quiet Man \nLes Jeudis du Quiet Man\n𝐮𝐧𝐞 𝐬𝐨𝐢𝐫𝐞́𝐞 𝐋𝐚𝐭𝐢𝐧𝐨/𝐒𝐡𝐚𝐭𝐭𝐚/Afro\nMicou sound system \n𝐋’𝐚𝐛𝐮𝐬 𝐝’𝐚𝐥𝐜𝐨𝐨𝐥 𝐞𝐬𝐭 𝐝𝐚𝐧𝐠𝐞𝐫𝐞𝐮𝐱 𝐩𝐨𝐮𝐫 𝐥𝐚 𝐬𝐚𝐧𝐭e – 𝐜𝐨𝐧𝐬𝐨𝐦𝐦𝐞𝐳 𝐚𝐯𝐞𝐜 𝐦𝐨𝐝e𝐫𝐚𝐭𝐢𝐨𝐧 \nsource : The Quiet Man Salon de Provence\n\nIdées loisirs à pratiquer à Salon-de-Provence & pays salonais
URL:https://nostragenda.fr/sortie/les-jeudis-du-quiet-man-12-septembre/
LOCATION:The Quiet Man\, 6 Allées de Craponne\, SALON-DE-PROVENCE\, 13300\, France
CATEGORIES:Agenda,Soirées
ATTACH;FMTTYPE=image/png:https://nostragenda.fr/wp-content/uploads/2024/09/12.09.png
END:VEVENT
BEGIN:VEVENT
DTSTART;TZID=Europe/Paris:20240907T213000
DTEND;TZID=Europe/Paris:20240907T233000
DTSTAMP:20260421T234552
CREATED:20240905T023610Z
LAST-MODIFIED:20240907T052831Z
UID:36405-1725744600-1725751800@nostragenda.fr
SUMMARY:Saturday Night Party - Quiet Man
DESCRIPTION:Saturday Night Party – Quiet Man\n  \nSamedi 07 septembre 2024 \n\nSoirée Saturday Night Party\navec DJ Denis C\nà partir de 21h30\n\n\nThe Quiet Man \n𝐋’𝐚𝐛𝐮𝐬 𝐝’𝐚𝐥𝐜𝐨𝐨𝐥 𝐞𝐬𝐭 𝐝𝐚𝐧𝐠𝐞𝐫𝐞𝐮𝐱 𝐩𝐨𝐮𝐫 𝐥𝐚 𝐬𝐚𝐧𝐭e – 𝐜𝐨𝐧𝐬𝐨𝐦𝐦𝐞𝐳 𝐚𝐯𝐞𝐜 𝐦𝐨𝐝e𝐫𝐚𝐭𝐢𝐨𝐧 \nsource : The Quiet Man Salon de Provence\n\nIdées loisirs à pratiquer à Salon-de-Provence & pays salonais
URL:https://nostragenda.fr/sortie/saturday-night-party-quiet-man-07-septembre/
LOCATION:The Quiet Man\, 6 Allées de Craponne\, SALON-DE-PROVENCE\, 13300\, France
CATEGORIES:Agenda,Soirées
ATTACH;FMTTYPE=image/png:https://nostragenda.fr/wp-content/uploads/2024/09/07.09.png
END:VEVENT
BEGIN:VEVENT
DTSTART;TZID=Europe/Paris:20240906T210000
DTEND;TZID=Europe/Paris:20240906T233000
DTSTAMP:20260421T234552
CREATED:20240905T023024Z
LAST-MODIFIED:20240905T023038Z
UID:36403-1725656400-1725665400@nostragenda.fr
SUMMARY:Soirée DJ Nagini - Quiet Man
DESCRIPTION:Soirée DJ Nagini – Quiet Man\n  \nVendredi 06 septembre 2024 \nSoirée Night Music DJ Nagini \n\nà partir de 21h30\n\n\nThe Quiet Man \n𝐋’𝐚𝐛𝐮𝐬 𝐝’𝐚𝐥𝐜𝐨𝐨𝐥 𝐞𝐬𝐭 𝐝𝐚𝐧𝐠𝐞𝐫𝐞𝐮𝐱 𝐩𝐨𝐮𝐫 𝐥𝐚 𝐬𝐚𝐧𝐭e – 𝐜𝐨𝐧𝐬𝐨𝐦𝐦𝐞𝐳 𝐚𝐯𝐞𝐜 𝐦𝐨𝐝e𝐫𝐚𝐭𝐢𝐨𝐧 \nsource : The Quiet Man Salon de Provence\n\nRubrique : Soirées c'est ici
URL:https://nostragenda.fr/sortie/soiree-dj-nagini-quiet-man-06-septembre/
LOCATION:The Quiet Man\, 6 Allées de Craponne\, SALON-DE-PROVENCE\, 13300\, France
CATEGORIES:Agenda,Soirées
END:VEVENT
BEGIN:VEVENT
DTSTART;TZID=Europe/Paris:20240906T190000
DTEND;TZID=Europe/Paris:20240906T235500
DTSTAMP:20260421T234552
CREATED:20240905T024340Z
LAST-MODIFIED:20240905T025213Z
UID:36407-1725649200-1725666900@nostragenda.fr
SUMMARY:La nuit de Padam Padam - My Beers
DESCRIPTION:La nuit de Padam Padam – My Beers\n  \nVendredi 06 septembre 2024 \nà partir de 19h \nLa nuit de Padam Padam\nMy Beers Salon de Provence\nPlace Jules Morgan \nAu programme :\nviens découvrir la bière made in My Beers\nDj Rico Ventura jusqu’à minuit pour vous faire danser Bar extérieurMini-jeux en accès libre (beer-pong\, cornhole\, …)Des goodies à gagner\ndans ton My Beers Salon \nSource : My Beers Salon de Provence\n\nIdées loisirs à pratiquer à Salon-de-Provence & pays salonais
URL:https://nostragenda.fr/sortie/la-nuit-de-padam-padam-my-beers/
LOCATION:My Beers\, Place Jules Morgan\, Salon-de-Provence\, 13300\, France
CATEGORIES:Agenda,Soirées
ATTACH;FMTTYPE=image/jpeg:https://nostragenda.fr/wp-content/uploads/2024/09/La-nuit-de-Padam-Padam-My-Beers-Salon-agenda-soiree-Nostragenda.jpg
END:VEVENT
BEGIN:VEVENT
DTSTART;TZID=Europe/Paris:20240906T190000
DTEND;TZID=Europe/Paris:20240906T233000
DTSTAMP:20260421T234552
CREATED:20240906T121414Z
LAST-MODIFIED:20240906T121701Z
UID:36419-1725649200-1725665400@nostragenda.fr
SUMMARY:Les apéros de Papa - Soirée Blanche
DESCRIPTION:Les apéros de Papa – Soirée Blanche\n  \nVendredi 06 septembre 2024 \nà partir de 19h \nSoirée Blanche\nDJ Kev Lavigne & Show Percu\n\n• Show Performers\n  \nRéservation obligatoire au 07 61 87 99 07 \nSource : Papa\n\nIdées loisirs à pratiquer à Salon-de-Provence & pays salonais
URL:https://nostragenda.fr/sortie/les-aperos-de-papa-soiree-blanche/
LOCATION:Papa\, Place Jules Morgan\, Salon-de-Provence\, SALON-DE-PROVENCE\, 13300\, France
CATEGORIES:Agenda,Soirées
ATTACH;FMTTYPE=image/jpeg:https://nostragenda.fr/wp-content/uploads/2024/09/Soiree-blanche-les-aperos-de-Papa-Place-Morgan-Salon-agenda-sorties-Nostragenda.jpg
END:VEVENT
BEGIN:VEVENT
DTSTART;TZID=Europe/Paris:20240905T213000
DTEND;TZID=Europe/Paris:20240905T233000
DTSTAMP:20260421T234552
CREATED:20240905T022659Z
LAST-MODIFIED:20240905T022734Z
UID:36401-1725571800-1725579000@nostragenda.fr
SUMMARY:Les Jeudis du Quiet Man
DESCRIPTION:Les Jeudis du Quiet Man\n  \nJeudi 05 septembre 2024 \nà partir de 21h30 \n\n\n\nThe Quiet Man \nLes Jeudis du Quiet Man\n𝐮𝐧𝐞 𝐬𝐨𝐢𝐫𝐞́𝐞 𝐋𝐚𝐭𝐢𝐧𝐨/𝐒𝐡𝐚𝐭𝐭𝐚/Afro\nMicou sound system \n𝐋’𝐚𝐛𝐮𝐬 𝐝’𝐚𝐥𝐜𝐨𝐨𝐥 𝐞𝐬𝐭 𝐝𝐚𝐧𝐠𝐞𝐫𝐞𝐮𝐱 𝐩𝐨𝐮𝐫 𝐥𝐚 𝐬𝐚𝐧𝐭e – 𝐜𝐨𝐧𝐬𝐨𝐦𝐦𝐞𝐳 𝐚𝐯𝐞𝐜 𝐦𝐨𝐝e𝐫𝐚𝐭𝐢𝐨𝐧 \nsource : The Quiet Man Salon de Provence\n\nIdées loisirs à pratiquer à Salon-de-Provence & pays salonais
URL:https://nostragenda.fr/sortie/les-jeudis-du-quiet-man-05-septembre/
LOCATION:The Quiet Man\, 6 Allées de Craponne\, SALON-DE-PROVENCE\, 13300\, France
CATEGORIES:Agenda,Soirées
END:VEVENT
BEGIN:VEVENT
DTSTART;TZID=Europe/Paris:20240831T213000
DTEND;TZID=Europe/Paris:20240831T233000
DTSTAMP:20260421T234552
CREATED:20240831T164548Z
LAST-MODIFIED:20240831T164626Z
UID:36362-1725139800-1725147000@nostragenda.fr
SUMMARY:Soirée DJ Micou Sound System - Quiet Man
DESCRIPTION:Soirée DJ Micou Sound System – Quiet Man\n  \nSamedi 31 août 2024 \nà partir de 21h30 \n\n\n\nThe Quiet Man \nSaturday night party\nMicou sound system \n𝐋’𝐚𝐛𝐮𝐬 𝐝’𝐚𝐥𝐜𝐨𝐨𝐥 𝐞𝐬𝐭 𝐝𝐚𝐧𝐠𝐞𝐫𝐞𝐮𝐱 𝐩𝐨𝐮𝐫 𝐥𝐚 𝐬𝐚𝐧𝐭e – 𝐜𝐨𝐧𝐬𝐨𝐦𝐦𝐞𝐳 𝐚𝐯𝐞𝐜 𝐦𝐨𝐝e𝐫𝐚𝐭𝐢𝐨𝐧 \nsource : The Quiet Man Salon de Provence\n\nIdées loisirs à pratiquer à Salon-de-Provence & pays salonais
URL:https://nostragenda.fr/sortie/soiree-dj-micou-sound-system-quiet-man/
LOCATION:The Quiet Man\, 6 Allées de Craponne\, SALON-DE-PROVENCE\, 13300\, France
CATEGORIES:Agenda,Soirées
ATTACH;FMTTYPE=image/jpeg:https://nostragenda.fr/wp-content/uploads/2024/08/Saturday-night-party-Quiet-Man-Salon-soirees-agenda-Nostragenda-sortir-ce-soir.jpg
END:VEVENT
BEGIN:VEVENT
DTSTART;TZID=Europe/Paris:20240830T190000
DTEND;TZID=Europe/Paris:20240830T233000
DTSTAMP:20260421T234552
CREATED:20230610T104342Z
LAST-MODIFIED:20240830T163457Z
UID:7652-1725044400-1725060600@nostragenda.fr
SUMMARY:Du Son au Balcon
DESCRIPTION:Du Son au Balcon\n  \nVendredi 30 Aout 2024 \nà partir de 19h \nPlace de l’hôtel de ville \nDu Son au Balcon\n8ème édition avec des nouveautés et des surprises\npour cette édition 2024\n  \nWarm up DJ Ben.j\n \n\nUPSILONE\n \n  \nCHARLES B\n \n  \nLAURENT WOLF\n \nMOSIMANN\n \nRetrouvez le programme 2024 avec Nostragenda dés sa publication. \nL’ordre et les horaires de passage de chaque DJ ne sont pas communiqués par l’organisateur. \nConcert gratuit salon de provence 2024\n  \n \n  \n \n  \n\n  \nSouvenirs de la soirée d’Août 2023\navec BORGHI en Warm up\n\n\nDJ MOSEY\n\n\nTony Romera\n\n\nBoris Way\n\n\nHugel\n\n\n  \nSource : Du Son Au Balcon \nIdées loisirs à pratiquer à Salon-de-Provence & pays salonais
URL:https://nostragenda.fr/sortie/du-son-au-balcon-2024/
LOCATION:Place de l’Hôtel de ville\, Place de l'hôtel de ville\, SALON-DE-PROVENCE\, SALON-DE-PROVENCE\, 13300\, France
CATEGORIES:Agenda,Soirées
ATTACH;FMTTYPE=image/jpeg:https://nostragenda.fr/wp-content/uploads/2023/06/Du-Son-Au-Balcon-30-aout-2024-Salon-agenda-evenement-gratuit-Nostragenda.jpg
END:VEVENT
BEGIN:VEVENT
DTSTART;TZID=Europe/Paris:20240829T210000
DTEND;TZID=Europe/Paris:20240829T233000
DTSTAMP:20260421T234552
CREATED:20240810T140832Z
LAST-MODIFIED:20240810T140920Z
UID:36129-1724965200-1724974200@nostragenda.fr
SUMMARY:Les Jeudis du Quiet Man
DESCRIPTION:Les Jeudis du Quiet Man\n  \nJeudi 29 août 2024 \nà partir de 21h \n\n\n\nThe Quiet Man \nLes Jeudis du Quiet Man\n𝐮𝐧𝐞 𝐬𝐨𝐢𝐫𝐞́𝐞 𝐋𝐚𝐭𝐢𝐧𝐨/𝐒𝐡𝐚𝐭𝐭𝐚\nMicou sound system \n𝐋’𝐚𝐛𝐮𝐬 𝐝’𝐚𝐥𝐜𝐨𝐨𝐥 𝐞𝐬𝐭 𝐝𝐚𝐧𝐠𝐞𝐫𝐞𝐮𝐱 𝐩𝐨𝐮𝐫 𝐥𝐚 𝐬𝐚𝐧𝐭e – 𝐜𝐨𝐧𝐬𝐨𝐦𝐦𝐞𝐳 𝐚𝐯𝐞𝐜 𝐦𝐨𝐝e𝐫𝐚𝐭𝐢𝐨𝐧 \nsource : The Quiet Man Salon de Provence\n\nIdées loisirs à pratiquer à Salon-de-Provence & pays salonais
URL:https://nostragenda.fr/sortie/les-jeudis-du-quiet-man-29-aout/
LOCATION:The Quiet Man\, 6 Allées de Craponne\, SALON-DE-PROVENCE\, 13300\, France
CATEGORIES:Agenda,Soirées
ATTACH;FMTTYPE=image/png:https://nostragenda.fr/wp-content/uploads/2024/08/29.08.png
END:VEVENT
BEGIN:VEVENT
DTSTART;TZID=Europe/Paris:20240824T213000
DTEND;TZID=Europe/Paris:20240824T233000
DTSTAMP:20260421T234552
CREATED:20240810T142647Z
LAST-MODIFIED:20240810T143007Z
UID:36135-1724535000-1724542200@nostragenda.fr
SUMMARY:Soirée Cubaine - Quiet Man
DESCRIPTION:Soirée Cubaine – Quiet Man\n  \nSamedi 24 août 2024 \nà partir de 19h  \nThe Quiet Man \nSoirée Cubaine\nLaissez-vous emporter par les rythmes ensoleillés et l’ambiance festive de Cuba ! \nLe Pub The Quiet Man vous invite à une Soirée Cubaine inoubliable\, où la musique\, la danse et les saveurs authentiques vous feront voyager le temps d’une nuit. \nPlongez dans l’atmosphère chaleureuse des rues de La Havane avec de la musique de nos DJ qui vous feront danser sur les sons envoûtants de la salsa\, du son cubano\, et bien plus encore. \nCocktails Cubains: Savourez des cocktails exotiques comme le Bateau Ivre\, le Mojito\, la Piña colada …\, \npréparés avec amour pour vous transporter directement sur les plages de Cuba. \nDécoration Thématique: Une décoration colorée et tropicale pour vous plonger dans l’esprit de Cuba. \n\nDJ Arucci – DJ Ghiss\n  \n\n𝐋’𝐚𝐛𝐮𝐬 𝐝’𝐚𝐥𝐜𝐨𝐨𝐥 𝐞𝐬𝐭 𝐝𝐚𝐧𝐠𝐞𝐫𝐞𝐮𝐱 𝐩𝐨𝐮𝐫 𝐥𝐚 𝐬𝐚𝐧𝐭𝐞́\, 𝐜𝐨𝐧𝐬𝐨𝐦𝐦𝐞𝐳 𝐚𝐯𝐞𝐜 𝐦𝐨𝐝𝐞́𝐫𝐚𝐭𝐢𝐨𝐧 \nsource : The Quiet Man Salon de Provence\n\nIdées loisirs à pratiquer à Salon-de-Provence & pays salonais
URL:https://nostragenda.fr/sortie/soiree-cubaine-quiet-man/
LOCATION:The Quiet Man\, 6 Allées de Craponne\, SALON-DE-PROVENCE\, 13300\, France
CATEGORIES:Agenda,Soirées
ATTACH;FMTTYPE=image/jpeg:https://nostragenda.fr/wp-content/uploads/2024/08/24.08.24.jpg
END:VEVENT
BEGIN:VEVENT
DTSTART;TZID=Europe/Paris:20240824T193000
DTEND;TZID=Europe/Paris:20240824T233000
DTSTAMP:20260421T234552
CREATED:20240810T132807Z
LAST-MODIFIED:20240810T133231Z
UID:36112-1724527800-1724542200@nostragenda.fr
SUMMARY:Soirée Blanche - Bahia
DESCRIPTION:Soirée Blanche – Bahia\n  \n\nSamedi 24 août 2024\nà partir de 19h30\n\nSoirée Blanche\navec DJ CHRIS KA\n  \nenfilez votre plus belle tenue blanche pour une soirée magique au Bahia. \n  \n\n\nBahia Salon\n\n\nRoute de la Garenne\, 13300 Salon de Provence\nRéservations Conseillées :  06 40 93 26 38\n\nPlaces de parking limitées – Carte restreinte\nSource : Bahia_salon\n\nIdées loisirs à pratiquer à Salon-de-Provence & pays salonais\n\n 
URL:https://nostragenda.fr/sortie/soiree-blanche-bahia-24-aout/
LOCATION:Bahia\, Route de la Garenne\, SALON-DE-PROVENCE\, Select a State:\, 13300\, France
CATEGORIES:Agenda,Soirées
ATTACH;FMTTYPE=image/jpeg:https://nostragenda.fr/wp-content/uploads/2024/08/Soiree-Blanche-Bahia-Salon-agenda-soiree-Nostragenda-week-end.jpg
END:VEVENT
BEGIN:VEVENT
DTSTART;TZID=Europe/Paris:20240823T210000
DTEND;TZID=Europe/Paris:20240823T233000
DTSTAMP:20260421T234552
CREATED:20240810T134440Z
LAST-MODIFIED:20240810T134537Z
UID:36120-1724446800-1724455800@nostragenda.fr
SUMMARY:Soirée DJ Nagini - Quiet Man
DESCRIPTION:Soirée DJ Nagini – Quiet Man\n  \nVendredi 23 août 2024 \nSoirée Night Music DJ Nagini \n\nà partir de 21h30\n\n\nThe Quiet Man \n𝐋’𝐚𝐛𝐮𝐬 𝐝’𝐚𝐥𝐜𝐨𝐨𝐥 𝐞𝐬𝐭 𝐝𝐚𝐧𝐠𝐞𝐫𝐞𝐮𝐱 𝐩𝐨𝐮𝐫 𝐥𝐚 𝐬𝐚𝐧𝐭e – 𝐜𝐨𝐧𝐬𝐨𝐦𝐦𝐞𝐳 𝐚𝐯𝐞𝐜 𝐦𝐨𝐝e𝐫𝐚𝐭𝐢𝐨𝐧 \nsource : The Quiet Man Salon de Provence\n\nRubrique : Soirées c'est ici
URL:https://nostragenda.fr/sortie/soiree-dj-nagini-quiet-man-23-aout/
LOCATION:The Quiet Man\, 6 Allées de Craponne\, SALON-DE-PROVENCE\, 13300\, France
CATEGORIES:Agenda,Soirées
ATTACH;FMTTYPE=image/png:https://nostragenda.fr/wp-content/uploads/2024/08/23.08.png
END:VEVENT
BEGIN:VEVENT
DTSTART;TZID=Europe/Paris:20240823T200000
DTEND;TZID=Europe/Paris:20240823T233000
DTSTAMP:20260421T234552
CREATED:20240823T200811Z
LAST-MODIFIED:20240823T201029Z
UID:36286-1724443200-1724455800@nostragenda.fr
SUMMARY:Apéromix John Santi - Au Fut et à Mesure
DESCRIPTION:Apéromix John Santi – Au Fut et à Mesure\n  \nVendredi 23 août 2024 \nà partir de 20h \nmix by DJ John Santi\nc’est au Fût que ça se passe \nA consommer avec modération \nSource : Au fut & à mesure Salon\n\nIdées loisirs à pratiquer à Salon-de-Provence & pays salonais
URL:https://nostragenda.fr/sortie/aperomix-john-santi-au-fut-et-a-mesure-23-aout/
LOCATION:Au fut & à mesure\, 66 Boulevard Maréchal Foch\, Salon-de-Provence\, 13300\, France
CATEGORIES:Agenda,Soirées
ATTACH;FMTTYPE=image/jpeg:https://nostragenda.fr/wp-content/uploads/2024/08/aperomix-au-fut-Salon-John-Santi-agenda-soiree-Nostragenda-Salon-de-Provence.jpg
END:VEVENT
BEGIN:VEVENT
DTSTART;TZID=Europe/Paris:20240823T190000
DTEND;TZID=Europe/Paris:20240824T235500
DTSTAMP:20260421T234552
CREATED:20240816T064711Z
LAST-MODIFIED:20240816T064932Z
UID:36206-1724439600-1724543700@nostragenda.fr
SUMMARY:Open Beach - My Beers
DESCRIPTION:Open Beach – My Beers\n  \nVendredi 23 août 2024 \nà partir de 19h \nDJ Kev Lavigne\n& \nsamedi 24 août 2024 \nà 20h \nConcert By Backage\nOpen Beach\nMy Beers Salon de Provence \nPlace Jules Morgan \nAu programme :\nDécorations de plage : sable fin\, bouées et ambiance estivaleCocktail à la bièreBar extérieur\ndans ton My Beers Salon \nSource : My Beers Salon de Provence
URL:https://nostragenda.fr/sortie/open-beach-my-beers/
LOCATION:My Beers\, Place Jules Morgan\, Salon-de-Provence\, 13300\, France
CATEGORIES:Agenda,Concerts,Soirées
ATTACH;FMTTYPE=image/jpeg:https://nostragenda.fr/wp-content/uploads/2024/08/Open-beach-my-beers-salon-agenda-soiree-nostragenda-place-morgan.jpg
END:VEVENT
BEGIN:VEVENT
DTSTART;TZID=Europe/Paris:20240822T210000
DTEND;TZID=Europe/Paris:20240822T233000
DTSTAMP:20260421T234552
CREATED:20240810T140221Z
LAST-MODIFIED:20240810T140311Z
UID:36126-1724360400-1724369400@nostragenda.fr
SUMMARY:Les Jeudis du Quiet Man
DESCRIPTION:Les Jeudis du Quiet Man\n  \nJeudi 22 août 2024 \nà partir de 21h \n\n\n\nThe Quiet Man \nLes Jeudis du Quiet Man\n𝐮𝐧𝐞 𝐬𝐨𝐢𝐫𝐞́𝐞 𝐋𝐚𝐭𝐢𝐧𝐨/𝐒𝐡𝐚𝐭𝐭𝐚\nMicou sound system \n𝐋’𝐚𝐛𝐮𝐬 𝐝’𝐚𝐥𝐜𝐨𝐨𝐥 𝐞𝐬𝐭 𝐝𝐚𝐧𝐠𝐞𝐫𝐞𝐮𝐱 𝐩𝐨𝐮𝐫 𝐥𝐚 𝐬𝐚𝐧𝐭e – 𝐜𝐨𝐧𝐬𝐨𝐦𝐦𝐞𝐳 𝐚𝐯𝐞𝐜 𝐦𝐨𝐝e𝐫𝐚𝐭𝐢𝐨𝐧 \nsource : The Quiet Man Salon de Provence\n\nIdées loisirs à pratiquer à Salon-de-Provence & pays salonais
URL:https://nostragenda.fr/sortie/les-jeudis-du-quiet-man-22-aout/
LOCATION:The Quiet Man\, 6 Allées de Craponne\, SALON-DE-PROVENCE\, 13300\, France
CATEGORIES:Agenda,Soirées
ATTACH;FMTTYPE=image/png:https://nostragenda.fr/wp-content/uploads/2024/08/22.08.png
END:VEVENT
BEGIN:VEVENT
DTSTART;TZID=Europe/Paris:20240817T213000
DTEND;TZID=Europe/Paris:20240817T233000
DTSTAMP:20260421T234552
CREATED:20240810T135310Z
LAST-MODIFIED:20240810T135500Z
UID:36123-1723930200-1723937400@nostragenda.fr
SUMMARY:Saturday Night Party - Quiet Man
DESCRIPTION:Saturday Night Party – Quiet Man\n  \nSamedi 17 août 2024 \n\nSoirée Saturday Night Party\navec DJ Denis C\nà partir de 21h30\n\n\nThe Quiet Man \n𝐋’𝐚𝐛𝐮𝐬 𝐝’𝐚𝐥𝐜𝐨𝐨𝐥 𝐞𝐬𝐭 𝐝𝐚𝐧𝐠𝐞𝐫𝐞𝐮𝐱 𝐩𝐨𝐮𝐫 𝐥𝐚 𝐬𝐚𝐧𝐭e – 𝐜𝐨𝐧𝐬𝐨𝐦𝐦𝐞𝐳 𝐚𝐯𝐞𝐜 𝐦𝐨𝐝e𝐫𝐚𝐭𝐢𝐨𝐧 \nsource : The Quiet Man Salon de Provence\n\nIdées loisirs à pratiquer à Salon-de-Provence & pays salonais
URL:https://nostragenda.fr/sortie/saturday-night-party-quiet-man-2/
LOCATION:The Quiet Man\, 6 Allées de Craponne\, SALON-DE-PROVENCE\, 13300\, France
CATEGORIES:Agenda,Soirées
ATTACH;FMTTYPE=image/png:https://nostragenda.fr/wp-content/uploads/2024/08/17.08.png
END:VEVENT
BEGIN:VEVENT
DTSTART;TZID=Europe/Paris:20240816T210000
DTEND;TZID=Europe/Paris:20240816T233000
DTSTAMP:20260421T234552
CREATED:20240810T133856Z
LAST-MODIFIED:20240810T133931Z
UID:36117-1723842000-1723851000@nostragenda.fr
SUMMARY:Soirée DJ Nagini - Quiet Man
DESCRIPTION:Soirée DJ Nagini – Quiet Man\n  \nVendredi 16 août 2024 \nSoirée Night Music DJ Nagini \n\nà partir de 21h30\n\n\nThe Quiet Man \n𝐋’𝐚𝐛𝐮𝐬 𝐝’𝐚𝐥𝐜𝐨𝐨𝐥 𝐞𝐬𝐭 𝐝𝐚𝐧𝐠𝐞𝐫𝐞𝐮𝐱 𝐩𝐨𝐮𝐫 𝐥𝐚 𝐬𝐚𝐧𝐭e – 𝐜𝐨𝐧𝐬𝐨𝐦𝐦𝐞𝐳 𝐚𝐯𝐞𝐜 𝐦𝐨𝐝e𝐫𝐚𝐭𝐢𝐨𝐧 \nsource : The Quiet Man Salon de Provence\n\nRubrique : Soirées c'est ici
URL:https://nostragenda.fr/sortie/soiree-dj-nagini-quiet-man-16-aout/
LOCATION:The Quiet Man\, 6 Allées de Craponne\, SALON-DE-PROVENCE\, 13300\, France
CATEGORIES:Agenda,Soirées
ATTACH;FMTTYPE=image/png:https://nostragenda.fr/wp-content/uploads/2024/08/16.08.png
END:VEVENT
BEGIN:VEVENT
DTSTART;TZID=Europe/Paris:20240816T200000
DTEND;TZID=Europe/Paris:20240816T233000
DTSTAMP:20260421T234552
CREATED:20240816T081003Z
LAST-MODIFIED:20240816T081414Z
UID:36222-1723838400-1723851000@nostragenda.fr
SUMMARY:Apéromix Alexis Millo - Au Fut
DESCRIPTION:Apéromix Alexis Millo – Au Fut\n  \nVendredi 16 août 2024 \nà partir de 20h \nDJ Alexis Millo\n\nc’est au Fût que ça se passe \nl’abus d’alcool est dangereux pour la santé \, A consommer avec modération \nSource : Au fut & à mesure Salon\n\nAgenda * Aujourd'hui
URL:https://nostragenda.fr/sortie/aperomix-alexis-millo-au-fut-16-aout/
LOCATION:Au fut & à mesure\, 66 Boulevard Maréchal Foch\, Salon-de-Provence\, 13300\, France
CATEGORIES:Agenda,Soirées
ATTACH;FMTTYPE=image/jpeg:https://nostragenda.fr/wp-content/uploads/2024/08/aperomix-alexis-millo-au-fut-Salon-agenda-soiree-Nostragenda.jpg
END:VEVENT
BEGIN:VEVENT
DTSTART;TZID=Europe/Paris:20240816T190000
DTEND;TZID=Europe/Paris:20240816T235500
DTSTAMP:20260421T234552
CREATED:20240814T123039Z
LAST-MODIFIED:20240814T123121Z
UID:36197-1723834800-1723852500@nostragenda.fr
SUMMARY:Electro Beers Dj Eemoz - My Beers
DESCRIPTION:Electro Beers Dj Eemoz – My Beers\n  \nVendredi 16 aoûtl 2024 \nà partir de 19h \nApéro Mix avec Dj Eemoz\nMy Beers Salon de Provence \nPlace Jules Morgan \nc’est apéro mix dans ton My Beers Salon \nSource : My Beers Salon de Provence
URL:https://nostragenda.fr/sortie/electro-beers-dj-eemoz-my-beers/
LOCATION:My Beers\, Place Jules Morgan\, Salon-de-Provence\, 13300\, France
CATEGORIES:Agenda,Soirées
ATTACH;FMTTYPE=image/jpeg:https://nostragenda.fr/wp-content/uploads/2024/08/aperomix-electro-beers-Dj-Eemoz-Agenda-soiree-My-Beers-Nostragenda.jpg
END:VEVENT
BEGIN:VEVENT
DTSTART;TZID=Europe/Paris:20240816T190000
DTEND;TZID=Europe/Paris:20240816T233000
DTSTAMP:20260421T234552
CREATED:20240814T085744Z
LAST-MODIFIED:20240814T085827Z
UID:36194-1723834800-1723851000@nostragenda.fr
SUMMARY:Soirée Tekno - La Bièrerie
DESCRIPTION:Soirée Tekno – La Bièrerie\n  \nVendredi 16 août 2024 \nà partir de 19h \nLa Bièrerie \nVenez profitez d’une soirée avec \nGROOVE DISTILLER de 21h à 23h\nGHISSOU : résident\nPANDA\nDAMIAN BALDR : empeg booking\n\n\ndans le centre ville de Salon-de-Provence \nsource : La Bièrerie\n\nIdées loisirs à pratiquer à Salon-de-Provence & pays salonais
URL:https://nostragenda.fr/sortie/soiree-tekno-la-biererie/
LOCATION:La Bièrerie\, 13 Place Charles Latil\, SALON-DE-PROVENCE\, SALON-DE-PROVENCE\, 13300\, France
CATEGORIES:Agenda,Soirées
END:VEVENT
BEGIN:VEVENT
DTSTART;TZID=Europe/Paris:20240815T210000
DTEND;TZID=Europe/Paris:20240815T233000
DTSTAMP:20260421T234552
CREATED:20240809T065744Z
LAST-MODIFIED:20240809T070147Z
UID:36098-1723755600-1723764600@nostragenda.fr
SUMMARY:Les Jeudis du Quiet Man
DESCRIPTION:Les Jeudis du Quiet Man\n  \nJeudi 15 août 2024 \nà partir de 21h \n\n\n\nThe Quiet Man \nLes Jeudis du Quiet Man\n𝐬𝐨𝐢𝐫𝐞́𝐞 𝐋𝐚𝐭𝐢𝐧𝐨/𝐒𝐡𝐚𝐭𝐭𝐚/Afro\nDJ Ghiss \n𝐋’𝐚𝐛𝐮𝐬 𝐝’𝐚𝐥𝐜𝐨𝐨𝐥 𝐞𝐬𝐭 𝐝𝐚𝐧𝐠𝐞𝐫𝐞𝐮𝐱 𝐩𝐨𝐮𝐫 𝐥𝐚 𝐬𝐚𝐧𝐭e – 𝐜𝐨𝐧𝐬𝐨𝐦𝐦𝐞𝐳 𝐚𝐯𝐞𝐜 𝐦𝐨𝐝e𝐫𝐚𝐭𝐢𝐨𝐧 \nsource : The Quiet Man Salon de Provence\n\nIdées loisirs à pratiquer à Salon-de-Provence & pays salonais
URL:https://nostragenda.fr/sortie/les-jeudis-du-quiet-man-15-aout/
LOCATION:The Quiet Man\, 6 Allées de Craponne\, SALON-DE-PROVENCE\, 13300\, France
CATEGORIES:Agenda,Soirées
ATTACH;FMTTYPE=image/png:https://nostragenda.fr/wp-content/uploads/2024/08/15.08.png
END:VEVENT
END:VCALENDAR