BEGIN:VCALENDAR
VERSION:2.0
PRODID:-//Nostragenda : Sorties &amp; Loisirs sur Salon-de-Provence  - Agenda - ECPv6.15.20//NONSGML v1.0//EN
CALSCALE:GREGORIAN
METHOD:PUBLISH
X-WR-CALNAME:Nostragenda : Sorties &amp; Loisirs sur Salon-de-Provence  - Agenda
X-ORIGINAL-URL:https://nostragenda.fr
X-WR-CALDESC:Évènements pour Nostragenda : Sorties &amp; Loisirs sur Salon-de-Provence  - Agenda
REFRESH-INTERVAL;VALUE=DURATION:PT1H
X-Robots-Tag:noindex
X-PUBLISHED-TTL:PT1H
BEGIN:VTIMEZONE
TZID:Europe/Paris
BEGIN:DAYLIGHT
TZOFFSETFROM:+0100
TZOFFSETTO:+0200
TZNAME:CEST
DTSTART:20230326T010000
END:DAYLIGHT
BEGIN:STANDARD
TZOFFSETFROM:+0200
TZOFFSETTO:+0100
TZNAME:CET
DTSTART:20231029T010000
END:STANDARD
BEGIN:DAYLIGHT
TZOFFSETFROM:+0100
TZOFFSETTO:+0200
TZNAME:CEST
DTSTART:20240331T010000
END:DAYLIGHT
BEGIN:STANDARD
TZOFFSETFROM:+0200
TZOFFSETTO:+0100
TZNAME:CET
DTSTART:20241027T010000
END:STANDARD
BEGIN:DAYLIGHT
TZOFFSETFROM:+0100
TZOFFSETTO:+0200
TZNAME:CEST
DTSTART:20250330T010000
END:DAYLIGHT
BEGIN:STANDARD
TZOFFSETFROM:+0200
TZOFFSETTO:+0100
TZNAME:CET
DTSTART:20251026T010000
END:STANDARD
END:VTIMEZONE
BEGIN:VEVENT
DTSTART;TZID=Europe/Paris:20241101T200000
DTEND;TZID=Europe/Paris:20241101T233000
DTSTAMP:20260421T164123
CREATED:20241101T165046Z
LAST-MODIFIED:20241101T165214Z
UID:37302-1730491200-1730503800@nostragenda.fr
SUMMARY:Apéromix Alexis Millo - Au Fut
DESCRIPTION:Apéromix Alexis Millo – Au Fut\n  \nVendredi 01 novembre 2024 \nà partir de 20h \nDJ Alexis Millo\n\nc’est au Fût que ça se passe \nl’abus d’alcool est dangereux pour la santé \, A consommer avec modération \nSource : Au fut & à mesure Salon\n\nAgenda * Aujourd'hui
URL:https://nostragenda.fr/sortie/aperomix-alexis-millo-au-fut-01-novembre/
LOCATION:Au fut & à mesure\, 66 Boulevard Maréchal Foch\, Salon-de-Provence\, 13300\, France
CATEGORIES:Agenda,Soirées
ATTACH;FMTTYPE=image/jpeg:https://nostragenda.fr/wp-content/uploads/2024/11/Aperomix-Alexis-Millo-Au-fut-Salon-agenda-soirees-Morgan-Sortir-a-Salon-Nostragenda.jpg
END:VEVENT
BEGIN:VEVENT
DTSTART;TZID=Europe/Paris:20241031T200000
DTEND;TZID=Europe/Paris:20241031T233000
DTSTAMP:20260421T164124
CREATED:20241028T163829Z
LAST-MODIFIED:20241028T164214Z
UID:37235-1730404800-1730417400@nostragenda.fr
SUMMARY:Halloween - Au Fut et à Mesure
DESCRIPTION:Halloween – Au Fut et à Mesure\n  \nJeudi 31 Ooctobre 2024 \nà partir de 20h \nHalloween\nDJ déjanté John Santi\nDéco de Fût furieux\nTes barmans préférés déguisés \n\nLa caïpi en mode bloody la 2 ème à -50%\nLe mètre de shooter qui fait peur à 20 €\nPleins de bonbons\n\n\nShooter offert pour les plus beaux déguisements\n\n\nL’abus d’alcool est dangereux pour la santé\, à consommer avec modération \nSource : Au fut & à mesure Salon\n\nIdées loisirs à pratiquer à Salon-de-Provence & pays salonais
URL:https://nostragenda.fr/sortie/halloween-au-fut-et-a-mesure-2024/
LOCATION:Au fut & à mesure\, 66 Boulevard Maréchal Foch\, Salon-de-Provence\, 13300\, France
CATEGORIES:Agenda,Animations,Soirées
ATTACH;FMTTYPE=image/jpeg:https://nostragenda.fr/wp-content/uploads/2024/10/halloween-au-fut-Salon-agenda-soirees-Nostragenda-Morgan.jpg
END:VEVENT
BEGIN:VEVENT
DTSTART;TZID=Europe/Paris:20241031T190000
DTEND;TZID=Europe/Paris:20241031T235500
DTSTAMP:20260421T164124
CREATED:20241019T140057Z
LAST-MODIFIED:20241019T140338Z
UID:37066-1730401200-1730418900@nostragenda.fr
SUMMARY:Halloween - My Beers
DESCRIPTION:Halloween – My Beers\n  \nJeudi 31 Octobre 2024 \nà partir de 19h \nMy Beers Salon de Provence \nPlace Jules Morgan \nHalloween – My Beers\nAu programme : \nDJ Kev Lavigne\n– Ambiance et déco monstrueuse– Bar extérieur pour l’occasion– Déguisement fortement conseillé\nAvec une équipe totalement déguisée sur le thème des super vilains de films. \nFin du service à 0h45 \nSource My Beers Salon de Provence\n\nIdées loisirs à pratiquer à Salon-de-Provence & pays salonais
URL:https://nostragenda.fr/sortie/halloween-my-beers/
LOCATION:My Beers\, Place Jules Morgan\, Salon-de-Provence\, 13300\, France
CATEGORIES:Agenda,Animations,Soirées
ATTACH;FMTTYPE=image/jpeg:https://nostragenda.fr/wp-content/uploads/2024/10/super-vilains-Halloween-My-Beers-Salon-Nostragenda-Soirees-Morgan.jpg
END:VEVENT
BEGIN:VEVENT
DTSTART;TZID=Europe/Paris:20241031T190000
DTEND;TZID=Europe/Paris:20241031T233000
DTSTAMP:20260421T164124
CREATED:20241019T134704Z
LAST-MODIFIED:20241019T134846Z
UID:37063-1730401200-1730417400@nostragenda.fr
SUMMARY:Halloween Party Horror Circus - Quiet Man
DESCRIPTION:Halloween Party Horror Circus – Quiet Man\n  \nJeudi 31 Octobre 2024 \n\nà partir de 19h30\n\nConcert Live avec le groupe : Alcane en extérieurMusique Pop / Rock\n\n\nDJ Denis C – DJ Micou Sound System\n avec des sets envoûtants à l’intérieur.\n  \n\nPub entièrement décoré by Fiesta Dreams :\ndes animations sinistres tout au long de la soirée.\nPeut-être tomberez-vous sur un clown tueur… ou pire !\n  \nEtes vous prêts pour une soirée terrifiante ? \n\n\nThe Quiet Man\n\n𝐋’𝐚𝐛𝐮𝐬 𝐝’𝐚𝐥𝐜𝐨𝐨𝐥 𝐞𝐬𝐭 𝐝𝐚𝐧𝐠𝐞𝐫𝐞𝐮𝐱 𝐩𝐨𝐮𝐫 𝐥𝐚 𝐬𝐚𝐧𝐭𝐞́\, 𝐜𝐨𝐧𝐬𝐨𝐦𝐦𝐞𝐳 𝐚𝐯𝐞𝐜 𝐦𝐨𝐝𝐞́𝐫𝐚𝐭𝐢𝐨𝐧 \nsource : The Quiet Man Salon de Provence\n\nIdées loisirs à pratiquer à Salon-de-Provence & pays salonais
URL:https://nostragenda.fr/sortie/halloween-party-horror-circus-quiet-man/
LOCATION:The Quiet Man\, 6 Allées de Craponne\, SALON-DE-PROVENCE\, 13300\, France
CATEGORIES:Agenda,Animations,Concerts,Soirées
ATTACH;FMTTYPE=image/jpeg:https://nostragenda.fr/wp-content/uploads/2024/10/soiree-halloween-quiet-man-dj-Denis-C-agenda-soiree-Nostragenda-Salon-de-Provence.jpg
END:VEVENT
BEGIN:VEVENT
DTSTART;TZID=Europe/Paris:20241031T180000
DTEND;TZID=Europe/Paris:20241031T233000
DTSTAMP:20260421T164124
CREATED:20241029T055411Z
LAST-MODIFIED:20241029T055750Z
UID:37256-1730397600-1730417400@nostragenda.fr
SUMMARY:Soirée Halloween - La Bièrerie
DESCRIPTION:Soirée Halloween – La Bièrerie\n  \nJeudi 31 octobre 2024 \nà partir de 18h \nLa Bièrerie \nSoirée Halloween avec DJ Ghissou\n  \nShooters offert à ceux qui viendront déguisés et une surprise a gagner pour le + beau déguisement.\n\nRestauration\, cocktails et bières dans une ambiance de folie.\n\nLa Bièrerie dans le centre ville de Salon-de-Provence\n\nL’abus d’alcool est dangereux pour la santé\, à consommer avec modération. \nsource : La Bièrerie
URL:https://nostragenda.fr/sortie/soiree-halloween-la-biererie/
LOCATION:La Bièrerie\, 13 Place Charles Latil\, SALON-DE-PROVENCE\, SALON-DE-PROVENCE\, 13300\, France
CATEGORIES:Agenda,Soirées
ATTACH;FMTTYPE=image/webp:https://nostragenda.fr/wp-content/uploads/2023/08/NOSTRAGENDA_70x50-seo-2.webp
END:VEVENT
BEGIN:VEVENT
DTSTART;TZID=Europe/Paris:20241026T213000
DTEND;TZID=Europe/Paris:20241026T233000
DTSTAMP:20260421T164124
CREATED:20241008T060330Z
LAST-MODIFIED:20241008T060711Z
UID:36918-1729978200-1729985400@nostragenda.fr
SUMMARY:Soirée Night Club Party - Quiet Man
DESCRIPTION:Soirée Night Club Party  – Quiet Man\n  \nSamedi 26 octobre 2024 \nà partir de 21h30\nThe Quiet Man\n\n\nNight Club Party\navec DJ Arucci\n\n\n\nThe Quiet Man\n𝐋’𝐚𝐛𝐮𝐬 𝐝’𝐚𝐥𝐜𝐨𝐨𝐥 𝐞𝐬𝐭 𝐝𝐚𝐧𝐠𝐞𝐫𝐞𝐮𝐱 𝐩𝐨𝐮𝐫 𝐥𝐚 𝐬𝐚𝐧𝐭e – 𝐜𝐨𝐧𝐬𝐨𝐦𝐦𝐞𝐳 𝐚𝐯𝐞𝐜 𝐦𝐨𝐝e𝐫𝐚𝐭𝐢𝐨𝐧 \nsource : The Quiet Man Salon de Provence\n\nRubrique : Soirées c'est ici
URL:https://nostragenda.fr/sortie/soiree-night-club-party-quiet-man-26-octobre/
LOCATION:The Quiet Man\, 6 Allées de Craponne\, SALON-DE-PROVENCE\, 13300\, France
CATEGORIES:Agenda,Soirées
ATTACH;FMTTYPE=image/png:https://nostragenda.fr/wp-content/uploads/2024/10/26.10.png
END:VEVENT
BEGIN:VEVENT
DTSTART;TZID=Europe/Paris:20241026T200000
DTEND;TZID=Europe/Paris:20241026T233000
DTSTAMP:20260421T164124
CREATED:20241026T103245Z
LAST-MODIFIED:20241026T103926Z
UID:37214-1729972800-1729985400@nostragenda.fr
SUMMARY:Apéromix Simon B - Au Fut
DESCRIPTION:Apéromix Simon B – Au Fut\n  \nSamedi 26 octobre 2024 \nà partir de 20h \nDJ Simon B\n  \nc’est au Fût que ça se passe \nl’abus d’alcool est dangereux pour la santé \, A consommer avec modération \nSource : Au fut & à mesure Salon\n\nRubrique : Soirées c'est ici
URL:https://nostragenda.fr/sortie/aperomix-simon-b-au-fut-26-octobre/
LOCATION:Au fut & à mesure\, 66 Boulevard Maréchal Foch\, Salon-de-Provence\, 13300\, France
CATEGORIES:Agenda,Soirées
END:VEVENT
BEGIN:VEVENT
DTSTART;TZID=Europe/Paris:20241025T213000
DTEND;TZID=Europe/Paris:20241025T233000
DTSTAMP:20260421T164124
CREATED:20241009T041917Z
LAST-MODIFIED:20241009T042040Z
UID:36934-1729891800-1729899000@nostragenda.fr
SUMMARY:Friday Night Party - Quiet Man
DESCRIPTION:Friday Night Party – Quiet Man\n  \nVendredi 25 octobre 2024 \n\nSoirée Friday Night Party\navec DJ Ghiss\nà partir de 21h30\n\n\nThe Quiet Man \n𝐋’𝐚𝐛𝐮𝐬 𝐝’𝐚𝐥𝐜𝐨𝐨𝐥 𝐞𝐬𝐭 𝐝𝐚𝐧𝐠𝐞𝐫𝐞𝐮𝐱 𝐩𝐨𝐮𝐫 𝐥𝐚 𝐬𝐚𝐧𝐭e – 𝐜𝐨𝐧𝐬𝐨𝐦𝐦𝐞𝐳 𝐚𝐯𝐞𝐜 𝐦𝐨𝐝e𝐫𝐚𝐭𝐢𝐨𝐧 \nsource : The Quiet Man Salon de Provence\n\nIdées loisirs à pratiquer à Salon-de-Provence & pays salonais
URL:https://nostragenda.fr/sortie/friday-night-party-quiet-man-25-octobre/
LOCATION:The Quiet Man\, 6 Allées de Craponne\, SALON-DE-PROVENCE\, 13300\, France
CATEGORIES:Agenda,Soirées
ATTACH;FMTTYPE=image/png:https://nostragenda.fr/wp-content/uploads/2024/10/25.10.png
END:VEVENT
BEGIN:VEVENT
DTSTART;TZID=Europe/Paris:20241025T200000
DTEND;TZID=Europe/Paris:20241025T233000
DTSTAMP:20260421T164124
CREATED:20241025T091958Z
LAST-MODIFIED:20241025T092141Z
UID:37209-1729886400-1729899000@nostragenda.fr
SUMMARY:Apéromix DJ Arucci - Au Fut et à Mesure
DESCRIPTION:Apéromix DJ Arucci\n– Au Fut et à Mesure\n  \nVendredi 25 octobre 2024 \nà partir de 20h \nDJ Arucci\nc’est au Fût que ça se passe \nl’abus d’alcool est dangereux pour la santé \, A consommer avec modération \nSource : Au fut & à mesure Salon\n\nAgenda * Aujourd'hui
URL:https://nostragenda.fr/sortie/aperomix-dj-arucci-au-fut-et-a-mesure/
LOCATION:Au fut & à mesure\, 66 Boulevard Maréchal Foch\, Salon-de-Provence\, 13300\, France
CATEGORIES:Agenda,Soirées
ATTACH;FMTTYPE=image/jpeg:https://nostragenda.fr/wp-content/uploads/2024/10/aperomix-DJ-Arucci-Au-Fut-Salon-Week-end-a-Salon-Morgan-Nostragenda.jpg
END:VEVENT
BEGIN:VEVENT
DTSTART;TZID=Europe/Paris:20241025T190000
DTEND;TZID=Europe/Paris:20241025T235500
DTSTAMP:20260421T164124
CREATED:20241024T053639Z
LAST-MODIFIED:20241024T054531Z
UID:37194-1729882800-1729900500@nostragenda.fr
SUMMARY:Apéro Mix DJ Rico Ventura - My Beers Salon
DESCRIPTION:Apéro Mix DJ Rico Ventura\n– My Beers Salon\n  \nVendredi 25 octobre 2024 \nà partir de 19h \nApéro Mix – My Beers Salon de Provence\navec DJ Rico Ventura\n  \nc’est apéro mix dans ton My Beers Salon – Place Jules Morgan \nSource : My Beers Salon de Provence\n\n\nAgenda * Aujourd'hui
URL:https://nostragenda.fr/sortie/apero-mix-dj-rico-ventura-my-beers-salon/
LOCATION:My Beers\, Place Jules Morgan\, Salon-de-Provence\, 13300\, France
CATEGORIES:Agenda,Soirées
ATTACH;FMTTYPE=image/jpeg:https://nostragenda.fr/wp-content/uploads/2024/10/aperomix-Dj-Rico-Ventura-My-Beers-salon-agenda-soirees-Morgan-Nostragenda.jpg
END:VEVENT
BEGIN:VEVENT
DTSTART;TZID=Europe/Paris:20241024T213000
DTEND;TZID=Europe/Paris:20241024T233000
DTSTAMP:20260421T164124
CREATED:20241009T035222Z
LAST-MODIFIED:20241009T035453Z
UID:36930-1729805400-1729812600@nostragenda.fr
SUMMARY:Les Jeudis du Quiet Man
DESCRIPTION:Les Jeudis du Quiet Man\n  \nJeudi 24 octobre 2024 \nà partir de 21h30 \n\n\n\nThe Quiet Man \nLes Jeudis du Quiet Man\n𝐮𝐧𝐞 𝐬𝐨𝐢𝐫𝐞́𝐞 𝐋𝐚𝐭𝐢𝐧𝐨/𝐒𝐡𝐚𝐭𝐭𝐚/Afro\nMicou sound system \n𝐋’𝐚𝐛𝐮𝐬 𝐝’𝐚𝐥𝐜𝐨𝐨𝐥 𝐞𝐬𝐭 𝐝𝐚𝐧𝐠𝐞𝐫𝐞𝐮𝐱 𝐩𝐨𝐮𝐫 𝐥𝐚 𝐬𝐚𝐧𝐭e – 𝐜𝐨𝐧𝐬𝐨𝐦𝐦𝐞𝐳 𝐚𝐯𝐞𝐜 𝐦𝐨𝐝e𝐫𝐚𝐭𝐢𝐨𝐧 \nsource : The Quiet Man Salon de Provence\n\nIdées loisirs à pratiquer à Salon-de-Provence & pays salonais
URL:https://nostragenda.fr/sortie/les-jeudis-du-quiet-man-24-octobre/
LOCATION:The Quiet Man\, 6 Allées de Craponne\, SALON-DE-PROVENCE\, 13300\, France
CATEGORIES:Agenda,Soirées
ATTACH;FMTTYPE=image/png:https://nostragenda.fr/wp-content/uploads/2024/10/24.10.png
END:VEVENT
BEGIN:VEVENT
DTSTART;TZID=Europe/Paris:20241024T193000
DTEND;TZID=Europe/Paris:20241024T233000
DTSTAMP:20260421T164124
CREATED:20241020T102332Z
LAST-MODIFIED:20241020T102407Z
UID:37172-1729798200-1729812600@nostragenda.fr
SUMMARY:Jeudi au Bahia
DESCRIPTION:Jeudi au Bahia\n  \nJeudi 24 octobre 2024\nà 19h30\n\npour cette nouvelle soirée jeudi DJ\n\n\nJeudi au Bahia\nDJ Kev Lavigne\n\n\n\n\n\nBahia Salon\n\n\nRoute de la Garenne\, 13300 Salon de Provence\nRéservations :  06 40 93 26 38\nSource : Bahia_salon\n\nIdées loisirs à pratiquer à Salon-de-Provence & pays salonais\n\n 
URL:https://nostragenda.fr/sortie/jeudi-au-bahia/
LOCATION:Bahia\, Route de la Garenne\, SALON-DE-PROVENCE\, Select a State:\, 13300\, France
CATEGORIES:Agenda,Soirées
ATTACH;FMTTYPE=image/jpeg:https://nostragenda.fr/wp-content/uploads/2024/10/soiree-DJ-Bahia-Salon-Kev-Lavigne-Nostragenda.jpg
END:VEVENT
BEGIN:VEVENT
DTSTART;TZID=Europe/Paris:20241019T213000
DTEND;TZID=Europe/Paris:20241019T233000
DTSTAMP:20260421T164124
CREATED:20241005T062343Z
LAST-MODIFIED:20241007T062724Z
UID:36846-1729373400-1729380600@nostragenda.fr
SUMMARY:Soirée Night Club Party - Quiet Man
DESCRIPTION:Soirée Night Club Party  – Quiet Man\n  \nSamedi 19 octobre 2024 \n\nNight Club Party\navec DJ Arucci\nà partir de 21h30\n\n\n\nThe Quiet Man\n𝐋’𝐚𝐛𝐮𝐬 𝐝’𝐚𝐥𝐜𝐨𝐨𝐥 𝐞𝐬𝐭 𝐝𝐚𝐧𝐠𝐞𝐫𝐞𝐮𝐱 𝐩𝐨𝐮𝐫 𝐥𝐚 𝐬𝐚𝐧𝐭e – 𝐜𝐨𝐧𝐬𝐨𝐦𝐦𝐞𝐳 𝐚𝐯𝐞𝐜 𝐦𝐨𝐝e𝐫𝐚𝐭𝐢𝐨𝐧 \nsource : The Quiet Man Salon de Provence\n\nRubrique : Soirées c'est ici
URL:https://nostragenda.fr/sortie/soiree-night-club-party-quiet-man-19-octobre/
LOCATION:The Quiet Man\, 6 Allées de Craponne\, SALON-DE-PROVENCE\, 13300\, France
CATEGORIES:Agenda,Soirées
ATTACH;FMTTYPE=image/png:https://nostragenda.fr/wp-content/uploads/2024/10/19.10.png
END:VEVENT
BEGIN:VEVENT
DTSTART;TZID=Europe/Paris:20241018T213000
DTEND;TZID=Europe/Paris:20241018T233000
DTSTAMP:20260421T164124
CREATED:20241005T061734Z
LAST-MODIFIED:20241005T061846Z
UID:36843-1729287000-1729294200@nostragenda.fr
SUMMARY:Soirée DJ Nagini - Quiet Man
DESCRIPTION:Soirée DJ Nagini – Quiet Man\n  \nVendredi 18 octobre 2024 \n  \nSoirée Night Music DJ Nagini \n\nà partir de 21h30\n\n\nThe Quiet Man \n𝐋’𝐚𝐛𝐮𝐬 𝐝’𝐚𝐥𝐜𝐨𝐨𝐥 𝐞𝐬𝐭 𝐝𝐚𝐧𝐠𝐞𝐫𝐞𝐮𝐱 𝐩𝐨𝐮𝐫 𝐥𝐚 𝐬𝐚𝐧𝐭e – 𝐜𝐨𝐧𝐬𝐨𝐦𝐦𝐞𝐳 𝐚𝐯𝐞𝐜 𝐦𝐨𝐝e𝐫𝐚𝐭𝐢𝐨𝐧 \nsource : The Quiet Man Salon de Provence\n\nRubrique : Soirées c'est ici
URL:https://nostragenda.fr/sortie/soiree-dj-nagini-quiet-man-18-octobre/
LOCATION:The Quiet Man\, 6 Allées de Craponne\, SALON-DE-PROVENCE\, 13300\, France
CATEGORIES:Agenda,Soirées
ATTACH;FMTTYPE=image/png:https://nostragenda.fr/wp-content/uploads/2024/10/18.10.png
END:VEVENT
BEGIN:VEVENT
DTSTART;TZID=Europe/Paris:20241018T200000
DTEND;TZID=Europe/Paris:20241018T233000
DTSTAMP:20260421T164124
CREATED:20241018T093201Z
LAST-MODIFIED:20241018T143811Z
UID:37033-1729281600-1729294200@nostragenda.fr
SUMMARY:Apéromix DJ Noe Casares - Au Fut et à Mesure
DESCRIPTION:Apéromix DJ Noe Casares\n– Au Fut et à Mesure\n  \nVendredi 18 octobre 2024 \nà partir de 20h \nDJ Noe Casares\nc’est au Fût que ça se passe \nl’abus d’alcool est dangereux pour la santé \, A consommer avec modération \nSource : Au fut & à mesure Salon\n\nAgenda * Aujourd'hui
URL:https://nostragenda.fr/sortie/aperomix-dj-noe-casares-au-fut-et-a-mesure/
LOCATION:Au fut & à mesure\, 66 Boulevard Maréchal Foch\, Salon-de-Provence\, 13300\, France
CATEGORIES:Agenda,Soirées
ATTACH;FMTTYPE=image/jpeg:https://nostragenda.fr/wp-content/uploads/2024/10/aperomix-DJ-Noe-Casares-Au-Fut-Salon-agenda-Morgan-Nostragenda-Ce-week-end-a-Salon.jpg
END:VEVENT
BEGIN:VEVENT
DTSTART;TZID=Europe/Paris:20241018T190000
DTEND;TZID=Europe/Paris:20241018T235500
DTSTAMP:20260421T164124
CREATED:20241018T052341Z
LAST-MODIFIED:20241018T052639Z
UID:37024-1729278000-1729295700@nostragenda.fr
SUMMARY:Apéro Mix Dj Wahwhine - My Beers
DESCRIPTION:Apéro Mix Dj Wahwhine – My Beers\n  \nVendredi 18 octobre 2024 \nà partir de 19h \nApéro Mix avec Dj Wahwhine\nMy Beers Salon de Provence \nPlace Jules Morgan \nc’est apéro mix dans ton My Beers Salon \nSource : My Beers Salon de Provence\n\nRubrique : Soirées c'est ici
URL:https://nostragenda.fr/sortie/apero-mix-dj-wahwhine-my-beers/
LOCATION:My Beers\, Place Jules Morgan\, Salon-de-Provence\, 13300\, France
CATEGORIES:Agenda,Soirées
ATTACH;FMTTYPE=image/jpeg:https://nostragenda.fr/wp-content/uploads/2024/10/apero-mix-My-Beers-Salon-Dj-Wahwhine-Nostragenda-Morgan.jpg
END:VEVENT
BEGIN:VEVENT
DTSTART;TZID=Europe/Paris:20241017T190000
DTEND;TZID=Europe/Paris:20241017T233000
DTSTAMP:20260421T164124
CREATED:20241005T060853Z
LAST-MODIFIED:20241005T061021Z
UID:36839-1729191600-1729207800@nostragenda.fr
SUMMARY:Scène Ouverte - Quiet Man
DESCRIPTION:Scène Ouverte – Quiet Man\n  \nJeudi 17 octobre 2024 \nà 19h \n\nThe Quiet Man\n\nScène Ouverte\n  \n\nà partir de 21h30\nLes jeudis du Quiet Man\n  \n \n\n  \n\n\n𝐋’𝐚𝐛𝐮𝐬 𝐝’𝐚𝐥𝐜𝐨𝐨𝐥 𝐞𝐬𝐭 𝐝𝐚𝐧𝐠𝐞𝐫𝐞𝐮𝐱 𝐩𝐨𝐮𝐫 𝐥𝐚 𝐬𝐚𝐧𝐭e – 𝐜𝐨𝐧𝐬𝐨𝐦𝐦𝐞𝐳 𝐚𝐯𝐞𝐜 𝐦𝐨𝐝e𝐫𝐚𝐭𝐢𝐨𝐧 \nsource : The Quiet Man Salon de Provence\n\nRubrique : Soirées c'est ici
URL:https://nostragenda.fr/sortie/scene-ouverte-quiet-man-17-octobre/
LOCATION:The Quiet Man\, 6 Allées de Craponne\, SALON-DE-PROVENCE\, 13300\, France
CATEGORIES:Agenda,Concerts,Soirées
ATTACH;FMTTYPE=image/png:https://nostragenda.fr/wp-content/uploads/2024/10/17.10.24.png
END:VEVENT
BEGIN:VEVENT
DTSTART;TZID=Europe/Paris:20241012T213000
DTEND;TZID=Europe/Paris:20241012T233000
DTSTAMP:20260421T164124
CREATED:20241005T053121Z
LAST-MODIFIED:20241005T053235Z
UID:36825-1728768600-1728775800@nostragenda.fr
SUMMARY:Saturday Night Party - Quiet Man
DESCRIPTION:Saturday Night Party – Quiet Man\n  \nSamedi 12 octobre 2024 \n\nà partir de 21h30\n\n\nThe Quiet Man \nSoirée Saturday Night Party\navec DJ Denis C\n  \n𝐋’𝐚𝐛𝐮𝐬 𝐝’𝐚𝐥𝐜𝐨𝐨𝐥 𝐞𝐬𝐭 𝐝𝐚𝐧𝐠𝐞𝐫𝐞𝐮𝐱 𝐩𝐨𝐮𝐫 𝐥𝐚 𝐬𝐚𝐧𝐭e – 𝐜𝐨𝐧𝐬𝐨𝐦𝐦𝐞𝐳 𝐚𝐯𝐞𝐜 𝐦𝐨𝐝e𝐫𝐚𝐭𝐢𝐨𝐧 \nsource : The Quiet Man Salon de Provence\n\nIdées loisirs à pratiquer à Salon-de-Provence & pays salonais
URL:https://nostragenda.fr/sortie/saturday-night-party-quiet-man-12-octobre/
LOCATION:The Quiet Man\, 6 Allées de Craponne\, SALON-DE-PROVENCE\, 13300\, France
CATEGORIES:Agenda,Soirées
ATTACH;FMTTYPE=image/png:https://nostragenda.fr/wp-content/uploads/2024/10/12.10.png
END:VEVENT
BEGIN:VEVENT
DTSTART;TZID=Europe/Paris:20241011T213000
DTEND;TZID=Europe/Paris:20241011T233000
DTSTAMP:20260421T164124
CREATED:20241005T052514Z
LAST-MODIFIED:20241005T052623Z
UID:36822-1728682200-1728689400@nostragenda.fr
SUMMARY:Soirée DJ Nagini - Quiet Man
DESCRIPTION:Soirée DJ Nagini – Quiet Man\n  \nVendredi 11 octobre 2024 \n  \nSoirée Night Music DJ Nagini \n\nà partir de 21h30\n\n\nThe Quiet Man \n𝐋’𝐚𝐛𝐮𝐬 𝐝’𝐚𝐥𝐜𝐨𝐨𝐥 𝐞𝐬𝐭 𝐝𝐚𝐧𝐠𝐞𝐫𝐞𝐮𝐱 𝐩𝐨𝐮𝐫 𝐥𝐚 𝐬𝐚𝐧𝐭e – 𝐜𝐨𝐧𝐬𝐨𝐦𝐦𝐞𝐳 𝐚𝐯𝐞𝐜 𝐦𝐨𝐝e𝐫𝐚𝐭𝐢𝐨𝐧 \nsource : The Quiet Man Salon de Provence\n\nRubrique : Soirées c'est ici
URL:https://nostragenda.fr/sortie/soiree-dj-nagini-quiet-man-11-octobre/
LOCATION:The Quiet Man\, 6 Allées de Craponne\, SALON-DE-PROVENCE\, 13300\, France
CATEGORIES:Agenda,Soirées
ATTACH;FMTTYPE=image/png:https://nostragenda.fr/wp-content/uploads/2024/10/11.10.png
END:VEVENT
BEGIN:VEVENT
DTSTART;TZID=Europe/Paris:20241011T200000
DTEND;TZID=Europe/Paris:20241011T233000
DTSTAMP:20260421T164124
CREATED:20241010T171243Z
LAST-MODIFIED:20241010T171645Z
UID:36952-1728676800-1728689400@nostragenda.fr
SUMMARY:Apéromix John Protocole & Khalil - Au Fut et à Mesure
DESCRIPTION:Apéromix John Protocole & Khalil\n– Au Fut et à Mesure\n  \nVendredi 11 octobre 2024 \nà partir de 20h \nDJ John Protocole & Khalil Collectif Flair sound\nc’est au Fût que ça se passe \nl’abus d’alcool est dangereux pour la santé \, A consommer avec modération \nSource : Au fut & à mesure Salon\n\nAgenda * Aujourd'hui
URL:https://nostragenda.fr/sortie/aperomix-john-protocole-khalil-au-fut-et-a-mesure-11-octobre/
LOCATION:Au fut & à mesure\, 66 Boulevard Maréchal Foch\, Salon-de-Provence\, 13300\, France
CATEGORIES:Agenda,Soirées
ATTACH;FMTTYPE=image/jpeg:https://nostragenda.fr/wp-content/uploads/2024/10/Aperomix-au-fut-john-protocole-khalil-Salon-Morgan-Nostragenda-Ce-soir.jpg
END:VEVENT
BEGIN:VEVENT
DTSTART;TZID=Europe/Paris:20241011T183000
DTEND;TZID=Europe/Paris:20241011T233000
DTSTAMP:20260421T164124
CREATED:20230926T040250Z
LAST-MODIFIED:20240930T054910Z
UID:15638-1728671400-1728689400@nostragenda.fr
SUMMARY:Oktoberfest - My Beers
DESCRIPTION:Oktoberfest – My Beers\n  \nVendredi 11 octobre 2024 \nà partir de 18h30 \nMy Beers Salon de Provence \nOktoberfest\n– Déco bavaroise et le staff en tenue traditionnelle\n– Bières allemandes en pression \n– DJ Chabz pour vous ambiancer\nde 18h30 à 20h30 et de 22h30 à 1h\n– Groupe  “ Hangover “ de 20h30 à 22h30\n– Concours de porté de pintes\n– Percée du fut\n– Planche apéro et Bretzel \npour la célèbre fête de la bière allemande \nDéguisements bavarois fortement recommandé. \nFin de service à 0h30 \n« L’abus d’alcool est dangereux pour la santé\, à consommer avec modération » \nsource : My Beers Salon de Provence\n\nRubrique : Soirées c'est ici
URL:https://nostragenda.fr/sortie/oktoberfest-my-beers-2024/
LOCATION:My Beers\, Place Jules Morgan\, Salon-de-Provence\, 13300\, France
CATEGORIES:Agenda,Concerts,Soirées
ATTACH;FMTTYPE=image/jpeg:https://nostragenda.fr/wp-content/uploads/2023/09/oktober-fest-My-beers-Salon-Soirees-Morgan-Agenda-Nostragenda-Sortir-ce-soir-a-Salon.jpg
END:VEVENT
BEGIN:VEVENT
DTSTART;TZID=Europe/Paris:20241010T213000
DTEND;TZID=Europe/Paris:20241010T233000
DTSTAMP:20260421T164124
CREATED:20241005T052104Z
LAST-MODIFIED:20241005T052135Z
UID:36819-1728595800-1728603000@nostragenda.fr
SUMMARY:Les Jeudis du Quiet Man
DESCRIPTION:Les Jeudis du Quiet Man\n  \nJeudi 10 octobre 2024 \nà partir de 21h30 \n\n\n\nThe Quiet Man \nLes Jeudis du Quiet Man\n𝐮𝐧𝐞 𝐬𝐨𝐢𝐫𝐞́𝐞 𝐋𝐚𝐭𝐢𝐧𝐨/𝐒𝐡𝐚𝐭𝐭𝐚/Afro\nMicou sound system \n𝐋’𝐚𝐛𝐮𝐬 𝐝’𝐚𝐥𝐜𝐨𝐨𝐥 𝐞𝐬𝐭 𝐝𝐚𝐧𝐠𝐞𝐫𝐞𝐮𝐱 𝐩𝐨𝐮𝐫 𝐥𝐚 𝐬𝐚𝐧𝐭e – 𝐜𝐨𝐧𝐬𝐨𝐦𝐦𝐞𝐳 𝐚𝐯𝐞𝐜 𝐦𝐨𝐝e𝐫𝐚𝐭𝐢𝐨𝐧 \nsource : The Quiet Man Salon de Provence\n\nIdées loisirs à pratiquer à Salon-de-Provence & pays salonais
URL:https://nostragenda.fr/sortie/les-jeudis-du-quiet-man-10-octobre/
LOCATION:The Quiet Man\, 6 Allées de Craponne\, SALON-DE-PROVENCE\, 13300\, France
CATEGORIES:Agenda,Soirées
ATTACH;FMTTYPE=image/png:https://nostragenda.fr/wp-content/uploads/2024/10/10.10.png
END:VEVENT
BEGIN:VEVENT
DTSTART;TZID=Europe/Paris:20241005T213000
DTEND;TZID=Europe/Paris:20241005T233000
DTSTAMP:20260421T164124
CREATED:20241003T060615Z
LAST-MODIFIED:20241003T060835Z
UID:36763-1728163800-1728171000@nostragenda.fr
SUMMARY:Soirée Night Club Party - Quiet Man
DESCRIPTION:Soirée Night Club Party  – Quiet Man\n  \nSamedi 05 octobre 2024 \n\nNight Club Party\navec DJ Arucci\nà partir de 21h30\n\n\n\nThe Quiet Man\n𝐋’𝐚𝐛𝐮𝐬 𝐝’𝐚𝐥𝐜𝐨𝐨𝐥 𝐞𝐬𝐭 𝐝𝐚𝐧𝐠𝐞𝐫𝐞𝐮𝐱 𝐩𝐨𝐮𝐫 𝐥𝐚 𝐬𝐚𝐧𝐭e – 𝐜𝐨𝐧𝐬𝐨𝐦𝐦𝐞𝐳 𝐚𝐯𝐞𝐜 𝐦𝐨𝐝e𝐫𝐚𝐭𝐢𝐨𝐧 \nsource : The Quiet Man Salon de Provence\n\nRubrique : Soirées c'est ici
URL:https://nostragenda.fr/sortie/soiree-night-club-party-quiet-man-05-octobre/
LOCATION:The Quiet Man\, 6 Allées de Craponne\, SALON-DE-PROVENCE\, 13300\, France
CATEGORIES:Agenda,Soirées
ATTACH;FMTTYPE=image/png:https://nostragenda.fr/wp-content/uploads/2024/10/5.10.png
END:VEVENT
BEGIN:VEVENT
DTSTART;TZID=Europe/Paris:20241004T213000
DTEND;TZID=Europe/Paris:20241004T233000
DTSTAMP:20260421T164124
CREATED:20241003T060157Z
LAST-MODIFIED:20241003T060211Z
UID:36758-1728077400-1728084600@nostragenda.fr
SUMMARY:Soirée DJ Nagini - Quiet Man
DESCRIPTION:Soirée DJ Nagini – Quiet Man\n  \nVendredi 04 octobre 2024 \n \nSoirée Night Music DJ Nagini \n\nà partir de 21h30\n\n\nThe Quiet Man \n𝐋’𝐚𝐛𝐮𝐬 𝐝’𝐚𝐥𝐜𝐨𝐨𝐥 𝐞𝐬𝐭 𝐝𝐚𝐧𝐠𝐞𝐫𝐞𝐮𝐱 𝐩𝐨𝐮𝐫 𝐥𝐚 𝐬𝐚𝐧𝐭e – 𝐜𝐨𝐧𝐬𝐨𝐦𝐦𝐞𝐳 𝐚𝐯𝐞𝐜 𝐦𝐨𝐝e𝐫𝐚𝐭𝐢𝐨𝐧 \nsource : The Quiet Man Salon de Provence\n\nRubrique : Soirées c'est ici
URL:https://nostragenda.fr/sortie/soiree-dj-nagini-quiet-man-04-octobre/
LOCATION:The Quiet Man\, 6 Allées de Craponne\, SALON-DE-PROVENCE\, 13300\, France
CATEGORIES:Agenda,Soirées
ATTACH;FMTTYPE=image/png:https://nostragenda.fr/wp-content/uploads/2024/10/4.10.png
END:VEVENT
BEGIN:VEVENT
DTSTART;TZID=Europe/Paris:20241004T200000
DTEND;TZID=Europe/Paris:20241004T233000
DTSTAMP:20260421T164124
CREATED:20241004T053339Z
LAST-MODIFIED:20241004T053706Z
UID:36798-1728072000-1728084600@nostragenda.fr
SUMMARY:Apéromix Kev Lavigne - Au Fut et à Mesure
DESCRIPTION:Apéromix Kev Lavigne – Au Fut et à Mesure\n  \nVendredi 04 octobre 2024 \nà partir de 20h \nApéromix Kev Lavigne\nc’est au Fût que ça se passe \nDJ Kev Lavigne\n  \nl’abus d’alcool est dangereux pour la santé \, A consommer avec modération \nSource : Au fut & à mesure Salon\n\nRubrique : Soirées c'est ici
URL:https://nostragenda.fr/sortie/aperomix-kev-lavigne-au-fut-et-a-mesure-04-octobre/
LOCATION:Au fut & à mesure\, 66 Boulevard Maréchal Foch\, Salon-de-Provence\, 13300\, France
CATEGORIES:Agenda,Soirées
ATTACH;FMTTYPE=image/jpeg:https://nostragenda.fr/wp-content/uploads/2024/10/aperomix-kev-Lavigne-au-Fut-Salon-agenda-soirees-Nostragenda-Morgan-ce-soir-a-Salon.jpg
END:VEVENT
BEGIN:VEVENT
DTSTART;TZID=Europe/Paris:20241004T190000
DTEND;TZID=Europe/Paris:20241004T235500
DTSTAMP:20260421T164124
CREATED:20240930T053051Z
LAST-MODIFIED:20240930T053117Z
UID:36718-1728068400-1728086100@nostragenda.fr
SUMMARY:Apéro Mix Dj Meylips - My Beers
DESCRIPTION:Apéro Mix Dj Meylips – My Beers\n  \nVendredi 04 octobre 2024 \nà partir de 19h \nApéro Mix avec Dj Meylips\nMy Beers Salon de Provence \nPlace Jules Morgan \nc’est apéro mix dans ton My Beers Salon \nSource : My Beers Salon de Provence\n\nRubrique : Soirées c'est ici
URL:https://nostragenda.fr/sortie/a/
LOCATION:My Beers\, Place Jules Morgan\, Salon-de-Provence\, 13300\, France
CATEGORIES:Agenda,Soirées
ATTACH;FMTTYPE=image/jpeg:https://nostragenda.fr/wp-content/uploads/2024/09/APERO-MIX-My-Beers-Salon-Meylips-Nostragenda-Salon-de-Provence-Morgan.jpg
END:VEVENT
BEGIN:VEVENT
DTSTART;TZID=Europe/Paris:20241003T213000
DTEND;TZID=Europe/Paris:20241003T233000
DTSTAMP:20260421T164124
CREATED:20241003T055621Z
LAST-MODIFIED:20241003T055642Z
UID:36755-1727991000-1727998200@nostragenda.fr
SUMMARY:Les Jeudis du Quiet Man
DESCRIPTION:Les Jeudis du Quiet Man\n  \nJeudi 03 octobre 2024 \nà partir de 21h30 \n\n\n\nThe Quiet Man \nLes Jeudis du Quiet Man\n𝐮𝐧𝐞 𝐬𝐨𝐢𝐫𝐞́𝐞 𝐋𝐚𝐭𝐢𝐧𝐨/𝐒𝐡𝐚𝐭𝐭𝐚/Afro\nMicou sound system \n𝐋’𝐚𝐛𝐮𝐬 𝐝’𝐚𝐥𝐜𝐨𝐨𝐥 𝐞𝐬𝐭 𝐝𝐚𝐧𝐠𝐞𝐫𝐞𝐮𝐱 𝐩𝐨𝐮𝐫 𝐥𝐚 𝐬𝐚𝐧𝐭e – 𝐜𝐨𝐧𝐬𝐨𝐦𝐦𝐞𝐳 𝐚𝐯𝐞𝐜 𝐦𝐨𝐝e𝐫𝐚𝐭𝐢𝐨𝐧 \nsource : The Quiet Man Salon de Provence\n\nIdées loisirs à pratiquer à Salon-de-Provence & pays salonais
URL:https://nostragenda.fr/sortie/les-jeudis-du-quiet-man-03-octobre/
LOCATION:The Quiet Man\, 6 Allées de Craponne\, SALON-DE-PROVENCE\, 13300\, France
CATEGORIES:Agenda,Soirées
ATTACH;FMTTYPE=image/png:https://nostragenda.fr/wp-content/uploads/2024/10/03.10.png
END:VEVENT
BEGIN:VEVENT
DTSTART;TZID=Europe/Paris:20240928T213000
DTEND;TZID=Europe/Paris:20240928T233000
DTSTAMP:20260421T164124
CREATED:20240926T065738Z
LAST-MODIFIED:20240926T065851Z
UID:36624-1727559000-1727566200@nostragenda.fr
SUMMARY:Soirée Rétro Années 80\, 90 et 2000 - Quiet Man
DESCRIPTION:Soirée Rétro Années 80\, 90 et 2000 – Quiet Man\n  \nSamedi 28 septembre 2024 \n\nSoirée Rétro Années 80\, 90 et 2000\navec Dj Ghiss & DJ Arucci\nà partir de 21h30\n\nAmbiance Rétro: Plongez dans une atmosphère authentique avec une décoration inspirée de chaque décennie.\nBorne d’arcade\, néon\, affiche et bien d’autres surprises encore.\ndu disco\, de la pop\, du rock\, du R&B ou de l’électro.\n\n\nConcours de Déguisements: Sortez vos meilleures tenues rétro et participez à notre concours pour tenter de remporter des cadeaux. Look disco des années 80\, streetwear des années 90 ou Y2K des années 2000\, tout est permis !\n\n\n\nThe Quiet Man\n𝐋’𝐚𝐛𝐮𝐬 𝐝’𝐚𝐥𝐜𝐨𝐨𝐥 𝐞𝐬𝐭 𝐝𝐚𝐧𝐠𝐞𝐫𝐞𝐮𝐱 𝐩𝐨𝐮𝐫 𝐥𝐚 𝐬𝐚𝐧𝐭e – 𝐜𝐨𝐧𝐬𝐨𝐦𝐦𝐞𝐳 𝐚𝐯𝐞𝐜 𝐦𝐨𝐝e𝐫𝐚𝐭𝐢𝐨𝐧 \nsource : The Quiet Man Salon de Provence\n\nRubrique : Soirées c'est ici
URL:https://nostragenda.fr/sortie/soiree-retro-annees-80-90-et-2000-quiet-man/
LOCATION:The Quiet Man\, 6 Allées de Craponne\, SALON-DE-PROVENCE\, 13300\, France
CATEGORIES:Agenda,Soirées
ATTACH;FMTTYPE=image/png:https://nostragenda.fr/wp-content/uploads/2024/09/28.09.png
END:VEVENT
BEGIN:VEVENT
DTSTART;TZID=Europe/Paris:20240927T213000
DTEND;TZID=Europe/Paris:20240927T233000
DTSTAMP:20260421T164124
CREATED:20240926T064353Z
LAST-MODIFIED:20240926T065004Z
UID:36621-1727472600-1727479800@nostragenda.fr
SUMMARY:Soirée DJ Nagini - Quiet Man
DESCRIPTION:Soirée DJ Nagini – Quiet Man\n  \nVendredi 27 septembre 2024 \nSoirée Night Music DJ Nagini \n\nà partir de 21h30\n\n\nThe Quiet Man \n𝐋’𝐚𝐛𝐮𝐬 𝐝’𝐚𝐥𝐜𝐨𝐨𝐥 𝐞𝐬𝐭 𝐝𝐚𝐧𝐠𝐞𝐫𝐞𝐮𝐱 𝐩𝐨𝐮𝐫 𝐥𝐚 𝐬𝐚𝐧𝐭e – 𝐜𝐨𝐧𝐬𝐨𝐦𝐦𝐞𝐳 𝐚𝐯𝐞𝐜 𝐦𝐨𝐝e𝐫𝐚𝐭𝐢𝐨𝐧 \nsource : The Quiet Man Salon de Provence\n\nRubrique : Soirées c'est ici
URL:https://nostragenda.fr/sortie/soiree-dj-nagini-quiet-man-27-septembre/
LOCATION:The Quiet Man\, 6 Allées de Craponne\, SALON-DE-PROVENCE\, 13300\, France
CATEGORIES:Agenda,Soirées
ATTACH;FMTTYPE=image/png:https://nostragenda.fr/wp-content/uploads/2024/09/27.09.png
END:VEVENT
BEGIN:VEVENT
DTSTART;TZID=Europe/Paris:20240927T190000
DTEND;TZID=Europe/Paris:20240927T235500
DTSTAMP:20260421T164124
CREATED:20240926T071359Z
LAST-MODIFIED:20240926T071423Z
UID:36629-1727463600-1727481300@nostragenda.fr
SUMMARY:Apéro Mix Dj Flo Santiago - My Beers
DESCRIPTION:Apéro Mix Dj Flo Santiago – My Beers\n  \nVendredi 27 septembre 2024 \nà partir de 19h \nApéro Mix avec Dj Flo Santiago\nMy Beers Salon de Provence \nPlace Jules Morgan \nc’est apéro mix dans ton My Beers Salon \nSource : My Beers Salon de Provence
URL:https://nostragenda.fr/sortie/apero-mix-dj-flo-santiago-my-beers-27-septembre/
LOCATION:My Beers\, Place Jules Morgan\, Salon-de-Provence\, 13300\, France
CATEGORIES:Agenda,Soirées
ATTACH;FMTTYPE=image/jpeg:https://nostragenda.fr/wp-content/uploads/2024/09/apero-mix-My-Beers-DJ-Flo-Santiago-Soirees-MORGAN-NOSTRAGENDA-Salon-de-Provence-sortir-ce-soir.jpg
END:VEVENT
END:VCALENDAR