BEGIN:VCALENDAR
VERSION:2.0
PRODID:-//Nostragenda : Sorties &amp; Loisirs sur Salon-de-Provence  - Agenda - ECPv6.15.20//NONSGML v1.0//EN
CALSCALE:GREGORIAN
METHOD:PUBLISH
X-WR-CALNAME:Nostragenda : Sorties &amp; Loisirs sur Salon-de-Provence  - Agenda
X-ORIGINAL-URL:https://nostragenda.fr
X-WR-CALDESC:Évènements pour Nostragenda : Sorties &amp; Loisirs sur Salon-de-Provence  - Agenda
REFRESH-INTERVAL;VALUE=DURATION:PT1H
X-Robots-Tag:noindex
X-PUBLISHED-TTL:PT1H
BEGIN:VTIMEZONE
TZID:Europe/Paris
BEGIN:DAYLIGHT
TZOFFSETFROM:+0100
TZOFFSETTO:+0200
TZNAME:CEST
DTSTART:20230326T010000
END:DAYLIGHT
BEGIN:STANDARD
TZOFFSETFROM:+0200
TZOFFSETTO:+0100
TZNAME:CET
DTSTART:20231029T010000
END:STANDARD
BEGIN:DAYLIGHT
TZOFFSETFROM:+0100
TZOFFSETTO:+0200
TZNAME:CEST
DTSTART:20240331T010000
END:DAYLIGHT
BEGIN:STANDARD
TZOFFSETFROM:+0200
TZOFFSETTO:+0100
TZNAME:CET
DTSTART:20241027T010000
END:STANDARD
BEGIN:DAYLIGHT
TZOFFSETFROM:+0100
TZOFFSETTO:+0200
TZNAME:CEST
DTSTART:20250330T010000
END:DAYLIGHT
BEGIN:STANDARD
TZOFFSETFROM:+0200
TZOFFSETTO:+0100
TZNAME:CET
DTSTART:20251026T010000
END:STANDARD
END:VTIMEZONE
BEGIN:VEVENT
DTSTART;TZID=Europe/Paris:20241121T180000
DTEND;TZID=Europe/Paris:20241121T233000
DTSTAMP:20260421T133314
CREATED:20241110T121036Z
LAST-MODIFIED:20241120T061934Z
UID:37421-1732212000-1732231800@nostragenda.fr
SUMMARY:Soirée Beaujolais Nouveau - Quiet Man
DESCRIPTION:Soirée Beaujolais Nouveau – Quiet Man\n  \nJeudi 21 novembre 2024 \nà partir de 18h \n\n\n\nThe Quiet Man \nSoirée Beaujolais Nouveau\nDJ Lucas en mode vinyle.Notre DJ jouera vos morceaux préférés sur demande ! Ambiance garantie pour une soirée conviviale où chacun peut participer à la playlist.\nApportez votre baguette de pain\, charcuterie offerte de 18h a 20h pour l’achat d’une bouteille de Beaujolais Nouveau. \n\n22H: Soirée Dj By Micou sound system\nLatino session / Shatta / Afro\n \n\n𝐋’𝐚𝐛𝐮𝐬 𝐝’𝐚𝐥𝐜𝐨𝐨𝐥 𝐞𝐬𝐭 𝐝𝐚𝐧𝐠𝐞𝐫𝐞𝐮𝐱 𝐩𝐨𝐮𝐫 𝐥𝐚 𝐬𝐚𝐧𝐭e – 𝐜𝐨𝐧𝐬𝐨𝐦𝐦𝐞𝐳 𝐚𝐯𝐞𝐜 𝐦𝐨𝐝e𝐫𝐚𝐭𝐢𝐨𝐧 \nsource : The Quiet Man Salon de Provence\n\nIdées loisirs à pratiquer à Salon-de-Provence & pays salonais
URL:https://nostragenda.fr/sortie/soiree-beaujolais-nouveau-quiet-man/
LOCATION:The Quiet Man\, 6 Allées de Craponne\, SALON-DE-PROVENCE\, 13300\, France
CATEGORIES:Agenda,Soirées
ATTACH;FMTTYPE=image/jpeg:https://nostragenda.fr/wp-content/uploads/2024/11/soiree-beaujolais-Quiet-Man-Salon-DJ-Lucas-Nostragenda-Ce-soir-a-Salon.jpg
END:VEVENT
BEGIN:VEVENT
DTSTART;TZID=Europe/Paris:20241116T213000
DTEND;TZID=Europe/Paris:20241116T233000
DTSTAMP:20260421T133314
CREATED:20241110T115530Z
LAST-MODIFIED:20241110T115600Z
UID:37409-1731792600-1731799800@nostragenda.fr
SUMMARY:Soirée Night Club Party - Quiet Man
DESCRIPTION:Soirée Night Club Party  – Quiet Man\n  \nSamedi 16 novembre 2024 \nà partir de 21h30\nThe Quiet Man\n\n\nNight Club Party\navec DJ Arucci\n\n\n\nThe Quiet Man\n𝐋’𝐚𝐛𝐮𝐬 𝐝’𝐚𝐥𝐜𝐨𝐨𝐥 𝐞𝐬𝐭 𝐝𝐚𝐧𝐠𝐞𝐫𝐞𝐮𝐱 𝐩𝐨𝐮𝐫 𝐥𝐚 𝐬𝐚𝐧𝐭e – 𝐜𝐨𝐧𝐬𝐨𝐦𝐦𝐞𝐳 𝐚𝐯𝐞𝐜 𝐦𝐨𝐝e𝐫𝐚𝐭𝐢𝐨𝐧 \nsource : The Quiet Man Salon de Provence\n\nRubrique : Soirées c'est ici
URL:https://nostragenda.fr/sortie/soiree-night-club-party-quiet-man-16-novembre/
LOCATION:The Quiet Man\, 6 Allées de Craponne\, SALON-DE-PROVENCE\, 13300\, France
CATEGORIES:Agenda,Soirées
ATTACH;FMTTYPE=image/png:https://nostragenda.fr/wp-content/uploads/2024/11/16.11.png
END:VEVENT
BEGIN:VEVENT
DTSTART;TZID=Europe/Paris:20241115T213000
DTEND;TZID=Europe/Paris:20241115T233000
DTSTAMP:20260421T133314
CREATED:20241110T114935Z
LAST-MODIFIED:20241110T115029Z
UID:37406-1731706200-1731713400@nostragenda.fr
SUMMARY:Friday Night Party - Quiet Man
DESCRIPTION:Friday Night Party – Quiet Man\n  \nVendredi 15 novembre 2024 \n\nSoirée Friday Night Party\navec DJ Omega M\nà partir de 21h30\n\n\nThe Quiet Man \n𝐋’𝐚𝐛𝐮𝐬 𝐝’𝐚𝐥𝐜𝐨𝐨𝐥 𝐞𝐬𝐭 𝐝𝐚𝐧𝐠𝐞𝐫𝐞𝐮𝐱 𝐩𝐨𝐮𝐫 𝐥𝐚 𝐬𝐚𝐧𝐭e – 𝐜𝐨𝐧𝐬𝐨𝐦𝐦𝐞𝐳 𝐚𝐯𝐞𝐜 𝐦𝐨𝐝e𝐫𝐚𝐭𝐢𝐨𝐧 \nsource : The Quiet Man Salon de Provence\n\nIdées loisirs à pratiquer à Salon-de-Provence & pays salonais
URL:https://nostragenda.fr/sortie/friday-night-party-quiet-man-15-novembre/
LOCATION:The Quiet Man\, 6 Allées de Craponne\, SALON-DE-PROVENCE\, 13300\, France
CATEGORIES:Agenda,Soirées
ATTACH;FMTTYPE=image/png:https://nostragenda.fr/wp-content/uploads/2024/11/15.11.png
END:VEVENT
BEGIN:VEVENT
DTSTART;TZID=Europe/Paris:20241115T200000
DTEND;TZID=Europe/Paris:20241115T233000
DTSTAMP:20260421T133314
CREATED:20241115T164445Z
LAST-MODIFIED:20241115T164750Z
UID:37527-1731700800-1731713400@nostragenda.fr
SUMMARY:Apéromix DJ Sam - Au Fut et à Mesure
DESCRIPTION:Apéromix DJ Sam – Au Fut et à Mesure\n  \nVendredi 15 novembre 2024 \nà partir de 20h \nDJ Sam\nc’est au Fût que ça se passe \nl’abus d’alcool est dangereux pour la santé \, A consommer avec modération \nSource : Au fut & à mesure Salon\n\nAgenda * Aujourd'hui
URL:https://nostragenda.fr/sortie/aperomix-dj-sam-au-fut-et-a-mesure/
LOCATION:Au fut & à mesure\, 66 Boulevard Maréchal Foch\, Salon-de-Provence\, 13300\, France
CATEGORIES:Agenda,Soirées
ATTACH;FMTTYPE=image/jpeg:https://nostragenda.fr/wp-content/uploads/2024/11/aperomix-DJ-Sam-Au-Fut-Salon-agenda-soirees-Morgan-week-end-ce-soir-a-Salon-Nostragenda.jpg
END:VEVENT
BEGIN:VEVENT
DTSTART;TZID=Europe/Paris:20241115T190000
DTEND;TZID=Europe/Paris:20241115T235500
DTSTAMP:20260421T133314
CREATED:20241112T144100Z
LAST-MODIFIED:20241112T144614Z
UID:37471-1731697200-1731714900@nostragenda.fr
SUMMARY:Soirée Mamma Mia - My Beers
DESCRIPTION:Soirée Mamma Mia – My Beers\n  \nVendredi 15 novembre 2024 \nà partir de 19h \nMy Beers Salon de Provence \nPlace Jules Morgan \nSoirée Mamma Mia – My Beers\nAu programme : \nDisco fever\nDJ Totoff\n– Décorations flashy et boule à facettes pour un retour dans les années 70-80 \nUne soirée déjantée sous le signe du funk\, du glamour et du rétro.– Sors ta meilleure tenue à paillettes et viens faire chauffer la piste de danse\navec une équipe totalement déguisée sur le thème : Disco fever. \nFin du service à 0h45 \nSource : My Beers Salon de Provence\n\nIdées loisirs à pratiquer à Salon-de-Provence & pays salonais
URL:https://nostragenda.fr/sortie/soiree-mamma-mia-my-beers/
LOCATION:My Beers\, Place Jules Morgan\, Salon-de-Provence\, 13300\, France
CATEGORIES:Agenda,Animations,Soirées
ATTACH;FMTTYPE=image/jpeg:https://nostragenda.fr/wp-content/uploads/2024/11/soiree-Mamma-Mia-Disco-fever-My-beers-Salon-Place-Morgan-Nostragenda-sorties-a-Salon-de-Provence.jpg
END:VEVENT
BEGIN:VEVENT
DTSTART;TZID=Europe/Paris:20241114T190000
DTEND;TZID=Europe/Paris:20241114T233000
DTSTAMP:20260421T133314
CREATED:20241110T113256Z
LAST-MODIFIED:20241110T113342Z
UID:37397-1731610800-1731627000@nostragenda.fr
SUMMARY:Scène Ouverte - Quiet Man
DESCRIPTION:Scène Ouverte – Quiet Man\n  \nJeudi 14 novembre 2024 \nà 19h \n\nThe Quiet Man\n\nScène Ouverte\n  \n\nà partir de 21h30\nLes jeudis du Quiet Man\n  \n \n\n  \n\n\n𝐋’𝐚𝐛𝐮𝐬 𝐝’𝐚𝐥𝐜𝐨𝐨𝐥 𝐞𝐬𝐭 𝐝𝐚𝐧𝐠𝐞𝐫𝐞𝐮𝐱 𝐩𝐨𝐮𝐫 𝐥𝐚 𝐬𝐚𝐧𝐭e – 𝐜𝐨𝐧𝐬𝐨𝐦𝐦𝐞𝐳 𝐚𝐯𝐞𝐜 𝐦𝐨𝐝e𝐫𝐚𝐭𝐢𝐨𝐧 \nsource : The Quiet Man Salon de Provence\n\nRubrique : Soirées c'est ici
URL:https://nostragenda.fr/sortie/scene-ouverte-quiet-man-14-novembre/
LOCATION:The Quiet Man\, 6 Allées de Craponne\, SALON-DE-PROVENCE\, 13300\, France
CATEGORIES:Agenda,Concerts,Soirées
ATTACH;FMTTYPE=image/png:https://nostragenda.fr/wp-content/uploads/2024/11/14.11.24.png
END:VEVENT
BEGIN:VEVENT
DTSTART;TZID=Europe/Paris:20241110T200000
DTEND;TZID=Europe/Paris:20241110T233000
DTSTAMP:20260421T133314
CREATED:20241110T165750Z
LAST-MODIFIED:20241110T165824Z
UID:37434-1731268800-1731281400@nostragenda.fr
SUMMARY:Apéromix DJ Snow - Au Fut et à Mesure
DESCRIPTION:Apéromix DJ Snow – Au Fut et à Mesure\n  \nDimanche 10 novembre 2024 \nà partir de 20h \nDJ Snow\nc’est au Fût que ça se passe \n \nl’abus d’alcool est dangereux pour la santé. A consommer avec modération. \nSource : Au fut & à mesure Salon\n\nRubrique : Soirées c'est ici
URL:https://nostragenda.fr/sortie/aperomix-dj-snow-au-fut-et-a-mesure/
LOCATION:Au fut & à mesure\, 66 Boulevard Maréchal Foch\, Salon-de-Provence\, 13300\, France
CATEGORIES:Agenda,Soirées
END:VEVENT
BEGIN:VEVENT
DTSTART;TZID=Europe/Paris:20241110T193000
DTEND;TZID=Europe/Paris:20241110T233000
DTSTAMP:20260421T133314
CREATED:20241110T170509Z
LAST-MODIFIED:20241110T171705Z
UID:37437-1731267000-1731281400@nostragenda.fr
SUMMARY:Soirée 100% Lounge - Quiet Man
DESCRIPTION:Soirée 100% Lounge  – Quiet Man\n  \nDimanche 10 novembre 2024 \nà partir de 19h30\nThe Quiet Man\n\n\nSoirée 100% Lounge\navec DJ Ghiss\n\n\n\nThe Quiet Man\n𝐋’𝐚𝐛𝐮𝐬 𝐝’𝐚𝐥𝐜𝐨𝐨𝐥 𝐞𝐬𝐭 𝐝𝐚𝐧𝐠𝐞𝐫𝐞𝐮𝐱 𝐩𝐨𝐮𝐫 𝐥𝐚 𝐬𝐚𝐧𝐭e – 𝐜𝐨𝐧𝐬𝐨𝐦𝐦𝐞𝐳 𝐚𝐯𝐞𝐜 𝐦𝐨𝐝e𝐫𝐚𝐭𝐢𝐨𝐧 \nsource : The Quiet Man Salon de Provence\n\nRubrique : Soirées c'est ici
URL:https://nostragenda.fr/sortie/soiree-100-lounge-quiet-man/
LOCATION:The Quiet Man\, 6 Allées de Craponne\, SALON-DE-PROVENCE\, 13300\, France
CATEGORIES:Agenda,Soirées
ATTACH;FMTTYPE=image/jpeg:https://nostragenda.fr/wp-content/uploads/2024/11/soiree-100-lounge-DJ-Ghiss-Quiet-Man-Salon-agenda-Week-end-Nostragenda-ce-soir-a-Salon.jpg
END:VEVENT
BEGIN:VEVENT
DTSTART;TZID=Europe/Paris:20241109T213000
DTEND;TZID=Europe/Paris:20241109T233000
DTSTAMP:20260421T133314
CREATED:20241107T065817Z
LAST-MODIFIED:20241107T070032Z
UID:37354-1731187800-1731195000@nostragenda.fr
SUMMARY:Saturday Party - Quiet Man
DESCRIPTION:Saturday Party – Quiet Man\n  \nSamedi 09 novembre 2024 \n\nSoirée Saturday Party\navec DJ Ghiss\nà partir de 21h30\n\n\nThe Quiet Man \n𝐋’𝐚𝐛𝐮𝐬 𝐝’𝐚𝐥𝐜𝐨𝐨𝐥 𝐞𝐬𝐭 𝐝𝐚𝐧𝐠𝐞𝐫𝐞𝐮𝐱 𝐩𝐨𝐮𝐫 𝐥𝐚 𝐬𝐚𝐧𝐭e – 𝐜𝐨𝐧𝐬𝐨𝐦𝐦𝐞𝐳 𝐚𝐯𝐞𝐜 𝐦𝐨𝐝e𝐫𝐚𝐭𝐢𝐨𝐧 \nsource : The Quiet Man Salon de Provence\n\nIdées loisirs à pratiquer à Salon-de-Provence & pays salonais
URL:https://nostragenda.fr/sortie/saturday-party-quiet-man-09-novembre/
LOCATION:The Quiet Man\, 6 Allées de Craponne\, SALON-DE-PROVENCE\, 13300\, France
CATEGORIES:Agenda,Soirées
ATTACH;FMTTYPE=image/png:https://nostragenda.fr/wp-content/uploads/2024/11/09.11.png
END:VEVENT
BEGIN:VEVENT
DTSTART;TZID=Europe/Paris:20241109T200000
DTEND;TZID=Europe/Paris:20241109T233000
DTSTAMP:20260421T133314
CREATED:20241109T074918Z
LAST-MODIFIED:20241109T075340Z
UID:37391-1731182400-1731195000@nostragenda.fr
SUMMARY:Apéromix DJ Nillow - Au Fut et à Mesure
DESCRIPTION:Apéromix DJ Nillow – Au Fut et à Mesure\n  \nSamedi 09 novembre 2024 \nà partir de 20h \nDJ Nillow\nc’est au Fût que ça se passe \nl’abus d’alcool est dangereux pour la santé. A consommer avec modération. \nSource : Au fut & à mesure Salon\n\nRubrique : Soirées c'est ici
URL:https://nostragenda.fr/sortie/aperomix-dj-nillow-au-fut-et-a-mesure-09-novembre/
LOCATION:Au fut & à mesure\, 66 Boulevard Maréchal Foch\, Salon-de-Provence\, 13300\, France
CATEGORIES:Agenda,Soirées
END:VEVENT
BEGIN:VEVENT
DTSTART;TZID=Europe/Paris:20241108T213000
DTEND;TZID=Europe/Paris:20241108T233000
DTSTAMP:20260421T133314
CREATED:20241107T065158Z
LAST-MODIFIED:20241107T065321Z
UID:37351-1731101400-1731108600@nostragenda.fr
SUMMARY:Friday Night Party - Quiet Man
DESCRIPTION:Friday Night Party – Quiet Man\n  \nVendredi 08 novembre 2024 \n\nSoirée Friday Night Party\navec DJ Denis C\nà partir de 21h30\n\n\nThe Quiet Man \n𝐋’𝐚𝐛𝐮𝐬 𝐝’𝐚𝐥𝐜𝐨𝐨𝐥 𝐞𝐬𝐭 𝐝𝐚𝐧𝐠𝐞𝐫𝐞𝐮𝐱 𝐩𝐨𝐮𝐫 𝐥𝐚 𝐬𝐚𝐧𝐭e – 𝐜𝐨𝐧𝐬𝐨𝐦𝐦𝐞𝐳 𝐚𝐯𝐞𝐜 𝐦𝐨𝐝e𝐫𝐚𝐭𝐢𝐨𝐧 \nsource : The Quiet Man Salon de Provence\n\nIdées loisirs à pratiquer à Salon-de-Provence & pays salonais
URL:https://nostragenda.fr/sortie/friday-night-party-quiet-man/
LOCATION:The Quiet Man\, 6 Allées de Craponne\, SALON-DE-PROVENCE\, 13300\, France
CATEGORIES:Agenda,Soirées
ATTACH;FMTTYPE=image/png:https://nostragenda.fr/wp-content/uploads/2024/11/08.11.png
END:VEVENT
BEGIN:VEVENT
DTSTART;TZID=Europe/Paris:20241108T200000
DTEND;TZID=Europe/Paris:20241108T233000
DTSTAMP:20260421T133314
CREATED:20241108T141332Z
LAST-MODIFIED:20241108T141516Z
UID:37381-1731096000-1731108600@nostragenda.fr
SUMMARY:Apéromix John Protocole & Khalil - Au Fut et à Mesure
DESCRIPTION:Apéromix John Protocole & Khalil\n– Au Fut et à Mesure\n  \nVendredi 08 novembre 2024 \nà partir de 20h \nDJ John Protocole & Khalil Collectif Flair sound\nc’est au Fût que ça se passe \nl’abus d’alcool est dangereux pour la santé \, A consommer avec modération \nSource : Au fut & à mesure Salon\n\nAgenda * Aujourd'hui
URL:https://nostragenda.fr/sortie/aperomix-john-protocole-khalil-au-fut-et-a-mesure-08-novembre/
LOCATION:Au fut & à mesure\, 66 Boulevard Maréchal Foch\, Salon-de-Provence\, 13300\, France
CATEGORIES:Agenda,Soirées
ATTACH;FMTTYPE=image/jpeg:https://nostragenda.fr/wp-content/uploads/2024/11/aperomix-john-protocole-Khalil-Flairsound-Au-Fut-Salon-Nostragenda.jpg
END:VEVENT
BEGIN:VEVENT
DTSTART;TZID=Europe/Paris:20241108T190000
DTEND;TZID=Europe/Paris:20241108T235500
DTSTAMP:20260421T133314
CREATED:20241105T072258Z
LAST-MODIFIED:20241105T072741Z
UID:37335-1731092400-1731110100@nostragenda.fr
SUMMARY:Apéro Mix DJ Rico Ventura - My Beers Salon
DESCRIPTION:Apéro Mix DJ Rico Ventura\n– My Beers Salon\n  \nVendredi 08 novembre 2024 \nà partir de 19h \nApéro Mix – My Beers Salon de Provence\navec DJ Rico Ventura\n  \nc’est apéro mix dans ton My Beers Salon – Place Jules Morgan \nSource : My Beers Salon de Provence\n\n\nAgenda * Aujourd'hui
URL:https://nostragenda.fr/sortie/apero-mix-dj-rico-ventura-my-beers-salon-08-novembre/
LOCATION:My Beers\, Place Jules Morgan\, Salon-de-Provence\, 13300\, France
CATEGORIES:Agenda,Soirées
ATTACH;FMTTYPE=image/jpeg:https://nostragenda.fr/wp-content/uploads/2024/11/Apero-mIx-Dj-Rico-Ventura-My-Beers-Salon-Ce-soir-Place-Morgan-Nostragenda.jpg
END:VEVENT
BEGIN:VEVENT
DTSTART;TZID=Europe/Paris:20241107T213000
DTEND;TZID=Europe/Paris:20241107T233000
DTSTAMP:20260421T133314
CREATED:20241107T064653Z
LAST-MODIFIED:20241107T064730Z
UID:37348-1731015000-1731022200@nostragenda.fr
SUMMARY:Les Jeudis du Quiet Man
DESCRIPTION:Les Jeudis du Quiet Man\n  \nJeudi 07 novembre 2024 \nà partir de 21h30 \n\n\n\nThe Quiet Man \nLes Jeudis du Quiet Man\nS𝐨𝐢𝐫𝐞́𝐞 𝐋𝐚𝐭𝐢𝐧𝐨/𝐒𝐡𝐚𝐭𝐭𝐚/Afro\nDJ Omega M \n𝐋’𝐚𝐛𝐮𝐬 𝐝’𝐚𝐥𝐜𝐨𝐨𝐥 𝐞𝐬𝐭 𝐝𝐚𝐧𝐠𝐞𝐫𝐞𝐮𝐱 𝐩𝐨𝐮𝐫 𝐥𝐚 𝐬𝐚𝐧𝐭e – 𝐜𝐨𝐧𝐬𝐨𝐦𝐦𝐞𝐳 𝐚𝐯𝐞𝐜 𝐦𝐨𝐝e𝐫𝐚𝐭𝐢𝐨𝐧 \nsource : The Quiet Man Salon de Provence\n\nIdées loisirs à pratiquer à Salon-de-Provence & pays salonais
URL:https://nostragenda.fr/sortie/les-jeudis-du-quiet-man-7-novembre/
LOCATION:The Quiet Man\, 6 Allées de Craponne\, SALON-DE-PROVENCE\, 13300\, France
CATEGORIES:Agenda,Soirées
ATTACH;FMTTYPE=image/png:https://nostragenda.fr/wp-content/uploads/2024/11/07.11.png
END:VEVENT
BEGIN:VEVENT
DTSTART;TZID=Europe/Paris:20241102T213000
DTEND;TZID=Europe/Paris:20241102T233000
DTSTAMP:20260421T133314
CREATED:20241102T112124Z
LAST-MODIFIED:20241102T112254Z
UID:37311-1730583000-1730590200@nostragenda.fr
SUMMARY:Soirée Night Club Party - Quiet Man
DESCRIPTION:Soirée Night Club Party  – Quiet Man\n  \nSamedi 02 novembre 2024 \nà partir de 21h30\nThe Quiet Man\n\n\nNight Club Party\navec DJ Arucci\n\n\n\nThe Quiet Man\n𝐋’𝐚𝐛𝐮𝐬 𝐝’𝐚𝐥𝐜𝐨𝐨𝐥 𝐞𝐬𝐭 𝐝𝐚𝐧𝐠𝐞𝐫𝐞𝐮𝐱 𝐩𝐨𝐮𝐫 𝐥𝐚 𝐬𝐚𝐧𝐭e – 𝐜𝐨𝐧𝐬𝐨𝐦𝐦𝐞𝐳 𝐚𝐯𝐞𝐜 𝐦𝐨𝐝e𝐫𝐚𝐭𝐢𝐨𝐧 \nsource : The Quiet Man Salon de Provence\n\nRubrique : Soirées c'est ici
URL:https://nostragenda.fr/sortie/soiree-night-club-party-quiet-man-02-novembre/
LOCATION:The Quiet Man\, 6 Allées de Craponne\, SALON-DE-PROVENCE\, 13300\, France
CATEGORIES:Agenda,Soirées
ATTACH;FMTTYPE=image/jpeg:https://nostragenda.fr/wp-content/uploads/2024/11/soiree-DJ-Arucci-Quiet-Man-Salon-Nostragenda.jpg
END:VEVENT
BEGIN:VEVENT
DTSTART;TZID=Europe/Paris:20241101T213000
DTEND;TZID=Europe/Paris:20241101T233000
DTSTAMP:20260421T133314
CREATED:20241101T152526Z
LAST-MODIFIED:20241101T153248Z
UID:37299-1730496600-1730503800@nostragenda.fr
SUMMARY:Friday Night Party - Quiet Man
DESCRIPTION:Friday Night Party – Quiet Man\n  \nVendredi 01 novembre 2024 \n\nSoirée Friday Night Party\navec DJ Ghiss\nà partir de 21h30\n\n\nThe Quiet Man \n𝐋’𝐚𝐛𝐮𝐬 𝐝’𝐚𝐥𝐜𝐨𝐨𝐥 𝐞𝐬𝐭 𝐝𝐚𝐧𝐠𝐞𝐫𝐞𝐮𝐱 𝐩𝐨𝐮𝐫 𝐥𝐚 𝐬𝐚𝐧𝐭e – 𝐜𝐨𝐧𝐬𝐨𝐦𝐦𝐞𝐳 𝐚𝐯𝐞𝐜 𝐦𝐨𝐝e𝐫𝐚𝐭𝐢𝐨𝐧 \nsource : The Quiet Man Salon de Provence\n\nIdées loisirs à pratiquer à Salon-de-Provence & pays salonais
URL:https://nostragenda.fr/sortie/friday-night-party-quiet-man-01-novembre/
LOCATION:The Quiet Man\, 6 Allées de Craponne\, SALON-DE-PROVENCE\, 13300\, France
CATEGORIES:Agenda,Soirées
ATTACH;FMTTYPE=image/jpeg:https://nostragenda.fr/wp-content/uploads/2024/11/soiree-Quiet-Man-Salon-Nostragenda-Sortir-ce-soir-a-Salon-Craponne.jpg
END:VEVENT
BEGIN:VEVENT
DTSTART;TZID=Europe/Paris:20241101T200000
DTEND;TZID=Europe/Paris:20241101T233000
DTSTAMP:20260421T133314
CREATED:20241101T165046Z
LAST-MODIFIED:20241101T165214Z
UID:37302-1730491200-1730503800@nostragenda.fr
SUMMARY:Apéromix Alexis Millo - Au Fut
DESCRIPTION:Apéromix Alexis Millo – Au Fut\n  \nVendredi 01 novembre 2024 \nà partir de 20h \nDJ Alexis Millo\n\nc’est au Fût que ça se passe \nl’abus d’alcool est dangereux pour la santé \, A consommer avec modération \nSource : Au fut & à mesure Salon\n\nAgenda * Aujourd'hui
URL:https://nostragenda.fr/sortie/aperomix-alexis-millo-au-fut-01-novembre/
LOCATION:Au fut & à mesure\, 66 Boulevard Maréchal Foch\, Salon-de-Provence\, 13300\, France
CATEGORIES:Agenda,Soirées
ATTACH;FMTTYPE=image/jpeg:https://nostragenda.fr/wp-content/uploads/2024/11/Aperomix-Alexis-Millo-Au-fut-Salon-agenda-soirees-Morgan-Sortir-a-Salon-Nostragenda.jpg
END:VEVENT
BEGIN:VEVENT
DTSTART;TZID=Europe/Paris:20241031T200000
DTEND;TZID=Europe/Paris:20241031T233000
DTSTAMP:20260421T133314
CREATED:20241028T163829Z
LAST-MODIFIED:20241028T164214Z
UID:37235-1730404800-1730417400@nostragenda.fr
SUMMARY:Halloween - Au Fut et à Mesure
DESCRIPTION:Halloween – Au Fut et à Mesure\n  \nJeudi 31 Ooctobre 2024 \nà partir de 20h \nHalloween\nDJ déjanté John Santi\nDéco de Fût furieux\nTes barmans préférés déguisés \n\nLa caïpi en mode bloody la 2 ème à -50%\nLe mètre de shooter qui fait peur à 20 €\nPleins de bonbons\n\n\nShooter offert pour les plus beaux déguisements\n\n\nL’abus d’alcool est dangereux pour la santé\, à consommer avec modération \nSource : Au fut & à mesure Salon\n\nIdées loisirs à pratiquer à Salon-de-Provence & pays salonais
URL:https://nostragenda.fr/sortie/halloween-au-fut-et-a-mesure-2024/
LOCATION:Au fut & à mesure\, 66 Boulevard Maréchal Foch\, Salon-de-Provence\, 13300\, France
CATEGORIES:Agenda,Animations,Soirées
ATTACH;FMTTYPE=image/jpeg:https://nostragenda.fr/wp-content/uploads/2024/10/halloween-au-fut-Salon-agenda-soirees-Nostragenda-Morgan.jpg
END:VEVENT
BEGIN:VEVENT
DTSTART;TZID=Europe/Paris:20241031T190000
DTEND;TZID=Europe/Paris:20241031T235500
DTSTAMP:20260421T133314
CREATED:20241019T140057Z
LAST-MODIFIED:20241019T140338Z
UID:37066-1730401200-1730418900@nostragenda.fr
SUMMARY:Halloween - My Beers
DESCRIPTION:Halloween – My Beers\n  \nJeudi 31 Octobre 2024 \nà partir de 19h \nMy Beers Salon de Provence \nPlace Jules Morgan \nHalloween – My Beers\nAu programme : \nDJ Kev Lavigne\n– Ambiance et déco monstrueuse– Bar extérieur pour l’occasion– Déguisement fortement conseillé\nAvec une équipe totalement déguisée sur le thème des super vilains de films. \nFin du service à 0h45 \nSource My Beers Salon de Provence\n\nIdées loisirs à pratiquer à Salon-de-Provence & pays salonais
URL:https://nostragenda.fr/sortie/halloween-my-beers/
LOCATION:My Beers\, Place Jules Morgan\, Salon-de-Provence\, 13300\, France
CATEGORIES:Agenda,Animations,Soirées
ATTACH;FMTTYPE=image/jpeg:https://nostragenda.fr/wp-content/uploads/2024/10/super-vilains-Halloween-My-Beers-Salon-Nostragenda-Soirees-Morgan.jpg
END:VEVENT
BEGIN:VEVENT
DTSTART;TZID=Europe/Paris:20241031T190000
DTEND;TZID=Europe/Paris:20241031T233000
DTSTAMP:20260421T133314
CREATED:20241019T134704Z
LAST-MODIFIED:20241019T134846Z
UID:37063-1730401200-1730417400@nostragenda.fr
SUMMARY:Halloween Party Horror Circus - Quiet Man
DESCRIPTION:Halloween Party Horror Circus – Quiet Man\n  \nJeudi 31 Octobre 2024 \n\nà partir de 19h30\n\nConcert Live avec le groupe : Alcane en extérieurMusique Pop / Rock\n\n\nDJ Denis C – DJ Micou Sound System\n avec des sets envoûtants à l’intérieur.\n  \n\nPub entièrement décoré by Fiesta Dreams :\ndes animations sinistres tout au long de la soirée.\nPeut-être tomberez-vous sur un clown tueur… ou pire !\n  \nEtes vous prêts pour une soirée terrifiante ? \n\n\nThe Quiet Man\n\n𝐋’𝐚𝐛𝐮𝐬 𝐝’𝐚𝐥𝐜𝐨𝐨𝐥 𝐞𝐬𝐭 𝐝𝐚𝐧𝐠𝐞𝐫𝐞𝐮𝐱 𝐩𝐨𝐮𝐫 𝐥𝐚 𝐬𝐚𝐧𝐭𝐞́\, 𝐜𝐨𝐧𝐬𝐨𝐦𝐦𝐞𝐳 𝐚𝐯𝐞𝐜 𝐦𝐨𝐝𝐞́𝐫𝐚𝐭𝐢𝐨𝐧 \nsource : The Quiet Man Salon de Provence\n\nIdées loisirs à pratiquer à Salon-de-Provence & pays salonais
URL:https://nostragenda.fr/sortie/halloween-party-horror-circus-quiet-man/
LOCATION:The Quiet Man\, 6 Allées de Craponne\, SALON-DE-PROVENCE\, 13300\, France
CATEGORIES:Agenda,Animations,Concerts,Soirées
ATTACH;FMTTYPE=image/jpeg:https://nostragenda.fr/wp-content/uploads/2024/10/soiree-halloween-quiet-man-dj-Denis-C-agenda-soiree-Nostragenda-Salon-de-Provence.jpg
END:VEVENT
BEGIN:VEVENT
DTSTART;TZID=Europe/Paris:20241031T180000
DTEND;TZID=Europe/Paris:20241031T233000
DTSTAMP:20260421T133314
CREATED:20241029T055411Z
LAST-MODIFIED:20241029T055750Z
UID:37256-1730397600-1730417400@nostragenda.fr
SUMMARY:Soirée Halloween - La Bièrerie
DESCRIPTION:Soirée Halloween – La Bièrerie\n  \nJeudi 31 octobre 2024 \nà partir de 18h \nLa Bièrerie \nSoirée Halloween avec DJ Ghissou\n  \nShooters offert à ceux qui viendront déguisés et une surprise a gagner pour le + beau déguisement.\n\nRestauration\, cocktails et bières dans une ambiance de folie.\n\nLa Bièrerie dans le centre ville de Salon-de-Provence\n\nL’abus d’alcool est dangereux pour la santé\, à consommer avec modération. \nsource : La Bièrerie
URL:https://nostragenda.fr/sortie/soiree-halloween-la-biererie/
LOCATION:La Bièrerie\, 13 Place Charles Latil\, SALON-DE-PROVENCE\, SALON-DE-PROVENCE\, 13300\, France
CATEGORIES:Agenda,Soirées
ATTACH;FMTTYPE=image/webp:https://nostragenda.fr/wp-content/uploads/2023/08/NOSTRAGENDA_70x50-seo-2.webp
END:VEVENT
BEGIN:VEVENT
DTSTART;TZID=Europe/Paris:20241026T213000
DTEND;TZID=Europe/Paris:20241026T233000
DTSTAMP:20260421T133314
CREATED:20241008T060330Z
LAST-MODIFIED:20241008T060711Z
UID:36918-1729978200-1729985400@nostragenda.fr
SUMMARY:Soirée Night Club Party - Quiet Man
DESCRIPTION:Soirée Night Club Party  – Quiet Man\n  \nSamedi 26 octobre 2024 \nà partir de 21h30\nThe Quiet Man\n\n\nNight Club Party\navec DJ Arucci\n\n\n\nThe Quiet Man\n𝐋’𝐚𝐛𝐮𝐬 𝐝’𝐚𝐥𝐜𝐨𝐨𝐥 𝐞𝐬𝐭 𝐝𝐚𝐧𝐠𝐞𝐫𝐞𝐮𝐱 𝐩𝐨𝐮𝐫 𝐥𝐚 𝐬𝐚𝐧𝐭e – 𝐜𝐨𝐧𝐬𝐨𝐦𝐦𝐞𝐳 𝐚𝐯𝐞𝐜 𝐦𝐨𝐝e𝐫𝐚𝐭𝐢𝐨𝐧 \nsource : The Quiet Man Salon de Provence\n\nRubrique : Soirées c'est ici
URL:https://nostragenda.fr/sortie/soiree-night-club-party-quiet-man-26-octobre/
LOCATION:The Quiet Man\, 6 Allées de Craponne\, SALON-DE-PROVENCE\, 13300\, France
CATEGORIES:Agenda,Soirées
ATTACH;FMTTYPE=image/png:https://nostragenda.fr/wp-content/uploads/2024/10/26.10.png
END:VEVENT
BEGIN:VEVENT
DTSTART;TZID=Europe/Paris:20241026T200000
DTEND;TZID=Europe/Paris:20241026T233000
DTSTAMP:20260421T133314
CREATED:20241026T103245Z
LAST-MODIFIED:20241026T103926Z
UID:37214-1729972800-1729985400@nostragenda.fr
SUMMARY:Apéromix Simon B - Au Fut
DESCRIPTION:Apéromix Simon B – Au Fut\n  \nSamedi 26 octobre 2024 \nà partir de 20h \nDJ Simon B\n  \nc’est au Fût que ça se passe \nl’abus d’alcool est dangereux pour la santé \, A consommer avec modération \nSource : Au fut & à mesure Salon\n\nRubrique : Soirées c'est ici
URL:https://nostragenda.fr/sortie/aperomix-simon-b-au-fut-26-octobre/
LOCATION:Au fut & à mesure\, 66 Boulevard Maréchal Foch\, Salon-de-Provence\, 13300\, France
CATEGORIES:Agenda,Soirées
END:VEVENT
BEGIN:VEVENT
DTSTART;TZID=Europe/Paris:20241025T213000
DTEND;TZID=Europe/Paris:20241025T233000
DTSTAMP:20260421T133314
CREATED:20241009T041917Z
LAST-MODIFIED:20241009T042040Z
UID:36934-1729891800-1729899000@nostragenda.fr
SUMMARY:Friday Night Party - Quiet Man
DESCRIPTION:Friday Night Party – Quiet Man\n  \nVendredi 25 octobre 2024 \n\nSoirée Friday Night Party\navec DJ Ghiss\nà partir de 21h30\n\n\nThe Quiet Man \n𝐋’𝐚𝐛𝐮𝐬 𝐝’𝐚𝐥𝐜𝐨𝐨𝐥 𝐞𝐬𝐭 𝐝𝐚𝐧𝐠𝐞𝐫𝐞𝐮𝐱 𝐩𝐨𝐮𝐫 𝐥𝐚 𝐬𝐚𝐧𝐭e – 𝐜𝐨𝐧𝐬𝐨𝐦𝐦𝐞𝐳 𝐚𝐯𝐞𝐜 𝐦𝐨𝐝e𝐫𝐚𝐭𝐢𝐨𝐧 \nsource : The Quiet Man Salon de Provence\n\nIdées loisirs à pratiquer à Salon-de-Provence & pays salonais
URL:https://nostragenda.fr/sortie/friday-night-party-quiet-man-25-octobre/
LOCATION:The Quiet Man\, 6 Allées de Craponne\, SALON-DE-PROVENCE\, 13300\, France
CATEGORIES:Agenda,Soirées
ATTACH;FMTTYPE=image/png:https://nostragenda.fr/wp-content/uploads/2024/10/25.10.png
END:VEVENT
BEGIN:VEVENT
DTSTART;TZID=Europe/Paris:20241025T200000
DTEND;TZID=Europe/Paris:20241025T233000
DTSTAMP:20260421T133314
CREATED:20241025T091958Z
LAST-MODIFIED:20241025T092141Z
UID:37209-1729886400-1729899000@nostragenda.fr
SUMMARY:Apéromix DJ Arucci - Au Fut et à Mesure
DESCRIPTION:Apéromix DJ Arucci\n– Au Fut et à Mesure\n  \nVendredi 25 octobre 2024 \nà partir de 20h \nDJ Arucci\nc’est au Fût que ça se passe \nl’abus d’alcool est dangereux pour la santé \, A consommer avec modération \nSource : Au fut & à mesure Salon\n\nAgenda * Aujourd'hui
URL:https://nostragenda.fr/sortie/aperomix-dj-arucci-au-fut-et-a-mesure/
LOCATION:Au fut & à mesure\, 66 Boulevard Maréchal Foch\, Salon-de-Provence\, 13300\, France
CATEGORIES:Agenda,Soirées
ATTACH;FMTTYPE=image/jpeg:https://nostragenda.fr/wp-content/uploads/2024/10/aperomix-DJ-Arucci-Au-Fut-Salon-Week-end-a-Salon-Morgan-Nostragenda.jpg
END:VEVENT
BEGIN:VEVENT
DTSTART;TZID=Europe/Paris:20241025T190000
DTEND;TZID=Europe/Paris:20241025T235500
DTSTAMP:20260421T133314
CREATED:20241024T053639Z
LAST-MODIFIED:20241024T054531Z
UID:37194-1729882800-1729900500@nostragenda.fr
SUMMARY:Apéro Mix DJ Rico Ventura - My Beers Salon
DESCRIPTION:Apéro Mix DJ Rico Ventura\n– My Beers Salon\n  \nVendredi 25 octobre 2024 \nà partir de 19h \nApéro Mix – My Beers Salon de Provence\navec DJ Rico Ventura\n  \nc’est apéro mix dans ton My Beers Salon – Place Jules Morgan \nSource : My Beers Salon de Provence\n\n\nAgenda * Aujourd'hui
URL:https://nostragenda.fr/sortie/apero-mix-dj-rico-ventura-my-beers-salon/
LOCATION:My Beers\, Place Jules Morgan\, Salon-de-Provence\, 13300\, France
CATEGORIES:Agenda,Soirées
ATTACH;FMTTYPE=image/jpeg:https://nostragenda.fr/wp-content/uploads/2024/10/aperomix-Dj-Rico-Ventura-My-Beers-salon-agenda-soirees-Morgan-Nostragenda.jpg
END:VEVENT
BEGIN:VEVENT
DTSTART;TZID=Europe/Paris:20241024T213000
DTEND;TZID=Europe/Paris:20241024T233000
DTSTAMP:20260421T133314
CREATED:20241009T035222Z
LAST-MODIFIED:20241009T035453Z
UID:36930-1729805400-1729812600@nostragenda.fr
SUMMARY:Les Jeudis du Quiet Man
DESCRIPTION:Les Jeudis du Quiet Man\n  \nJeudi 24 octobre 2024 \nà partir de 21h30 \n\n\n\nThe Quiet Man \nLes Jeudis du Quiet Man\n𝐮𝐧𝐞 𝐬𝐨𝐢𝐫𝐞́𝐞 𝐋𝐚𝐭𝐢𝐧𝐨/𝐒𝐡𝐚𝐭𝐭𝐚/Afro\nMicou sound system \n𝐋’𝐚𝐛𝐮𝐬 𝐝’𝐚𝐥𝐜𝐨𝐨𝐥 𝐞𝐬𝐭 𝐝𝐚𝐧𝐠𝐞𝐫𝐞𝐮𝐱 𝐩𝐨𝐮𝐫 𝐥𝐚 𝐬𝐚𝐧𝐭e – 𝐜𝐨𝐧𝐬𝐨𝐦𝐦𝐞𝐳 𝐚𝐯𝐞𝐜 𝐦𝐨𝐝e𝐫𝐚𝐭𝐢𝐨𝐧 \nsource : The Quiet Man Salon de Provence\n\nIdées loisirs à pratiquer à Salon-de-Provence & pays salonais
URL:https://nostragenda.fr/sortie/les-jeudis-du-quiet-man-24-octobre/
LOCATION:The Quiet Man\, 6 Allées de Craponne\, SALON-DE-PROVENCE\, 13300\, France
CATEGORIES:Agenda,Soirées
ATTACH;FMTTYPE=image/png:https://nostragenda.fr/wp-content/uploads/2024/10/24.10.png
END:VEVENT
BEGIN:VEVENT
DTSTART;TZID=Europe/Paris:20241024T193000
DTEND;TZID=Europe/Paris:20241024T233000
DTSTAMP:20260421T133314
CREATED:20241020T102332Z
LAST-MODIFIED:20241020T102407Z
UID:37172-1729798200-1729812600@nostragenda.fr
SUMMARY:Jeudi au Bahia
DESCRIPTION:Jeudi au Bahia\n  \nJeudi 24 octobre 2024\nà 19h30\n\npour cette nouvelle soirée jeudi DJ\n\n\nJeudi au Bahia\nDJ Kev Lavigne\n\n\n\n\n\nBahia Salon\n\n\nRoute de la Garenne\, 13300 Salon de Provence\nRéservations :  06 40 93 26 38\nSource : Bahia_salon\n\nIdées loisirs à pratiquer à Salon-de-Provence & pays salonais\n\n 
URL:https://nostragenda.fr/sortie/jeudi-au-bahia/
LOCATION:Bahia\, Route de la Garenne\, SALON-DE-PROVENCE\, Select a State:\, 13300\, France
CATEGORIES:Agenda,Soirées
ATTACH;FMTTYPE=image/jpeg:https://nostragenda.fr/wp-content/uploads/2024/10/soiree-DJ-Bahia-Salon-Kev-Lavigne-Nostragenda.jpg
END:VEVENT
BEGIN:VEVENT
DTSTART;TZID=Europe/Paris:20241019T213000
DTEND;TZID=Europe/Paris:20241019T233000
DTSTAMP:20260421T133314
CREATED:20241005T062343Z
LAST-MODIFIED:20241007T062724Z
UID:36846-1729373400-1729380600@nostragenda.fr
SUMMARY:Soirée Night Club Party - Quiet Man
DESCRIPTION:Soirée Night Club Party  – Quiet Man\n  \nSamedi 19 octobre 2024 \n\nNight Club Party\navec DJ Arucci\nà partir de 21h30\n\n\n\nThe Quiet Man\n𝐋’𝐚𝐛𝐮𝐬 𝐝’𝐚𝐥𝐜𝐨𝐨𝐥 𝐞𝐬𝐭 𝐝𝐚𝐧𝐠𝐞𝐫𝐞𝐮𝐱 𝐩𝐨𝐮𝐫 𝐥𝐚 𝐬𝐚𝐧𝐭e – 𝐜𝐨𝐧𝐬𝐨𝐦𝐦𝐞𝐳 𝐚𝐯𝐞𝐜 𝐦𝐨𝐝e𝐫𝐚𝐭𝐢𝐨𝐧 \nsource : The Quiet Man Salon de Provence\n\nRubrique : Soirées c'est ici
URL:https://nostragenda.fr/sortie/soiree-night-club-party-quiet-man-19-octobre/
LOCATION:The Quiet Man\, 6 Allées de Craponne\, SALON-DE-PROVENCE\, 13300\, France
CATEGORIES:Agenda,Soirées
ATTACH;FMTTYPE=image/png:https://nostragenda.fr/wp-content/uploads/2024/10/19.10.png
END:VEVENT
BEGIN:VEVENT
DTSTART;TZID=Europe/Paris:20241018T213000
DTEND;TZID=Europe/Paris:20241018T233000
DTSTAMP:20260421T133314
CREATED:20241005T061734Z
LAST-MODIFIED:20241005T061846Z
UID:36843-1729287000-1729294200@nostragenda.fr
SUMMARY:Soirée DJ Nagini - Quiet Man
DESCRIPTION:Soirée DJ Nagini – Quiet Man\n  \nVendredi 18 octobre 2024 \n  \nSoirée Night Music DJ Nagini \n\nà partir de 21h30\n\n\nThe Quiet Man \n𝐋’𝐚𝐛𝐮𝐬 𝐝’𝐚𝐥𝐜𝐨𝐨𝐥 𝐞𝐬𝐭 𝐝𝐚𝐧𝐠𝐞𝐫𝐞𝐮𝐱 𝐩𝐨𝐮𝐫 𝐥𝐚 𝐬𝐚𝐧𝐭e – 𝐜𝐨𝐧𝐬𝐨𝐦𝐦𝐞𝐳 𝐚𝐯𝐞𝐜 𝐦𝐨𝐝e𝐫𝐚𝐭𝐢𝐨𝐧 \nsource : The Quiet Man Salon de Provence\n\nRubrique : Soirées c'est ici
URL:https://nostragenda.fr/sortie/soiree-dj-nagini-quiet-man-18-octobre/
LOCATION:The Quiet Man\, 6 Allées de Craponne\, SALON-DE-PROVENCE\, 13300\, France
CATEGORIES:Agenda,Soirées
ATTACH;FMTTYPE=image/png:https://nostragenda.fr/wp-content/uploads/2024/10/18.10.png
END:VEVENT
END:VCALENDAR